BEGIN:VCALENDAR
VERSION:2.0
PRODID:-//Trails Regional Library - ECPv6.15.20//NONSGML v1.0//EN
CALSCALE:GREGORIAN
METHOD:PUBLISH
X-WR-CALNAME:Trails Regional Library
X-ORIGINAL-URL:https://www.trailslibrary.org
X-WR-CALDESC:Events for Trails Regional Library
REFRESH-INTERVAL;VALUE=DURATION:PT1H
X-Robots-Tag:noindex
X-PUBLISHED-TTL:PT1H
BEGIN:VTIMEZONE
TZID:America/New_York
BEGIN:DAYLIGHT
TZOFFSETFROM:-0500
TZOFFSETTO:-0400
TZNAME:EDT
DTSTART:20240310T070000
END:DAYLIGHT
BEGIN:STANDARD
TZOFFSETFROM:-0400
TZOFFSETTO:-0500
TZNAME:EST
DTSTART:20241103T060000
END:STANDARD
BEGIN:DAYLIGHT
TZOFFSETFROM:-0500
TZOFFSETTO:-0400
TZNAME:EDT
DTSTART:20250309T070000
END:DAYLIGHT
BEGIN:STANDARD
TZOFFSETFROM:-0400
TZOFFSETTO:-0500
TZNAME:EST
DTSTART:20251102T060000
END:STANDARD
BEGIN:DAYLIGHT
TZOFFSETFROM:-0500
TZOFFSETTO:-0400
TZNAME:EDT
DTSTART:20260308T070000
END:DAYLIGHT
BEGIN:STANDARD
TZOFFSETFROM:-0400
TZOFFSETTO:-0500
TZNAME:EST
DTSTART:20261101T060000
END:STANDARD
END:VTIMEZONE
BEGIN:VEVENT
DTSTART;TZID=America/New_York:20251027T093000
DTEND;TZID=America/New_York:20251027T093000
DTSTAMP:20260425T221628
CREATED:20250911T193934Z
LAST-MODIFIED:20250911T193934Z
UID:10009632-1761557400-1761557400@www.trailslibrary.org
SUMMARY:Monday Melodies - Corder Branch
DESCRIPTION:Ages 0-5: Join us for fun-filled music and movement sessions tailored for toddlers!
URL:https://www.trailslibrary.org/event/monday-melodies-corder-branch-28/
LOCATION:Corder Branch\, 221 N. Lafayette\, Corder\, MO\, 64021\, United States
CATEGORIES:Children,Kids,Pre-School,Preschool,Toddlers
END:VEVENT
BEGIN:VEVENT
DTSTART;TZID=America/New_York:20251027T100000
DTEND;TZID=America/New_York:20251027T100000
DTSTAMP:20260425T221628
CREATED:20250911T142200Z
LAST-MODIFIED:20250911T142200Z
UID:10009601-1761559200-1761559200@www.trailslibrary.org
SUMMARY:Storytime Adventures - Waverly Branch
DESCRIPTION:Ages 0-5: Storytimes are for building reading skills\, making friends\, and more!
URL:https://www.trailslibrary.org/event/storytime-adventures-waverly-branch-20/
LOCATION:Waverly Branch\, 203 E. Kelling\, Waverly\, MO\, 64096\, United States
CATEGORIES:Children,Kids,Pre-School,Preschool,Storytime,Toddlers
END:VEVENT
BEGIN:VEVENT
DTSTART;TZID=America/New_York:20251027T130000
DTEND;TZID=America/New_York:20251027T130000
DTSTAMP:20260425T221628
CREATED:20250911T194004Z
LAST-MODIFIED:20250911T194004Z
UID:10009643-1761570000-1761570000@www.trailslibrary.org
SUMMARY:Move to the Beat - Corder Branch
DESCRIPTION:Ages 19+: Join us for cardio drumming with yoga balls!
URL:https://www.trailslibrary.org/event/move-to-the-beat-corder-branch-11/
LOCATION:Corder Branch\, 221 N. Lafayette\, Corder\, MO\, 64021\, United States
CATEGORIES:Adult,Adults,senior,Seniors
END:VEVENT
BEGIN:VEVENT
DTSTART;TZID=America/New_York:20251027T140000
DTEND;TZID=America/New_York:20251027T140000
DTSTAMP:20260425T221628
CREATED:20250911T142158Z
LAST-MODIFIED:20250911T142158Z
UID:10009598-1761573600-1761573600@www.trailslibrary.org
SUMMARY:Spooktacular Creations - Waverly Branch
DESCRIPTION:Ages 6-12: Take a break from school and dive into creativity! Join us in making a spooky craft.
URL:https://www.trailslibrary.org/event/spooktacular-creations-waverly-branch/
LOCATION:Waverly Branch\, 203 E. Kelling\, Waverly\, MO\, 64096\, United States
CATEGORIES:Children,Crafts,Kids
END:VEVENT
BEGIN:VEVENT
DTSTART;TZID=America/New_York:20251027T140000
DTEND;TZID=America/New_York:20251027T140000
DTSTAMP:20260425T221628
CREATED:20250911T194034Z
LAST-MODIFIED:20250911T194034Z
UID:10009653-1761573600-1761573600@www.trailslibrary.org
SUMMARY:S.T.E.A.M. Team - Corder Branch
DESCRIPTION:Ages 6-12: Activities based on science\, technology\, engineering\, art and math!
URL:https://www.trailslibrary.org/event/s-t-e-a-m-team-corder-branch-7/
LOCATION:Corder Branch\, 221 N. Lafayette\, Corder\, MO\, 64021\, United States
CATEGORIES:Children,Kids,STEAM
END:VEVENT
BEGIN:VEVENT
DTSTART;TZID=America/New_York:20251027T163000
DTEND;TZID=America/New_York:20251027T163000
DTSTAMP:20260425T221628
CREATED:20250911T140305Z
LAST-MODIFIED:20250911T140305Z
UID:10009385-1761582600-1761582600@www.trailslibrary.org
SUMMARY:Book Club - Concordia Branch
DESCRIPTION:Ages 19+: Make new friends and discover new books! This month we will discuss Taste: My Life Through Food by Stanley Tucci.
URL:https://www.trailslibrary.org/event/book-club-concordia-branch-10/
LOCATION:Concordia Branch\, 813 S Main\, Concordia\, MO\, 64020\, United States
CATEGORIES:Adult,Adults,Book Club,senior,Seniors
END:VEVENT
BEGIN:VEVENT
DTSTART;TZID=America/New_York:20251027T180000
DTEND;TZID=America/New_York:20251027T180000
DTSTAMP:20260425T221628
CREATED:20250911T141029Z
LAST-MODIFIED:20251021T215714Z
UID:10009481-1761588000-1761588000@www.trailslibrary.org
SUMMARY:CANCELLED: Anime-zing! - Odessa Branch
DESCRIPTION:Event cancelled due to unforeseen circumstances. Ages 19+: If you love anime\, or want to see what the hype is\, come discuss and watch some classic and popular series!
URL:https://www.trailslibrary.org/event/anime-zing-odessa-branch-2/
LOCATION:Odessa Branch\, 107 W. Mason\, Odessa\, MO\, 64076\, United States
CATEGORIES:Adult,Adults,senior,Seniors
END:VEVENT
END:VCALENDAR