BEGIN:VCALENDAR
VERSION:2.0
PRODID:-//Trails Regional Library - ECPv6.15.20//NONSGML v1.0//EN
CALSCALE:GREGORIAN
METHOD:PUBLISH
X-WR-CALNAME:Trails Regional Library
X-ORIGINAL-URL:https://www.trailslibrary.org
X-WR-CALDESC:Events for Trails Regional Library
REFRESH-INTERVAL;VALUE=DURATION:PT1H
X-Robots-Tag:noindex
X-PUBLISHED-TTL:PT1H
BEGIN:VTIMEZONE
TZID:America/New_York
BEGIN:DAYLIGHT
TZOFFSETFROM:-0500
TZOFFSETTO:-0400
TZNAME:EDT
DTSTART:20240310T070000
END:DAYLIGHT
BEGIN:STANDARD
TZOFFSETFROM:-0400
TZOFFSETTO:-0500
TZNAME:EST
DTSTART:20241103T060000
END:STANDARD
BEGIN:DAYLIGHT
TZOFFSETFROM:-0500
TZOFFSETTO:-0400
TZNAME:EDT
DTSTART:20250309T070000
END:DAYLIGHT
BEGIN:STANDARD
TZOFFSETFROM:-0400
TZOFFSETTO:-0500
TZNAME:EST
DTSTART:20251102T060000
END:STANDARD
BEGIN:DAYLIGHT
TZOFFSETFROM:-0500
TZOFFSETTO:-0400
TZNAME:EDT
DTSTART:20260308T070000
END:DAYLIGHT
BEGIN:STANDARD
TZOFFSETFROM:-0400
TZOFFSETTO:-0500
TZNAME:EST
DTSTART:20261101T060000
END:STANDARD
END:VTIMEZONE
BEGIN:VEVENT
DTSTART;TZID=America/New_York:20251114T093000
DTEND;TZID=America/New_York:20251114T093000
DTSTAMP:20260425T221628
CREATED:20250911T194114Z
LAST-MODIFIED:20250911T194114Z
UID:10009662-1763112600-1763112600@www.trailslibrary.org
SUMMARY:Yoga Fridays - Corder Branch
DESCRIPTION:Ages 19+: Join our gentle chair yoga class designed for all levels\, from beginners to those returning to practice.
URL:https://www.trailslibrary.org/event/yoga-fridays-corder-branch-45/
LOCATION:Corder Branch\, 221 N. Lafayette\, Corder\, MO\, 64021\, United States
CATEGORIES:Adult,Adults,senior,Seniors
END:VEVENT
BEGIN:VEVENT
DTSTART;TZID=America/New_York:20251114T140000
DTEND;TZID=America/New_York:20251114T140000
DTSTAMP:20260425T221628
CREATED:20250911T141046Z
LAST-MODIFIED:20250911T141046Z
UID:10009491-1763128800-1763128800@www.trailslibrary.org
SUMMARY:Gamer's Afternoon - Odessa Branch
DESCRIPTION:Ages 13-18: Enjoy the time off of school by spending the afternoon playing video games or board games with friends.
URL:https://www.trailslibrary.org/event/gamers-afternoon-odessa-branch-2/
LOCATION:Odessa Branch\, 107 W. Mason\, Odessa\, MO\, 64076\, United States
CATEGORIES:Pre-Teen,Pre-Teens,Teen,Teens
END:VEVENT
BEGIN:VEVENT
DTSTART;TZID=America/New_York:20251114T150000
DTEND;TZID=America/New_York:20251114T150000
DTSTAMP:20260425T221628
CREATED:20250911T193903Z
LAST-MODIFIED:20250911T193903Z
UID:10009622-1763132400-1763132400@www.trailslibrary.org
SUMMARY:Book Chat and Crafts - Corder Branch
DESCRIPTION:Ages 6-12: Join us for a kids’ book club\, where we’ll chat about books we are reading while working on fun crafts!
URL:https://www.trailslibrary.org/event/book-chat-and-crafts-corder-branch-9/
LOCATION:Corder Branch\, 221 N. Lafayette\, Corder\, MO\, 64021\, United States
CATEGORIES:Book Club,Children,Kids
END:VEVENT
BEGIN:VEVENT
DTSTART;TZID=America/New_York:20251114T180000
DTEND;TZID=America/New_York:20251114T180000
DTSTAMP:20260425T221628
CREATED:20250911T141047Z
LAST-MODIFIED:20250911T141047Z
UID:10009495-1763143200-1763143200@www.trailslibrary.org
SUMMARY:Labyrinths and Lizards - Odessa Branch
DESCRIPTION:Ages 19+: Join us for an evening of Table-Top Role Playing Games!
URL:https://www.trailslibrary.org/event/labyrinths-and-lizards-odessa-branch-6/
LOCATION:Odessa Branch\, 107 W. Mason\, Odessa\, MO\, 64076\, United States
CATEGORIES:Adult,Adults,senior,Seniors
END:VEVENT
END:VCALENDAR