BEGIN:VCALENDAR
VERSION:2.0
PRODID:-//Trails Regional Library - ECPv6.15.20//NONSGML v1.0//EN
CALSCALE:GREGORIAN
METHOD:PUBLISH
X-WR-CALNAME:Trails Regional Library
X-ORIGINAL-URL:https://www.trailslibrary.org
X-WR-CALDESC:Events for Trails Regional Library
REFRESH-INTERVAL;VALUE=DURATION:PT1H
X-Robots-Tag:noindex
X-PUBLISHED-TTL:PT1H
BEGIN:VTIMEZONE
TZID:America/New_York
BEGIN:DAYLIGHT
TZOFFSETFROM:-0500
TZOFFSETTO:-0400
TZNAME:EDT
DTSTART:20240310T070000
END:DAYLIGHT
BEGIN:STANDARD
TZOFFSETFROM:-0400
TZOFFSETTO:-0500
TZNAME:EST
DTSTART:20241103T060000
END:STANDARD
BEGIN:DAYLIGHT
TZOFFSETFROM:-0500
TZOFFSETTO:-0400
TZNAME:EDT
DTSTART:20250309T070000
END:DAYLIGHT
BEGIN:STANDARD
TZOFFSETFROM:-0400
TZOFFSETTO:-0500
TZNAME:EST
DTSTART:20251102T060000
END:STANDARD
BEGIN:DAYLIGHT
TZOFFSETFROM:-0500
TZOFFSETTO:-0400
TZNAME:EDT
DTSTART:20260308T070000
END:DAYLIGHT
BEGIN:STANDARD
TZOFFSETFROM:-0400
TZOFFSETTO:-0500
TZNAME:EST
DTSTART:20261101T060000
END:STANDARD
END:VTIMEZONE
BEGIN:VEVENT
DTSTART;TZID=America/New_York:20251218T100000
DTEND;TZID=America/New_York:20251218T100000
DTSTAMP:20260425T202607
CREATED:20250911T141721Z
LAST-MODIFIED:20250911T141721Z
UID:10009557-1766052000-1766052000@www.trailslibrary.org
SUMMARY:Music & More - Warrensburg Branch
DESCRIPTION:Ages 0-5: Get ready to sing\, dance\, and shake those wiggles out! Join us for Music and More\, where children will explore a variety of musical instruments to boost sensory development\, coordination\, and early literacy and numeracy skills.
URL:https://www.trailslibrary.org/event/music-more-warrensburg-branch-24/
LOCATION:Warrensburg Branch\, 432 N. Holden\, Warrensburg\, Missouri\, 64093\, United States
CATEGORIES:Children,Kids,Pre-School,Preschool,Toddlers
END:VEVENT
BEGIN:VEVENT
DTSTART;TZID=America/New_York:20251218T153000
DTEND;TZID=America/New_York:20251218T153000
DTSTAMP:20260425T202607
CREATED:20250911T140924Z
LAST-MODIFIED:20250911T140924Z
UID:10009479-1766071800-1766071800@www.trailslibrary.org
SUMMARY:Tween Time - Lexington Branch
DESCRIPTION:Ages 13-18: Come hang out with friends for an afternoon of fun! Whether you like crafting\, playing games\, or science experiments\, there’s something for everyone!
URL:https://www.trailslibrary.org/event/tween-time-lexington-branch-10/
LOCATION:Lexington Branch\, 1008 Main Street\, Lexington\, MO\, 64067\, United States
CATEGORIES:Crafts,Pre-Teen,Pre-Teens,STEAM,Teen,Teens
END:VEVENT
BEGIN:VEVENT
DTSTART;TZID=America/New_York:20251218T153000
DTEND;TZID=America/New_York:20251218T153000
DTSTAMP:20260425T202607
CREATED:20250911T141217Z
LAST-MODIFIED:20250911T141217Z
UID:10009522-1766071800-1766071800@www.trailslibrary.org
SUMMARY:Teen Advisory Group - Odessa Branch
DESCRIPTION:Ages 13-18: Come share ideas for teen events and activities you’d like to see at the library!
URL:https://www.trailslibrary.org/event/teen-advisory-group-odessa-branch-4/
LOCATION:Odessa Branch\, 107 W. Mason\, Odessa\, MO\, 64076\, United States
CATEGORIES:Pre-Teen,Pre-Teens,Teen,Teens
END:VEVENT
BEGIN:VEVENT
DTSTART;TZID=America/New_York:20251218T160000
DTEND;TZID=America/New_York:20251218T160000
DTSTAMP:20260425T202607
CREATED:20250911T140307Z
LAST-MODIFIED:20250911T140307Z
UID:10009390-1766073600-1766073600@www.trailslibrary.org
SUMMARY:Book Recs: A Book Club for Kids - Concordia Branch
DESCRIPTION:Ages 12-15: Come talk about your favorite books and maybe find a new favorite!
URL:https://www.trailslibrary.org/event/book-recs-a-book-club-for-kids-concordia-branch-3/
LOCATION:Concordia Branch\, 813 S Main\, Concordia\, MO\, 64020\, United States
CATEGORIES:Book Club,Children,Kids,Teens
END:VEVENT
BEGIN:VEVENT
DTSTART;TZID=America/New_York:20251218T160000
DTEND;TZID=America/New_York:20251218T160000
DTSTAMP:20260425T202607
CREATED:20250911T141606Z
LAST-MODIFIED:20250911T141606Z
UID:10009529-1766073600-1766073600@www.trailslibrary.org
SUMMARY:12 Days of Kindness - Warrensburg Branch
DESCRIPTION:Ages 6-12: Part of a 12-week series\, this creative craft program lets kids design and make heartfelt gifts for family and friends. Each session is hands-on fun\, and participants can take home a wrapped gift. Join for one session or as many as you’d like!
URL:https://www.trailslibrary.org/event/12-days-of-kindness-warrensburg-branch-8/
LOCATION:Warrensburg Branch\, 432 N. Holden\, Warrensburg\, Missouri\, 64093\, United States
CATEGORIES:Children,Crafts,Kids
END:VEVENT
BEGIN:VEVENT
DTSTART;TZID=America/New_York:20251218T170000
DTEND;TZID=America/New_York:20251218T170000
DTSTAMP:20260425T202607
CREATED:20250911T140554Z
LAST-MODIFIED:20250911T140554Z
UID:10009419-1766077200-1766077200@www.trailslibrary.org
SUMMARY:Book Club - Knob Noster Branch
DESCRIPTION:Ages 19+: Join us at book club to share your thoughts\, meet fellow book lovers\, and help us choose next month’s read!
URL:https://www.trailslibrary.org/event/book-club-knob-noster-branch-12/
LOCATION:Knob Noster Branch\, 202 N. Adams\, Knob Noster\, MO\, 65336\, United States
CATEGORIES:Adult,Adults,Book Club,senior,Seniors
END:VEVENT
BEGIN:VEVENT
DTSTART;TZID=America/New_York:20251218T170000
DTEND;TZID=America/New_York:20251218T170000
DTSTAMP:20260425T202607
CREATED:20250911T141030Z
LAST-MODIFIED:20250911T141030Z
UID:10009485-1766077200-1766077200@www.trailslibrary.org
SUMMARY:Book Lovers' Book Club - Odessa Branch
DESCRIPTION:Ages 19+: Adult book club that meets once a month to discuss their book of choice.
URL:https://www.trailslibrary.org/event/book-lovers-book-club-odessa-branch-13/
LOCATION:Odessa Branch\, 107 W. Mason\, Odessa\, MO\, 64076\, United States
CATEGORIES:Adult,Adults,Book Club,senior,Seniors
END:VEVENT
END:VCALENDAR