BEGIN:VCALENDAR
VERSION:2.0
PRODID:-//Trails Regional Library - ECPv6.15.20//NONSGML v1.0//EN
CALSCALE:GREGORIAN
METHOD:PUBLISH
X-WR-CALNAME:Trails Regional Library
X-ORIGINAL-URL:https://www.trailslibrary.org
X-WR-CALDESC:Events for Trails Regional Library
REFRESH-INTERVAL;VALUE=DURATION:PT1H
X-Robots-Tag:noindex
X-PUBLISHED-TTL:PT1H
BEGIN:VTIMEZONE
TZID:America/New_York
BEGIN:DAYLIGHT
TZOFFSETFROM:-0500
TZOFFSETTO:-0400
TZNAME:EDT
DTSTART:20250309T070000
END:DAYLIGHT
BEGIN:STANDARD
TZOFFSETFROM:-0400
TZOFFSETTO:-0500
TZNAME:EST
DTSTART:20251102T060000
END:STANDARD
BEGIN:DAYLIGHT
TZOFFSETFROM:-0500
TZOFFSETTO:-0400
TZNAME:EDT
DTSTART:20260308T070000
END:DAYLIGHT
BEGIN:STANDARD
TZOFFSETFROM:-0400
TZOFFSETTO:-0500
TZNAME:EST
DTSTART:20261101T060000
END:STANDARD
BEGIN:DAYLIGHT
TZOFFSETFROM:-0500
TZOFFSETTO:-0400
TZNAME:EDT
DTSTART:20270314T070000
END:DAYLIGHT
BEGIN:STANDARD
TZOFFSETFROM:-0400
TZOFFSETTO:-0500
TZNAME:EST
DTSTART:20271107T060000
END:STANDARD
END:VTIMEZONE
BEGIN:VEVENT
DTSTART;TZID=America/New_York:20260309T101500
DTEND;TZID=America/New_York:20260309T101500
DTSTAMP:20260425T180527
CREATED:20251215T200811Z
LAST-MODIFIED:20251215T200811Z
UID:10009751-1773051300-1773051300@www.trailslibrary.org
SUMMARY:Book Club - Corder Branch
DESCRIPTION:Ages 19+: Join us at the library for a lively discussion about this month’s book.
URL:https://www.trailslibrary.org/event/book-club-corder-branch-20/
LOCATION:Corder Branch\, 221 N. Lafayette\, Corder\, MO\, 64021\, United States
CATEGORIES:Adult,Adults,Book Club,senior,Seniors
END:VEVENT
BEGIN:VEVENT
DTSTART;TZID=America/New_York:20260309T173000
DTEND;TZID=America/New_York:20260309T173000
DTSTAMP:20260425T180527
CREATED:20251215T205243Z
LAST-MODIFIED:20251215T205243Z
UID:10010055-1773077400-1773077400@www.trailslibrary.org
SUMMARY:NovelTea - Warrensburg Branch
DESCRIPTION:Ages 19+: Join us for a cup of tea\, an award winning book\, and great conversations.
URL:https://www.trailslibrary.org/event/noveltea-warrensburg-branch-14/
LOCATION:Warrensburg Branch\, 432 N. Holden\, Warrensburg\, Missouri\, 64093\, United States
CATEGORIES:Adult,Adults,Book Club,senior,Seniors
END:VEVENT
BEGIN:VEVENT
DTSTART;TZID=America/New_York:20260310T170000
DTEND;TZID=America/New_York:20260310T170000
DTSTAMP:20260425T180527
CREATED:20251215T203623Z
LAST-MODIFIED:20251215T203623Z
UID:10009961-1773162000-1773162000@www.trailslibrary.org
SUMMARY:Love is an Open Book Club - Odessa Branch
DESCRIPTION:Ages 19+: Join us for a genre specific book club and dive into the world of romance.
URL:https://www.trailslibrary.org/event/love-is-an-open-book-club-odessa-branch-15/
LOCATION:Odessa Branch\, 107 W. Mason\, Odessa\, MO\, 64076\, United States
CATEGORIES:Adult,Adults,Book Club,senior,Seniors
END:VEVENT
BEGIN:VEVENT
DTSTART;TZID=America/New_York:20260312T130000
DTEND;TZID=America/New_York:20260312T130000
DTSTAMP:20260425T180527
CREATED:20251222T152307Z
LAST-MODIFIED:20251222T152307Z
UID:10010161-1773320400-1773320400@www.trailslibrary.org
SUMMARY:Any Book\, Book Club - Lexington Branch
DESCRIPTION:Ages 19+: That’s right\, any book! Share a favorite read with others. You might discover your next favorite!
URL:https://www.trailslibrary.org/event/any-book-book-club-lexington-branch-16/
LOCATION:Lexington Branch\, 1008 Main Street\, Lexington\, MO\, 64067\, United States
CATEGORIES:Adult,Adults,Book Club,senior,Seniors
END:VEVENT
BEGIN:VEVENT
DTSTART;TZID=America/New_York:20260319T170000
DTEND;TZID=America/New_York:20260319T170000
DTSTAMP:20260425T180527
CREATED:20251215T202948Z
LAST-MODIFIED:20251215T202948Z
UID:10009933-1773939600-1773939600@www.trailslibrary.org
SUMMARY:Book Lovers' Book Club - Odessa Branch
DESCRIPTION:Ages 19+: Adult book club that meets once a month to discuss their book of choice. This month’s book of choice open for discussion is News of the World by Paulette Jiles.
URL:https://www.trailslibrary.org/event/book-lovers-book-club-odessa-branch-16/
LOCATION:Odessa Branch\, 107 W. Mason\, Odessa\, MO\, 64076\, United States
CATEGORIES:Adult,Adults,Book Club,senior,Seniors
END:VEVENT
BEGIN:VEVENT
DTSTART;TZID=America/New_York:20260323T163000
DTEND;TZID=America/New_York:20260323T163000
DTSTAMP:20260425T180527
CREATED:20251215T195322Z
LAST-MODIFIED:20251215T195322Z
UID:10009699-1774283400-1774283400@www.trailslibrary.org
SUMMARY:Book Club - Concordia Branch
DESCRIPTION:Ages 19+: Make new friends and discover new books! This month we will discuss Midnight Library by Matt Haig.
URL:https://www.trailslibrary.org/event/book-club-concordia-branch-15/
LOCATION:Concordia Branch\, 813 S Main\, Concordia\, MO\, 64020\, United States
CATEGORIES:Adult,Adults,Book Club,senior,Seniors
END:VEVENT
BEGIN:VEVENT
DTSTART;TZID=America/New_York:20260325T130000
DTEND;TZID=America/New_York:20260325T130000
DTSTAMP:20260425T180527
CREATED:20251215T201455Z
LAST-MODIFIED:20251215T201455Z
UID:10009833-1774443600-1774443600@www.trailslibrary.org
SUMMARY:The Plot Thickens Book Club - Holden Branch
DESCRIPTION:Ages 19+: Join us on the last Wednesday of every month for an engaging book club\, where we will discover new books and connect through meaningful discussions.
URL:https://www.trailslibrary.org/event/the-plot-thickens-book-club-holden-branch-3/
LOCATION:Holden Branch\, 207 S. Main\, Holden\, MO\, 64040\, United States
CATEGORIES:Adult,Adults,Book Club,senior,Seniors
END:VEVENT
BEGIN:VEVENT
DTSTART;TZID=America/New_York:20260326T160000
DTEND;TZID=America/New_York:20260326T160000
DTSTAMP:20260425T180527
CREATED:20251215T195305Z
LAST-MODIFIED:20251215T195305Z
UID:10009691-1774540800-1774540800@www.trailslibrary.org
SUMMARY:Afterschool Book Talk - Concordia Branch
DESCRIPTION:Ages 12-15: Come in after school to talk about books and have a snack.
URL:https://www.trailslibrary.org/event/afterschool-book-talk-concordia-branch-3/
LOCATION:Concordia Branch\, 813 S Main\, Concordia\, MO\, 64020\, United States
CATEGORIES:Book Club,Teen,Teens
END:VEVENT
BEGIN:VEVENT
DTSTART;TZID=America/New_York:20260326T170000
DTEND;TZID=America/New_York:20260326T170000
DTSTAMP:20260425T180527
CREATED:20251215T201941Z
LAST-MODIFIED:20251215T201941Z
UID:10009849-1774544400-1774544400@www.trailslibrary.org
SUMMARY:Book Club - Knob Noster Branch
DESCRIPTION:Ages 19+: Join us at book club to share your thoughts\, meet fellow book lovers\, and help us choose next month’s read!
URL:https://www.trailslibrary.org/event/book-club-knob-noster-branch-15/
LOCATION:Knob Noster Branch\, 202 N. Adams\, Knob Noster\, MO\, 65336\, United States
CATEGORIES:Adult,Adults,Book Club,senior,Seniors
END:VEVENT
END:VCALENDAR