BEGIN:VCALENDAR
VERSION:2.0
PRODID:-//Trails Regional Library - ECPv6.15.20//NONSGML v1.0//EN
CALSCALE:GREGORIAN
METHOD:PUBLISH
X-WR-CALNAME:Trails Regional Library
X-ORIGINAL-URL:https://www.trailslibrary.org
X-WR-CALDESC:Events for Trails Regional Library
REFRESH-INTERVAL;VALUE=DURATION:PT1H
X-Robots-Tag:noindex
X-PUBLISHED-TTL:PT1H
BEGIN:VTIMEZONE
TZID:America/New_York
BEGIN:DAYLIGHT
TZOFFSETFROM:-0500
TZOFFSETTO:-0400
TZNAME:EDT
DTSTART:20210314T070000
END:DAYLIGHT
BEGIN:STANDARD
TZOFFSETFROM:-0400
TZOFFSETTO:-0500
TZNAME:EST
DTSTART:20211107T060000
END:STANDARD
BEGIN:DAYLIGHT
TZOFFSETFROM:-0500
TZOFFSETTO:-0400
TZNAME:EDT
DTSTART:20220313T070000
END:DAYLIGHT
BEGIN:STANDARD
TZOFFSETFROM:-0400
TZOFFSETTO:-0500
TZNAME:EST
DTSTART:20221106T060000
END:STANDARD
BEGIN:DAYLIGHT
TZOFFSETFROM:-0500
TZOFFSETTO:-0400
TZNAME:EDT
DTSTART:20230312T070000
END:DAYLIGHT
BEGIN:STANDARD
TZOFFSETFROM:-0400
TZOFFSETTO:-0500
TZNAME:EST
DTSTART:20231105T060000
END:STANDARD
END:VTIMEZONE
BEGIN:VEVENT
DTSTART;TZID=America/New_York:20220721T170000
DTEND;TZID=America/New_York:20220721T180000
DTSTAMP:20260425T214556
CREATED:20220621T170103Z
LAST-MODIFIED:20220621T170103Z
UID:10005080-1658422800-1658426400@www.trailslibrary.org
SUMMARY:Book Lover's Book Club - Odessa
DESCRIPTION:Adult book club that meets once a month to discuss their book of choice. This month’s book of choice open for discussion is\, “Still Life” by Louise Penny.
URL:https://www.trailslibrary.org/event/book-lovers-book-club-odessa-19/
LOCATION:Odessa Branch\, 107 W. Mason\, Odessa\, MO\, 64076\, United States
CATEGORIES:Adults,Book Clubs
END:VEVENT
BEGIN:VEVENT
DTSTART;TZID=America/New_York:20220725T163000
DTEND;TZID=America/New_York:20220725T173000
DTSTAMP:20260425T214556
CREATED:20220621T170103Z
LAST-MODIFIED:20220621T170103Z
UID:10004990-1658766600-1658770200@www.trailslibrary.org
SUMMARY:Adult Book Club - Concordia
DESCRIPTION:Adult – We will discuss “The End of Your Life Book Club” by Will Schwalbe.
URL:https://www.trailslibrary.org/event/adult-book-club-concordia-11/
LOCATION:Concordia Branch\, 813 S Main\, Concordia\, MO\, 64020\, United States
CATEGORIES:Adults,Book Clubs
END:VEVENT
END:VCALENDAR