BEGIN:VCALENDAR
VERSION:2.0
PRODID:-//Trails Regional Library - ECPv6.15.20//NONSGML v1.0//EN
CALSCALE:GREGORIAN
METHOD:PUBLISH
X-ORIGINAL-URL:https://www.trailslibrary.org
X-WR-CALDESC:Events for Trails Regional Library
REFRESH-INTERVAL;VALUE=DURATION:PT1H
X-Robots-Tag:noindex
X-PUBLISHED-TTL:PT1H
BEGIN:VTIMEZONE
TZID:America/New_York
BEGIN:DAYLIGHT
TZOFFSETFROM:-0500
TZOFFSETTO:-0400
TZNAME:EDT
DTSTART:20220313T070000
END:DAYLIGHT
BEGIN:STANDARD
TZOFFSETFROM:-0400
TZOFFSETTO:-0500
TZNAME:EST
DTSTART:20221106T060000
END:STANDARD
BEGIN:DAYLIGHT
TZOFFSETFROM:-0500
TZOFFSETTO:-0400
TZNAME:EDT
DTSTART:20230312T070000
END:DAYLIGHT
BEGIN:STANDARD
TZOFFSETFROM:-0400
TZOFFSETTO:-0500
TZNAME:EST
DTSTART:20231105T060000
END:STANDARD
BEGIN:DAYLIGHT
TZOFFSETFROM:-0500
TZOFFSETTO:-0400
TZNAME:EDT
DTSTART:20240310T070000
END:DAYLIGHT
BEGIN:STANDARD
TZOFFSETFROM:-0400
TZOFFSETTO:-0500
TZNAME:EST
DTSTART:20241103T060000
END:STANDARD
END:VTIMEZONE
BEGIN:VEVENT
DTSTART;TZID=America/New_York:20230213T173000
DTEND;TZID=America/New_York:20230213T183000
DTSTAMP:20260425T093745
CREATED:20230113T221217Z
LAST-MODIFIED:20230113T221217Z
UID:10004989-1676309400-1676313000@www.trailslibrary.org
SUMMARY:Novel Tea Book Club - Warrensburg
DESCRIPTION:Join us for a warm cup of tea\, an awarding winning book and great conversations.
URL:https://www.trailslibrary.org/event/novel-tea-book-club-warrensburg/
LOCATION:Warrensburg Branch\, 432 N. Holden\, Warrensburg\, Missouri\, 64093\, United States
CATEGORIES:Adult,Book Clubs
END:VEVENT
BEGIN:VEVENT
DTSTART;TZID=America/New_York:20230223T160000
DTEND;TZID=America/New_York:20230223T170000
DTSTAMP:20260425T093745
CREATED:20230113T222255Z
LAST-MODIFIED:20230113T222255Z
UID:10005738-1677168000-1677171600@www.trailslibrary.org
SUMMARY:Graphic Novel Appreciation Society - Concordia
DESCRIPTION:9-18 years old – Discover the power of stories through Graphic Novels.
URL:https://www.trailslibrary.org/event/graphic-novel-appreciation-society-concordia/
LOCATION:Concordia Branch\, 813 S Main\, Concordia\, MO\, 64020\, United States
CATEGORIES:Book Clubs,Children,Kids,Teens
END:VEVENT
BEGIN:VEVENT
DTSTART;TZID=America/New_York:20230227T163000
DTEND;TZID=America/New_York:20230227T173000
DTSTAMP:20260425T093745
CREATED:20230113T222255Z
LAST-MODIFIED:20230113T222255Z
UID:10004893-1677515400-1677519000@www.trailslibrary.org
SUMMARY:Adult Book Club - Concordia
DESCRIPTION:Adult & Teen – The Girls of Atomic City by Denise Kiernan.
URL:https://www.trailslibrary.org/event/adult-book-club-concordia-16/
LOCATION:Concordia Branch\, 813 S Main\, Concordia\, MO\, 64020\, United States
CATEGORIES:Adults,Book Clubs
END:VEVENT
END:VCALENDAR