BEGIN:VCALENDAR
VERSION:2.0
PRODID:-//Trails Regional Library - ECPv6.15.20//NONSGML v1.0//EN
CALSCALE:GREGORIAN
METHOD:PUBLISH
X-WR-CALNAME:Trails Regional Library
X-ORIGINAL-URL:https://www.trailslibrary.org
X-WR-CALDESC:Events for Trails Regional Library
REFRESH-INTERVAL;VALUE=DURATION:PT1H
X-Robots-Tag:noindex
X-PUBLISHED-TTL:PT1H
BEGIN:VTIMEZONE
TZID:America/New_York
BEGIN:DAYLIGHT
TZOFFSETFROM:-0500
TZOFFSETTO:-0400
TZNAME:EDT
DTSTART:20220313T070000
END:DAYLIGHT
BEGIN:STANDARD
TZOFFSETFROM:-0400
TZOFFSETTO:-0500
TZNAME:EST
DTSTART:20221106T060000
END:STANDARD
BEGIN:DAYLIGHT
TZOFFSETFROM:-0500
TZOFFSETTO:-0400
TZNAME:EDT
DTSTART:20230312T070000
END:DAYLIGHT
BEGIN:STANDARD
TZOFFSETFROM:-0400
TZOFFSETTO:-0500
TZNAME:EST
DTSTART:20231105T060000
END:STANDARD
BEGIN:DAYLIGHT
TZOFFSETFROM:-0500
TZOFFSETTO:-0400
TZNAME:EDT
DTSTART:20240310T070000
END:DAYLIGHT
BEGIN:STANDARD
TZOFFSETFROM:-0400
TZOFFSETTO:-0500
TZNAME:EST
DTSTART:20241103T060000
END:STANDARD
END:VTIMEZONE
BEGIN:VEVENT
DTSTART;TZID=America/New_York:20230603T100000
DTEND;TZID=America/New_York:20230603T110000
DTSTAMP:20260425T060441
CREATED:20230518T234946Z
LAST-MODIFIED:20230518T234946Z
UID:10005291-1685786400-1685790000@www.trailslibrary.org
SUMMARY:Super Saturdays - Holden
DESCRIPTION:Children 6-12 – Super Saturdays are tons of fun for children ages 6-12. Come enjoy crafts\, card games\, and fun galore!
URL:https://www.trailslibrary.org/event/super-saturdays-holden/
LOCATION:Holden Branch\, 207 S. Main\, Holden\, MO\, 64040\, United States
CATEGORIES:Children,Crafts,Kids
END:VEVENT
BEGIN:VEVENT
DTSTART;TZID=America/New_York:20230605T120000
DTEND;TZID=America/New_York:20230605T130000
DTSTAMP:20260425T060441
CREATED:20230526T164750Z
LAST-MODIFIED:20230526T164752Z
UID:10006449-1685966400-1685970000@www.trailslibrary.org
SUMMARY:We are the World - Odessa Branch
DESCRIPTION:Ages 5-8 – Registration required and limited space. Join us in the library and make your own light up mini-globe.
URL:https://www.trailslibrary.org/event/we-are-the-world-odessa-branch/
LOCATION:Odessa Branch\, 107 W. Mason\, Odessa\, MO\, 64076\, United States
CATEGORIES:Children,Crafts,Kids,Youth
END:VEVENT
BEGIN:VEVENT
DTSTART;TZID=America/New_York:20230606T090000
DTEND;TZID=America/New_York:20230606T100000
DTSTAMP:20260425T060441
CREATED:20230526T175311Z
LAST-MODIFIED:20230526T175313Z
UID:10006467-1686042000-1686045600@www.trailslibrary.org
SUMMARY:Get Hooked - Warrensburg Branch
DESCRIPTION:All ages – Join us to learn the art of plarning and how to turn plastic bags into sleeping mats
URL:https://www.trailslibrary.org/event/get-hooked-warrensburg-branch/
LOCATION:Warrensburg Branch\, 432 N. Holden\, Warrensburg\, Missouri\, 64093\, United States
CATEGORIES:Adult,Adults,All Ages,Children,Crafts,Family,Kids,Pre-Teen,Pre-Teens,Preteen,preteens,senior,Seniors,Teen,Teens,Youth
END:VEVENT
BEGIN:VEVENT
DTSTART;TZID=America/New_York:20230608T140000
DTEND;TZID=America/New_York:20230608T160000
DTSTAMP:20260425T060441
CREATED:20230518T234823Z
LAST-MODIFIED:20230518T234823Z
UID:10006384-1686232800-1686240000@www.trailslibrary.org
SUMMARY:Tie-Dye Party! - Concordia
DESCRIPTION:All Ages – It’s an SRP kick-off party! Bring your own t-shirt if you want\, but we will provide shoelaces\, socks\, and scrunchies to tie-dye.
URL:https://www.trailslibrary.org/event/tie-dye-party-concordia/
LOCATION:Concordia Branch\, 813 S Main\, Concordia\, MO\, 64020\, United States
CATEGORIES:Adults,All Ages,Children,Crafts,Family,Kids,Teen,Teens
END:VEVENT
BEGIN:VEVENT
DTSTART;TZID=America/New_York:20230615T140000
DTEND;TZID=America/New_York:20230615T150000
DTSTAMP:20260425T060441
CREATED:20230518T235202Z
LAST-MODIFIED:20230518T235202Z
UID:10005306-1686837600-1686841200@www.trailslibrary.org
SUMMARY:Rainbow Willow Tree Painting - Knob Noster
DESCRIPTION:Adults – Registration Required. Beginners Rainbow Willow Tree painted with cotton swabs in acrylic paint on canvas. Limite space so reserve your space soon!
URL:https://www.trailslibrary.org/event/rainbow-willow-tree-painting-knob-noster/
LOCATION:Knob Noster Branch\, 202 N. Adams\, Knob Noster\, MO\, 65336\, United States
CATEGORIES:Adult,Adults,Crafts
END:VEVENT
BEGIN:VEVENT
DTSTART;TZID=America/New_York:20230617T100000
DTEND;TZID=America/New_York:20230617T110000
DTSTAMP:20260425T060441
CREATED:20230518T234946Z
LAST-MODIFIED:20230518T234946Z
UID:10005292-1686996000-1686999600@www.trailslibrary.org
SUMMARY:Super Saturdays - Holden
DESCRIPTION:Children 6-12 – Super Saturdays are tons of fun for children ages 6-12. Come enjoy crafts\, card games\, and fun galore!
URL:https://www.trailslibrary.org/event/super-saturdays-holden-2/
LOCATION:Holden Branch\, 207 S. Main\, Holden\, MO\, 64040\, United States
CATEGORIES:Children,Crafts,Kids
END:VEVENT
BEGIN:VEVENT
DTSTART;TZID=America/New_York:20230619T173000
DTEND;TZID=America/New_York:20230619T183000
DTSTAMP:20260425T060441
CREATED:20230608T213947Z
LAST-MODIFIED:20230612T202533Z
UID:10006476-1687195800-1687199400@www.trailslibrary.org
SUMMARY:Craftastic - Warrensburg
DESCRIPTION:Create a hand quilted heart to be hidden in the community to share love with others.
URL:https://www.trailslibrary.org/event/craftastic/
LOCATION:Warrensburg Branch\, 432 N. Holden\, Warrensburg\, Missouri\, 64093\, United States
CATEGORIES:Adult,Adults,Crafts,senior,Seniors
END:VEVENT
BEGIN:VEVENT
DTSTART;TZID=America/New_York:20230620T170000
DTEND;TZID=America/New_York:20230620T180000
DTSTAMP:20260425T060441
CREATED:20230526T175506Z
LAST-MODIFIED:20230526T175508Z
UID:10006468-1687280400-1687284000@www.trailslibrary.org
SUMMARY:Get Hooked - Warrensburg Branch
DESCRIPTION:All ages – Join us to learn the art of plarning and how to turn plastic bags into sleeping mats
URL:https://www.trailslibrary.org/event/get-hooked-warrensburg-branch-2/
LOCATION:Warrensburg Branch\, 432 N. Holden\, Warrensburg\, Missouri\, 64093\, United States
CATEGORIES:Adult,Adults,All Ages,Children,Crafts,Family,Kids,Pre-Teen,Pre-Teens,Preteen,preteens,senior,Seniors,Teen,Teens,Youth
END:VEVENT
BEGIN:VEVENT
DTSTART;TZID=America/New_York:20230621T154500
DTEND;TZID=America/New_York:20230621T164500
DTSTAMP:20260425T060441
CREATED:20230518T235843Z
LAST-MODIFIED:20230518T235843Z
UID:10006431-1687362300-1687365900@www.trailslibrary.org
SUMMARY:Teen Time - Lexington
DESCRIPTION:Teens 13-18 – Design your own jewelry using beads and thread! Make a bracelet for a friend\, yourself\, or even a matching set with someone else!
URL:https://www.trailslibrary.org/event/teen-time-lexington/
LOCATION:Lexington Branch\, 1008 Main Street\, Lexington\, MO\, 64067\, United States
CATEGORIES:Crafts,Teen,Teens
END:VEVENT
BEGIN:VEVENT
DTSTART;TZID=America/New_York:20230622T160000
DTEND;TZID=America/New_York:20230622T170000
DTSTAMP:20260425T060441
CREATED:20230526T173751Z
LAST-MODIFIED:20230526T173752Z
UID:10006459-1687449600-1687453200@www.trailslibrary.org
SUMMARY:Crafting Around the World - Warrensburg Branch
DESCRIPTION:Ages 8-18 – Discover the history and create crafts from varies locations around the world.
URL:https://www.trailslibrary.org/event/crafting-around-the-world-warrensburg-branch/
LOCATION:Warrensburg Branch\, 432 N. Holden\, Warrensburg\, Missouri\, 64093\, United States
CATEGORIES:Children,Crafts,Kids,Pre-Teen,Pre-Teens,Preteen,preteens,Teen,Teens,Youth
END:VEVENT
BEGIN:VEVENT
DTSTART;TZID=America/New_York:20230627T110000
DTEND;TZID=America/New_York:20230627T120000
DTSTAMP:20260425T060441
CREATED:20230518T234907Z
LAST-MODIFIED:20230518T234907Z
UID:10006398-1687863600-1687867200@www.trailslibrary.org
SUMMARY:4th of July Craft - Holden
DESCRIPTION:Adult – Come make our July 4th Tic-tac-toe painted rock game craft just in time for the fireworks.
URL:https://www.trailslibrary.org/event/4th-of-july-craft-holden/
LOCATION:Holden Branch\, 207 S. Main\, Holden\, MO\, 64040\, United States
CATEGORIES:Adult,Adults,Crafts
END:VEVENT
BEGIN:VEVENT
DTSTART;TZID=America/New_York:20230627T120000
DTEND;TZID=America/New_York:20230627T130000
DTSTAMP:20260425T060441
CREATED:20230518T234908Z
LAST-MODIFIED:20230518T234908Z
UID:10005283-1687867200-1687870800@www.trailslibrary.org
SUMMARY:4th of July Craft - Holden
DESCRIPTION:Teens 13-18 – Come make our July 4th Tic-tac-toe painted rock game craft just in time for the fireworks.
URL:https://www.trailslibrary.org/event/4th-of-july-craft-holden-2/
LOCATION:Holden Branch\, 207 S. Main\, Holden\, MO\, 64040\, United States
CATEGORIES:Crafts,Teen,Teens
END:VEVENT
END:VCALENDAR