BEGIN:VCALENDAR
VERSION:2.0
PRODID:-//Trails Regional Library - ECPv6.15.20//NONSGML v1.0//EN
CALSCALE:GREGORIAN
METHOD:PUBLISH
X-ORIGINAL-URL:https://www.trailslibrary.org
X-WR-CALDESC:Events for Trails Regional Library
REFRESH-INTERVAL;VALUE=DURATION:PT1H
X-Robots-Tag:noindex
X-PUBLISHED-TTL:PT1H
BEGIN:VTIMEZONE
TZID:America/New_York
BEGIN:DAYLIGHT
TZOFFSETFROM:-0500
TZOFFSETTO:-0400
TZNAME:EDT
DTSTART:20240310T070000
END:DAYLIGHT
BEGIN:STANDARD
TZOFFSETFROM:-0400
TZOFFSETTO:-0500
TZNAME:EST
DTSTART:20241103T060000
END:STANDARD
BEGIN:DAYLIGHT
TZOFFSETFROM:-0500
TZOFFSETTO:-0400
TZNAME:EDT
DTSTART:20250309T070000
END:DAYLIGHT
BEGIN:STANDARD
TZOFFSETFROM:-0400
TZOFFSETTO:-0500
TZNAME:EST
DTSTART:20251102T060000
END:STANDARD
BEGIN:DAYLIGHT
TZOFFSETFROM:-0500
TZOFFSETTO:-0400
TZNAME:EDT
DTSTART:20260308T070000
END:DAYLIGHT
BEGIN:STANDARD
TZOFFSETFROM:-0400
TZOFFSETTO:-0500
TZNAME:EST
DTSTART:20261101T060000
END:STANDARD
END:VTIMEZONE
BEGIN:VEVENT
DTSTART;TZID=America/New_York:20250201T100000
DTEND;TZID=America/New_York:20250201T100000
DTSTAMP:20260423T065753
CREATED:20241217T183721Z
LAST-MODIFIED:20241217T183721Z
UID:10008734-1738404000-1738404000@www.trailslibrary.org
SUMMARY:Brewed to Perfection: A Journey into Herbal Tea Blending - Warrensburg Branch
DESCRIPTION:Ages 19+ REGISTRATION REQUIRED: Discover the art of crafting your own custom herbal blends in this hands-on workshop! Whether you’re a tea enthusiast or a complete beginner\, this program will guide you through the process of blending your own aromatic teas to suit your taste and needs. Come for the tea\, stay for the knowledge—and take home a blend made just for you!
URL:https://www.trailslibrary.org/event/brewed-to-perfection-a-journey-into-herbal-tea-blending-warrensburg-branch/
LOCATION:Warrensburg Branch\, 432 N. Holden\, Warrensburg\, Missouri\, 64093\, United States
CATEGORIES:Adult,Adults,Crafts,senior,Seniors
END:VEVENT
BEGIN:VEVENT
DTSTART;TZID=America/New_York:20250207T100000
DTEND;TZID=America/New_York:20250207T100000
DTSTAMP:20260423T065753
CREATED:20241217T193003Z
LAST-MODIFIED:20241217T193003Z
UID:10008833-1738922400-1738922400@www.trailslibrary.org
SUMMARY:Valentine Crafting - Warrensburg Branch
DESCRIPTION:All Ages: Get creative and make a fun Valentine’s Day craft to share or display!
URL:https://www.trailslibrary.org/event/valentine-crafting-warrensburg-branch/
LOCATION:Warrensburg Branch\, 432 N. Holden\, Warrensburg\, Missouri\, 64093\, United States
CATEGORIES:Adult,Adults,All Ages,Children,Crafts,Family,Kids,preteens,senior,Seniors,Teen,Teens,Youth
END:VEVENT
BEGIN:VEVENT
DTSTART;TZID=America/New_York:20250210T140000
DTEND;TZID=America/New_York:20250210T140000
DTSTAMP:20260423T065753
CREATED:20241218T174038Z
LAST-MODIFIED:20241218T174038Z
UID:10008834-1739196000-1739196000@www.trailslibrary.org
SUMMARY:Crafts Galore - Waverly Branch
DESCRIPTION:All Ages: School is out! Join us and get creative with a fun craft!
URL:https://www.trailslibrary.org/event/crafts-galore-waverly-branch/
LOCATION:Waverly Branch\, 203 E. Kelling\, Waverly\, MO\, 64096\, United States
CATEGORIES:Adult,Adults,All Ages,Children,Crafts,Family,Kids,preteens,senior,Seniors,Teen,Teens,Youth
END:VEVENT
BEGIN:VEVENT
DTSTART;TZID=America/New_York:20250211T150000
DTEND;TZID=America/New_York:20250211T150000
DTSTAMP:20260423T065753
CREATED:20241217T174256Z
LAST-MODIFIED:20241217T174256Z
UID:10008602-1739286000-1739286000@www.trailslibrary.org
SUMMARY:Winter Watercolors - Holden Branch
DESCRIPTION:Ages 19+ REGISTRATION REQUIRED: Come enjoy painting winter watercolor landscapes and abstract snowflake scenes.
URL:https://www.trailslibrary.org/event/winter-watercolors-holden-branch/
LOCATION:Holden Branch\, 207 S. Main\, Holden\, MO\, 64040\, United States
CATEGORIES:Adult,Adults,Crafts,senior,Seniors
END:VEVENT
BEGIN:VEVENT
DTSTART;TZID=America/New_York:20250211T160000
DTEND;TZID=America/New_York:20250211T160000
DTSTAMP:20260423T065753
CREATED:20241217T174256Z
LAST-MODIFIED:20241217T174256Z
UID:10008603-1739289600-1739289600@www.trailslibrary.org
SUMMARY:Winter Watercolors - Holden Branch
DESCRIPTION:Ages 13-18 REGISTRATION REQUIRED: Come enjoy painting winter watercolor landscapes and abstract snowflake scenes.
URL:https://www.trailslibrary.org/event/winter-watercolors-holden-branch-2/
LOCATION:Holden Branch\, 207 S. Main\, Holden\, MO\, 64040\, United States
CATEGORIES:Crafts,Teen,Teens
END:VEVENT
BEGIN:VEVENT
DTSTART;TZID=America/New_York:20250213T140000
DTEND;TZID=America/New_York:20250213T140000
DTSTAMP:20260423T065753
CREATED:20241217T183842Z
LAST-MODIFIED:20241217T183842Z
UID:10008749-1739455200-1739455200@www.trailslibrary.org
SUMMARY:Crafternoon - Warrensburg Branch
DESCRIPTION:Ages 19+: Join us for Crafternoon—a perfect blend of crafting and conversation! Bring a project you’re working on or enjoy our adult coloring supplies while you chat\, relax\, and connect with fellow crafters. Whether you’re here to craft or just socialize\, everyone is welcome!
URL:https://www.trailslibrary.org/event/crafternoon-warrensburg-branch-2/
LOCATION:Warrensburg Branch\, 432 N. Holden\, Warrensburg\, Missouri\, 64093\, United States
CATEGORIES:Adult,Adults,Crafts,senior,Seniors
END:VEVENT
BEGIN:VEVENT
DTSTART;TZID=America/New_York:20250213T153000
DTEND;TZID=America/New_York:20250213T153000
DTSTAMP:20260423T065753
CREATED:20241217T174732Z
LAST-MODIFIED:20241217T174732Z
UID:10008633-1739460600-1739460600@www.trailslibrary.org
SUMMARY:Kids Club - Lexington Branch
DESCRIPTION:Ages 6-12: If you like crafts\, games and fun science activites (STEAM) then this club is for you. Snack provided. Bring a friend for more FUN!
URL:https://www.trailslibrary.org/event/kids-club-lexington-branch-3/
LOCATION:Lexington Branch\, 1008 Main Street\, Lexington\, MO\, 64067\, United States
CATEGORIES:Children,Crafts,Kids
END:VEVENT
BEGIN:VEVENT
DTSTART;TZID=America/New_York:20250214T153000
DTEND;TZID=America/New_York:20250214T153000
DTSTAMP:20260423T065753
CREATED:20241217T175831Z
LAST-MODIFIED:20241217T175831Z
UID:10008673-1739547000-1739547000@www.trailslibrary.org
SUMMARY:Condescension Hearts - Odessa Branch
DESCRIPTION:Ages 13-18: Do you love the taste of conversation hearts? Take a break from Valentine’s day and get out some negative sentiments.
URL:https://www.trailslibrary.org/event/condescension-hearts-odessa-branch/
LOCATION:Odessa Branch\, 107 W. Mason\, Odessa\, MO\, 64076\, United States
CATEGORIES:Crafts,Teen,Teens
END:VEVENT
BEGIN:VEVENT
DTSTART;TZID=America/New_York:20250215T110000
DTEND;TZID=America/New_York:20250215T110000
DTSTAMP:20260423T065753
CREATED:20241217T174057Z
LAST-MODIFIED:20241217T174057Z
UID:10008599-1739617200-1739617200@www.trailslibrary.org
SUMMARY:Super Saturdays - Holden Branch
DESCRIPTION:Ages 6-12: Super Saturdays are tons of Fun for Children Ages 6-12\, come enjoy crafts\, card games\, and fun galore!
URL:https://www.trailslibrary.org/event/super-saturdays-holden-branch-2/
LOCATION:Holden Branch\, 207 S. Main\, Holden\, MO\, 64040\, United States
CATEGORIES:Children,Crafts,Kids
END:VEVENT
BEGIN:VEVENT
DTSTART;TZID=America/New_York:20250222T100000
DTEND;TZID=America/New_York:20250222T100000
DTSTAMP:20260423T065753
CREATED:20241217T184034Z
LAST-MODIFIED:20241217T184034Z
UID:10008754-1740218400-1740218400@www.trailslibrary.org
SUMMARY:Crafty Family Fun - Warrensburg Branch
DESCRIPTION:All Ages: Bring the family and create a fun\, festive craft to celebrate the season!
URL:https://www.trailslibrary.org/event/crafty-family-fun-warrensburg-branch-2/
LOCATION:Warrensburg Branch\, 432 N. Holden\, Warrensburg\, Missouri\, 64093\, United States
CATEGORIES:Adult,Adults,All Ages,Children,Crafts,Family,Kids,preteens,senior,Seniors,Teen,Teens,Youth
END:VEVENT
BEGIN:VEVENT
DTSTART;TZID=America/New_York:20250225T150000
DTEND;TZID=America/New_York:20250225T150000
DTSTAMP:20260423T065753
CREATED:20241217T172639Z
LAST-MODIFIED:20241217T172639Z
UID:10008552-1740495600-1740495600@www.trailslibrary.org
SUMMARY:Button Art - Holden Branch
DESCRIPTION:All Ages REGISTRATION REQUIRED: Create imaginary scenes with buttons and paint.
URL:https://www.trailslibrary.org/event/button-art-holden-branch/
LOCATION:Holden Branch\, 207 S. Main\, Holden\, MO\, 64040\, United States
CATEGORIES:Adult,Adults,All Ages,Children,Crafts,Family,Kids,preteens,senior,Seniors,Teen,Teens,Youth
END:VEVENT
BEGIN:VEVENT
DTSTART;TZID=America/New_York:20250226T170000
DTEND;TZID=America/New_York:20250226T170000
DTSTAMP:20260423T065753
CREATED:20241217T184652Z
LAST-MODIFIED:20241218T171354Z
UID:10008774-1740589200-1740589200@www.trailslibrary.org
SUMMARY:Literary Antics - Warrensburg Branch
DESCRIPTION:Ages 13+ REGISTRATION REQUIRED: Transform retired books into a one-of-a-kind storage box in this creative Library Antics craft!
URL:https://www.trailslibrary.org/event/literary-antics-warrensburg-branch/
LOCATION:Warrensburg Branch\, 432 N. Holden\, Warrensburg\, Missouri\, 64093\, United States
CATEGORIES:Adult,Adults,Crafts,Pre-Teen,Pre-Teens,senior,Seniors,Teen,Teens,Youth
END:VEVENT
BEGIN:VEVENT
DTSTART;TZID=America/New_York:20250228T103000
DTEND;TZID=America/New_York:20250228T103000
DTSTAMP:20260423T065753
CREATED:20241217T170018Z
LAST-MODIFIED:20241217T170018Z
UID:10008495-1740738600-1740738600@www.trailslibrary.org
SUMMARY:Knots and Needles - Corder Branch
DESCRIPTION:Ages 13+: Bring your favorite project—be it crocheting\, knitting\, sewing\, or any other craft—and connect with fellow enthusiasts.  Whether you’re a seasoned crafter or just starting out\, come relax\, learn\, and make new friends!
URL:https://www.trailslibrary.org/event/knots-and-needles-corder-branch-2/
LOCATION:Corder Branch\, 221 N. Lafayette\, Corder\, MO\, 64021\, United States
CATEGORIES:Adult,Adults,Crafts,Pre-Teen,Pre-Teens,senior,Seniors,Teen,Teens
END:VEVENT
END:VCALENDAR