BEGIN:VCALENDAR
VERSION:2.0
PRODID:-//Trails Regional Library - ECPv6.15.20//NONSGML v1.0//EN
CALSCALE:GREGORIAN
METHOD:PUBLISH
X-WR-CALNAME:Trails Regional Library
X-ORIGINAL-URL:https://www.trailslibrary.org
X-WR-CALDESC:Events for Trails Regional Library
REFRESH-INTERVAL;VALUE=DURATION:PT1H
X-Robots-Tag:noindex
X-PUBLISHED-TTL:PT1H
BEGIN:VTIMEZONE
TZID:America/New_York
BEGIN:DAYLIGHT
TZOFFSETFROM:-0500
TZOFFSETTO:-0400
TZNAME:EDT
DTSTART:20240310T070000
END:DAYLIGHT
BEGIN:STANDARD
TZOFFSETFROM:-0400
TZOFFSETTO:-0500
TZNAME:EST
DTSTART:20241103T060000
END:STANDARD
BEGIN:DAYLIGHT
TZOFFSETFROM:-0500
TZOFFSETTO:-0400
TZNAME:EDT
DTSTART:20250309T070000
END:DAYLIGHT
BEGIN:STANDARD
TZOFFSETFROM:-0400
TZOFFSETTO:-0500
TZNAME:EST
DTSTART:20251102T060000
END:STANDARD
BEGIN:DAYLIGHT
TZOFFSETFROM:-0500
TZOFFSETTO:-0400
TZNAME:EDT
DTSTART:20260308T070000
END:DAYLIGHT
BEGIN:STANDARD
TZOFFSETFROM:-0400
TZOFFSETTO:-0500
TZNAME:EST
DTSTART:20261101T060000
END:STANDARD
END:VTIMEZONE
BEGIN:VEVENT
DTSTART;TZID=America/New_York:20250602T000000
DTEND;TZID=America/New_York:20250602T000000
DTSTAMP:20260422T173733
CREATED:20250509T141209Z
LAST-MODIFIED:20250509T141209Z
UID:10009109-1748822400-1748822400@www.trailslibrary.org
SUMMARY:Color Our World Art Contest - Warrensburg Branch
DESCRIPTION:All Ages REGISTRATION REQUIRED: Unleash your creativity and share your artistic talents in our summer reading program’s all-ages art contest! From June 2 to June 30.
URL:https://www.trailslibrary.org/event/color-our-world-art-contest-warrensburg-branch/
LOCATION:Warrensburg Branch\, 432 N. Holden\, Warrensburg\, Missouri\, 64093\, United States
CATEGORIES:Adult,Adults,All Ages,Children,Crafts,Family,Kids,preteens,senior,Seniors,Teen,Teens,Youth
END:VEVENT
BEGIN:VEVENT
DTSTART;TZID=America/New_York:20250602T150000
DTEND;TZID=America/New_York:20250602T150000
DTSTAMP:20260422T173733
CREATED:20250509T142525Z
LAST-MODIFIED:20250509T142525Z
UID:10009204-1748876400-1748876400@www.trailslibrary.org
SUMMARY:Canvas Painting - Waverly Branch
DESCRIPTION:Ages 6-12: Come join us and paint a pre-drawn canvas painting. Supplies provided.
URL:https://www.trailslibrary.org/event/canvas-painting-waverly-branch/
LOCATION:Waverly Branch\, 203 E. Kelling\, Waverly\, MO\, 64096\, United States
CATEGORIES:Children,Crafts,Kids
END:VEVENT
BEGIN:VEVENT
DTSTART;TZID=America/New_York:20250603T110000
DTEND;TZID=America/New_York:20250603T110000
DTSTAMP:20260422T173733
CREATED:20250509T135058Z
LAST-MODIFIED:20250509T135058Z
UID:10009003-1748948400-1748948400@www.trailslibrary.org
SUMMARY:Rock Your Garden - Knob Noster Branch
DESCRIPTION:Ages 19+: Join us for a fun outdoor workshop where you’ll paint unique garden markers using smooth rocks\, perfect for labeling herbs\, flowers\, and vegetables in your garden.
URL:https://www.trailslibrary.org/event/rock-your-garden-knob-noster-branch/
LOCATION:Knob Noster Branch\, 202 N. Adams\, Knob Noster\, MO\, 65336\, United States
CATEGORIES:Adult,Adults,Crafts,senior,Seniors
END:VEVENT
BEGIN:VEVENT
DTSTART;TZID=America/New_York:20250604T160000
DTEND;TZID=America/New_York:20250604T160000
DTSTAMP:20260422T173733
CREATED:20250509T142350Z
LAST-MODIFIED:20250509T142350Z
UID:10009196-1749052800-1749052800@www.trailslibrary.org
SUMMARY:Teen Maker Lab - Warrensburg Branch
DESCRIPTION:Ages 13-18 REGISTRATION REQUIRED: Create and innovate with hands-on crafts and projects using repurposed materials in this fun\, eco-friendly maker experience.
URL:https://www.trailslibrary.org/event/teen-maker-lab-warrensburg-branch/
LOCATION:Warrensburg Branch\, 432 N. Holden\, Warrensburg\, Missouri\, 64093\, United States
CATEGORIES:Crafts,Teen,Teens
END:VEVENT
BEGIN:VEVENT
DTSTART;TZID=America/New_York:20250605T140000
DTEND;TZID=America/New_York:20250605T140000
DTSTAMP:20260422T173733
CREATED:20250509T141224Z
LAST-MODIFIED:20250509T141224Z
UID:10009115-1749132000-1749132000@www.trailslibrary.org
SUMMARY:Crafternoon - Warrensburg Branch
DESCRIPTION:Ages 19+: Join us for Crafternoon—a perfect blend of crafting and conversation! Bring a project you’re working on or enjoy our adult coloring supplies while you chat\, relax\, and connect with fellow crafters.
URL:https://www.trailslibrary.org/event/crafternoon-warrensburg-branch-6/
LOCATION:Warrensburg Branch\, 432 N. Holden\, Warrensburg\, Missouri\, 64093\, United States
CATEGORIES:Adult,Adults,Crafts,senior,Seniors
END:VEVENT
BEGIN:VEVENT
DTSTART;TZID=America/New_York:20250606T140000
DTEND;TZID=America/New_York:20250606T140000
DTSTAMP:20260422T173733
CREATED:20250509T134118Z
LAST-MODIFIED:20250509T134118Z
UID:10008941-1749218400-1749218400@www.trailslibrary.org
SUMMARY:Teen Crafternoon - Corder Branch
DESCRIPTION:Ages 13-18: Get crafty and make something new!
URL:https://www.trailslibrary.org/event/teen-crafternoon-corder-branch/
LOCATION:Corder Branch\, 221 N. Lafayette\, Corder\, MO\, 64021\, United States
CATEGORIES:Crafts,Teen,Teens
END:VEVENT
BEGIN:VEVENT
DTSTART;TZID=America/New_York:20250606T160000
DTEND;TZID=America/New_York:20250606T160000
DTSTAMP:20260422T173733
CREATED:20250509T142335Z
LAST-MODIFIED:20250509T142335Z
UID:10009192-1749225600-1749225600@www.trailslibrary.org
SUMMARY:Summer Spa Series - Warrensburg Branch
DESCRIPTION:Ages 6-12: A fun and creative series where 6+ can learn to make their own relaxing spa treatments at home.
URL:https://www.trailslibrary.org/event/summer-spa-series-warrensburg-branch/
LOCATION:Warrensburg Branch\, 432 N. Holden\, Warrensburg\, Missouri\, 64093\, United States
CATEGORIES:Children,Crafts,Kids
END:VEVENT
BEGIN:VEVENT
DTSTART;TZID=America/New_York:20250607T100000
DTEND;TZID=America/New_York:20250607T100000
DTSTAMP:20260422T173733
CREATED:20250509T142350Z
LAST-MODIFIED:20250509T142350Z
UID:10009195-1749290400-1749290400@www.trailslibrary.org
SUMMARY:Tea-riffic Gardens - Warrensburg Branch
DESCRIPTION:Ages 19+ REGISTRATION REQUIRED: Grow your own sip-worthy serenity in this hands-on program where you’ll plant herbs perfect for blending your own teas.
URL:https://www.trailslibrary.org/event/tea-riffic-gardens-warrensburg-branch/
LOCATION:Warrensburg Branch\, 432 N. Holden\, Warrensburg\, Missouri\, 64093\, United States
CATEGORIES:Adult,Adults,Crafts,senior,Seniors
END:VEVENT
BEGIN:VEVENT
DTSTART;TZID=America/New_York:20250609T150000
DTEND;TZID=America/New_York:20250609T150000
DTSTAMP:20260422T173733
CREATED:20250509T142527Z
LAST-MODIFIED:20250509T142527Z
UID:10009210-1749481200-1749481200@www.trailslibrary.org
SUMMARY:Nail Polish Mugs - Waverly Branch
DESCRIPTION:Ages 19+: Create a unique marbled mug with nail polish!
URL:https://www.trailslibrary.org/event/nail-polish-mugs-waverly-branch/
LOCATION:Waverly Branch\, 203 E. Kelling\, Waverly\, MO\, 64096\, United States
CATEGORIES:Adult,Adults,Crafts,senior,Seniors
END:VEVENT
BEGIN:VEVENT
DTSTART;TZID=America/New_York:20250610T150000
DTEND;TZID=America/New_York:20250610T150000
DTSTAMP:20260422T173733
CREATED:20250509T134321Z
LAST-MODIFIED:20250509T134321Z
UID:10008970-1749567600-1749567600@www.trailslibrary.org
SUMMARY:July 4th Wooden Star Painting - Holden Branch
DESCRIPTION:Ages 19+ REGISTRATION REQUIRED: Come paint a large July 4th Wooden Star with us to decorate your home for the upcoming holiday.
URL:https://www.trailslibrary.org/event/july-4th-wooden-star-painting-holden-branch/
LOCATION:Holden Branch\, 207 S. Main\, Holden\, MO\, 64040\, United States
CATEGORIES:Adult,Adults,Crafts,senior,Seniors
END:VEVENT
BEGIN:VEVENT
DTSTART;TZID=America/New_York:20250610T150000
DTEND;TZID=America/New_York:20250610T150000
DTSTAMP:20260422T173733
CREATED:20250509T134959Z
LAST-MODIFIED:20250509T134959Z
UID:10009000-1749567600-1749567600@www.trailslibrary.org
SUMMARY:Perler Bead Bling - Knob Noster Branch
DESCRIPTION:Ages 13-18: Create your own adorable keychains using colorful Perler beads—perfect for decorating your bag\, keys\, or sharing with friends.
URL:https://www.trailslibrary.org/event/perler-bead-bling-knob-noster-branch/
LOCATION:Knob Noster Branch\, 202 N. Adams\, Knob Noster\, MO\, 65336\, United States
CATEGORIES:Crafts,Teen,Teens
END:VEVENT
BEGIN:VEVENT
DTSTART;TZID=America/New_York:20250610T153000
DTEND;TZID=America/New_York:20250610T153000
DTSTAMP:20260422T173733
CREATED:20250509T142225Z
LAST-MODIFIED:20250509T142225Z
UID:10009173-1749569400-1749569400@www.trailslibrary.org
SUMMARY:Recycled Radiance - Warrensburg Branch
DESCRIPTION:Ages 19+ REGISTRATION REQUIRED: Turn everyday items into eye-catching works of art as you discover the beauty of repurposed materials and transform the ordinary into something extraordinary.
URL:https://www.trailslibrary.org/event/recycled-radiance-warrensburg-branch/
LOCATION:Warrensburg Branch\, 432 N. Holden\, Warrensburg\, Missouri\, 64093\, United States
CATEGORIES:Adult,Adults,Crafts,senior,Seniors
END:VEVENT
BEGIN:VEVENT
DTSTART;TZID=America/New_York:20250610T160000
DTEND;TZID=America/New_York:20250610T160000
DTSTAMP:20260422T173733
CREATED:20250509T134521Z
LAST-MODIFIED:20250509T134521Z
UID:10008971-1749571200-1749571200@www.trailslibrary.org
SUMMARY:July 4th Wooden Star Painting - Holden Branch
DESCRIPTION:Ages 13-18 REGISTRATION REQUIRED: Come paint a large July 4th Wooden Star with us to decorate your home for the upcoming holiday.
URL:https://www.trailslibrary.org/event/july-4th-wooden-star-painting-holden-branch-2/
LOCATION:Holden Branch\, 207 S. Main\, Holden\, MO\, 64040\, United States
CATEGORIES:Crafts,Teen,Teens
END:VEVENT
BEGIN:VEVENT
DTSTART;TZID=America/New_York:20250611T150000
DTEND;TZID=America/New_York:20250611T150000
DTSTAMP:20260422T173733
CREATED:20250509T142542Z
LAST-MODIFIED:20250509T142542Z
UID:10009214-1749654000-1749654000@www.trailslibrary.org
SUMMARY:Sand Art - Waverly Branch
DESCRIPTION:Ages 6-12: Join us in creating a magical sand art jar.
URL:https://www.trailslibrary.org/event/sand-art-waverly-branch/
LOCATION:Waverly Branch\, 203 E. Kelling\, Waverly\, MO\, 64096\, United States
CATEGORIES:Children,Crafts,Kids
END:VEVENT
BEGIN:VEVENT
DTSTART;TZID=America/New_York:20250612T153000
DTEND;TZID=America/New_York:20250612T153000
DTSTAMP:20260422T173733
CREATED:20250509T140020Z
LAST-MODIFIED:20250509T140020Z
UID:10009048-1749742200-1749742200@www.trailslibrary.org
SUMMARY:Color Our Space - Odessa Branch
DESCRIPTION:Ages 13-18: Come create art to decorate our teen section and make the space your own!
URL:https://www.trailslibrary.org/event/color-our-space-odessa-branch/
LOCATION:Odessa Branch\, 107 W. Mason\, Odessa\, MO\, 64076\, United States
CATEGORIES:Crafts,Teen,Teens
END:VEVENT
BEGIN:VEVENT
DTSTART;TZID=America/New_York:20250612T160000
DTEND;TZID=America/New_York:20250612T160000
DTSTAMP:20260422T173733
CREATED:20250509T141225Z
LAST-MODIFIED:20250509T141225Z
UID:10009118-1749744000-1749744000@www.trailslibrary.org
SUMMARY:Crafty Creations - Warrensburg Branch
DESCRIPTION:Ages 6-12: Join us for hands-on fun where kids can get creative using recycled\, repurposed\, and budget-friendly materials.
URL:https://www.trailslibrary.org/event/crafty-creations-warrensburg-branch/
LOCATION:Warrensburg Branch\, 432 N. Holden\, Warrensburg\, Missouri\, 64093\, United States
CATEGORIES:Children,Crafts,Kids
END:VEVENT
BEGIN:VEVENT
DTSTART;TZID=America/New_York:20250613T150000
DTEND;TZID=America/New_York:20250613T150000
DTSTAMP:20260422T173733
CREATED:20250509T133630Z
LAST-MODIFIED:20250509T133630Z
UID:10008919-1749826800-1749826800@www.trailslibrary.org
SUMMARY:Book Chat and Crafts - Corder Branch
DESCRIPTION:Ages 6-12: Join us for a kids’ book club\, where we’ll chat about books we are reading while working on fun crafts!
URL:https://www.trailslibrary.org/event/book-chat-and-crafts-corder-branch-5/
LOCATION:Corder Branch\, 221 N. Lafayette\, Corder\, MO\, 64021\, United States
CATEGORIES:Book Club,Children,Crafts,Kids
END:VEVENT
BEGIN:VEVENT
DTSTART;TZID=America/New_York:20250613T160000
DTEND;TZID=America/New_York:20250613T160000
DTSTAMP:20260422T173733
CREATED:20250509T142336Z
LAST-MODIFIED:20250509T142336Z
UID:10009193-1749830400-1749830400@www.trailslibrary.org
SUMMARY:Summer Spa Series - Warrensburg Branch
DESCRIPTION:Ages 6-12: A fun and creative series where 6+ can learn to make their own relaxing spa treatments at home.
URL:https://www.trailslibrary.org/event/summer-spa-series-warrensburg-branch-2/
LOCATION:Warrensburg Branch\, 432 N. Holden\, Warrensburg\, Missouri\, 64093\, United States
CATEGORIES:Children,Crafts,Kids
END:VEVENT
BEGIN:VEVENT
DTSTART;TZID=America/New_York:20250614T100000
DTEND;TZID=America/New_York:20250614T100000
DTSTAMP:20260422T173733
CREATED:20250512T144955Z
LAST-MODIFIED:20250512T144955Z
UID:10009250-1749895200-1749895200@www.trailslibrary.org
SUMMARY:Mosaic Art - Waverly Branch
DESCRIPTION:Ages 6-12: Create a beautiful piece of art using plates and mosaic tiles.
URL:https://www.trailslibrary.org/event/mosaic-art-waverly-branch-2/
LOCATION:Waverly Branch\, 203 E. Kelling\, Waverly\, MO\, 64096\, United States
CATEGORIES:Children,Crafts,Kids
END:VEVENT
BEGIN:VEVENT
DTSTART;TZID=America/New_York:20250614T140000
DTEND;TZID=America/New_York:20250614T140000
DTSTAMP:20260422T173733
CREATED:20250509T140128Z
LAST-MODIFIED:20250509T140128Z
UID:10009060-1749909600-1749909600@www.trailslibrary.org
SUMMARY:Ink Your World - Odessa Branch
DESCRIPTION:Ages 19+ REGISTRATION REQUIRED:  Get creative with alcohol ink and see where the colors take you!
URL:https://www.trailslibrary.org/event/ink-your-world-odessa-branch/
LOCATION:Odessa Branch\, 107 W. Mason\, Odessa\, MO\, 64076\, United States
CATEGORIES:Adult,Adults,Crafts,senior,Seniors
END:VEVENT
BEGIN:VEVENT
DTSTART;TZID=America/New_York:20250616T170000
DTEND;TZID=America/New_York:20250616T170000
DTSTAMP:20260422T173733
CREATED:20250509T141210Z
LAST-MODIFIED:20250509T141210Z
UID:10009113-1750093200-1750093200@www.trailslibrary.org
SUMMARY:Craftastic - Warrensburg Branch
DESCRIPTION:Ages 19+ REGISTRATION REQUIRED: Join fellow crafters at Trails for a fun and creative DIY project! All materials will be provided\, so bring your creativity and enjoy crafting with others.
URL:https://www.trailslibrary.org/event/craftastic-warrensburg-branch-5/
LOCATION:Warrensburg Branch\, 432 N. Holden\, Warrensburg\, Missouri\, 64093\, United States
CATEGORIES:Adult,Adults,Crafts,senior,Seniors
END:VEVENT
BEGIN:VEVENT
DTSTART;TZID=America/New_York:20250617T170000
DTEND;TZID=America/New_York:20250617T170000
DTSTAMP:20260422T173733
CREATED:20250509T142115Z
LAST-MODIFIED:20250509T142115Z
UID:10009140-1750179600-1750179600@www.trailslibrary.org
SUMMARY:Literary Antics - Warrensburg Branch
DESCRIPTION:Ages 19+ REGISTRATION REQUIRED: Transform retired books into one-of-a-kind crafts in this creative program!
URL:https://www.trailslibrary.org/event/literary-antics-warrensburg-branch-3/
LOCATION:Warrensburg Branch\, 432 N. Holden\, Warrensburg\, Missouri\, 64093\, United States
CATEGORIES:Adult,Adults,Crafts,senior,Seniors
END:VEVENT
BEGIN:VEVENT
DTSTART;TZID=America/New_York:20250618T150000
DTEND;TZID=America/New_York:20250618T150000
DTSTAMP:20260422T173733
CREATED:20250509T142525Z
LAST-MODIFIED:20250509T142525Z
UID:10009206-1750258800-1750258800@www.trailslibrary.org
SUMMARY:Friendship Bracelets - Waverly Branch
DESCRIPTION:Ages 6-12: Get your Era on! Make yourself or a friend a unique bracelet.
URL:https://www.trailslibrary.org/event/friendship-bracelets-waverly-branch/
LOCATION:Waverly Branch\, 203 E. Kelling\, Waverly\, MO\, 64096\, United States
CATEGORIES:Children,Crafts,Kids
END:VEVENT
BEGIN:VEVENT
DTSTART;TZID=America/New_York:20250619T160000
DTEND;TZID=America/New_York:20250619T160000
DTSTAMP:20260422T173733
CREATED:20250509T141424Z
LAST-MODIFIED:20250509T141424Z
UID:10009119-1750348800-1750348800@www.trailslibrary.org
SUMMARY:Crafty Creations - Warrensburg Branch
DESCRIPTION:Ages 6-12: Join us for hands-on fun where kids can get creative using recycled\, repurposed\, and budget-friendly materials.
URL:https://www.trailslibrary.org/event/crafty-creations-warrensburg-branch-2/
LOCATION:Warrensburg Branch\, 432 N. Holden\, Warrensburg\, Missouri\, 64093\, United States
CATEGORIES:Children,Crafts,Kids
END:VEVENT
BEGIN:VEVENT
DTSTART;TZID=America/New_York:20250623T140000
DTEND;TZID=America/New_York:20250623T140000
DTSTAMP:20260422T173733
CREATED:20250509T142350Z
LAST-MODIFIED:20250509T142350Z
UID:10009198-1750687200-1750687200@www.trailslibrary.org
SUMMARY:Tiny Art Show - Warrensburg Branch
DESCRIPTION:All Ages: Unleash your creativity on a tiny canvas!  Whether you paint\, draw\, or craft\, let your imagination shine on a small scale. Finished pieces can be taken home or left to display through the end of July.
URL:https://www.trailslibrary.org/event/tiny-art-show-warrensburg-branch/
LOCATION:Warrensburg Branch\, 432 N. Holden\, Warrensburg\, Missouri\, 64093\, United States
CATEGORIES:Adult,Adults,All Ages,Children,Crafts,Family,Kids,preteens,senior,Seniors,Teen,Teens,Youth
END:VEVENT
BEGIN:VEVENT
DTSTART;TZID=America/New_York:20250623T150000
DTEND;TZID=America/New_York:20250623T150000
DTSTAMP:20260422T173733
CREATED:20250509T142557Z
LAST-MODIFIED:20250509T142557Z
UID:10009218-1750690800-1750690800@www.trailslibrary.org
SUMMARY:Squeegee Art - Waverly Branch
DESCRIPTION:Ages 6-12: Become a painting master! Join us and learn how to create your own masterpiece with a squeegee and paint.
URL:https://www.trailslibrary.org/event/squeegee-art-waverly-branch/
LOCATION:Waverly Branch\, 203 E. Kelling\, Waverly\, MO\, 64096\, United States
CATEGORIES:Children,Crafts,Kids
END:VEVENT
BEGIN:VEVENT
DTSTART;TZID=America/New_York:20250623T160000
DTEND;TZID=America/New_York:20250623T160000
DTSTAMP:20260422T173733
CREATED:20250509T140021Z
LAST-MODIFIED:20250509T140021Z
UID:10009049-1750694400-1750694400@www.trailslibrary.org
SUMMARY:Dragon Magic - Odessa Branch
DESCRIPTION:Ages 5-8: Unlock the dragon magic within you through enchanting stories and a creative craft!
URL:https://www.trailslibrary.org/event/dragon-magic-odessa-branch/
LOCATION:Odessa Branch\, 107 W. Mason\, Odessa\, MO\, 64076\, United States
CATEGORIES:Children,Crafts,Kids
END:VEVENT
BEGIN:VEVENT
DTSTART;TZID=America/New_York:20250624T100000
DTEND;TZID=America/New_York:20250624T100000
DTSTAMP:20260422T173733
CREATED:20250509T134959Z
LAST-MODIFIED:20250509T134959Z
UID:10009001-1750759200-1750759200@www.trailslibrary.org
SUMMARY:Pom Pom Pals - Knob Noster Branch
DESCRIPTION:Ages 6-12: Bring your favorite animals to life with just pom poms\, glue\, and a little creativity! You can craft charming\, fluffy creatures that are uniquely yours.
URL:https://www.trailslibrary.org/event/pom-pom-pals-knob-noster-branch/
LOCATION:Knob Noster Branch\, 202 N. Adams\, Knob Noster\, MO\, 65336\, United States
CATEGORIES:Children,Crafts,Kids
END:VEVENT
BEGIN:VEVENT
DTSTART;TZID=America/New_York:20250624T153000
DTEND;TZID=America/New_York:20250624T153000
DTSTAMP:20260422T173733
CREATED:20250509T135738Z
LAST-MODIFIED:20250509T135738Z
UID:10009030-1750779000-1750779000@www.trailslibrary.org
SUMMARY:Perler Bead Designs - Lexington Branch
DESCRIPTION:Ages 6-12: Arrange the beads on a peg board in a fun design. Then we apply heat to finish it up!
URL:https://www.trailslibrary.org/event/perler-bead-designs-lexington-branch/
LOCATION:Lexington Branch\, 1008 Main Street\, Lexington\, MO\, 64067\, United States
CATEGORIES:Children,Crafts,Kids
END:VEVENT
BEGIN:VEVENT
DTSTART;TZID=America/New_York:20250625T130000
DTEND;TZID=America/New_York:20250625T130000
DTSTAMP:20260422T173733
CREATED:20250509T141208Z
LAST-MODIFIED:20250509T141208Z
UID:10009108-1750856400-1750856400@www.trailslibrary.org
SUMMARY:Cardmaking - Warrensburg Branch
DESCRIPTION:Ages 19+: Get creative with your friends at Trails and make several adorable\, handcrafted cards that are perfect for any occasion.
URL:https://www.trailslibrary.org/event/cardmaking-warrensburg-branch/
LOCATION:Warrensburg Branch\, 432 N. Holden\, Warrensburg\, Missouri\, 64093\, United States
CATEGORIES:Adult,Adults,Crafts,senior,Seniors
END:VEVENT
END:VCALENDAR