BEGIN:VCALENDAR
VERSION:2.0
PRODID:-//Trails Regional Library - ECPv6.15.20//NONSGML v1.0//EN
CALSCALE:GREGORIAN
METHOD:PUBLISH
X-ORIGINAL-URL:https://www.trailslibrary.org
X-WR-CALDESC:Events for Trails Regional Library
REFRESH-INTERVAL;VALUE=DURATION:PT1H
X-Robots-Tag:noindex
X-PUBLISHED-TTL:PT1H
BEGIN:VTIMEZONE
TZID:America/New_York
BEGIN:DAYLIGHT
TZOFFSETFROM:-0500
TZOFFSETTO:-0400
TZNAME:EDT
DTSTART:20240310T070000
END:DAYLIGHT
BEGIN:STANDARD
TZOFFSETFROM:-0400
TZOFFSETTO:-0500
TZNAME:EST
DTSTART:20241103T060000
END:STANDARD
BEGIN:DAYLIGHT
TZOFFSETFROM:-0500
TZOFFSETTO:-0400
TZNAME:EDT
DTSTART:20250309T070000
END:DAYLIGHT
BEGIN:STANDARD
TZOFFSETFROM:-0400
TZOFFSETTO:-0500
TZNAME:EST
DTSTART:20251102T060000
END:STANDARD
BEGIN:DAYLIGHT
TZOFFSETFROM:-0500
TZOFFSETTO:-0400
TZNAME:EDT
DTSTART:20260308T070000
END:DAYLIGHT
BEGIN:STANDARD
TZOFFSETFROM:-0400
TZOFFSETTO:-0500
TZNAME:EST
DTSTART:20261101T060000
END:STANDARD
END:VTIMEZONE
BEGIN:VEVENT
DTSTART;TZID=America/New_York:20250624T100000
DTEND;TZID=America/New_York:20250624T100000
DTSTAMP:20260422T191751
CREATED:20250509T134959Z
LAST-MODIFIED:20250509T134959Z
UID:10009001-1750759200-1750759200@www.trailslibrary.org
SUMMARY:Pom Pom Pals - Knob Noster Branch
DESCRIPTION:Ages 6-12: Bring your favorite animals to life with just pom poms\, glue\, and a little creativity! You can craft charming\, fluffy creatures that are uniquely yours.
URL:https://www.trailslibrary.org/event/pom-pom-pals-knob-noster-branch/
LOCATION:Knob Noster Branch\, 202 N. Adams\, Knob Noster\, MO\, 65336\, United States
CATEGORIES:Children,Crafts,Kids
END:VEVENT
BEGIN:VEVENT
DTSTART;TZID=America/New_York:20250624T153000
DTEND;TZID=America/New_York:20250624T153000
DTSTAMP:20260422T191751
CREATED:20250509T135738Z
LAST-MODIFIED:20250509T135738Z
UID:10009030-1750779000-1750779000@www.trailslibrary.org
SUMMARY:Perler Bead Designs - Lexington Branch
DESCRIPTION:Ages 6-12: Arrange the beads on a peg board in a fun design. Then we apply heat to finish it up!
URL:https://www.trailslibrary.org/event/perler-bead-designs-lexington-branch/
LOCATION:Lexington Branch\, 1008 Main Street\, Lexington\, MO\, 64067\, United States
CATEGORIES:Children,Crafts,Kids
END:VEVENT
END:VCALENDAR