BEGIN:VCALENDAR
VERSION:2.0
PRODID:-//Trails Regional Library - ECPv6.15.20//NONSGML v1.0//EN
CALSCALE:GREGORIAN
METHOD:PUBLISH
X-WR-CALNAME:Trails Regional Library
X-ORIGINAL-URL:https://www.trailslibrary.org
X-WR-CALDESC:Events for Trails Regional Library
REFRESH-INTERVAL;VALUE=DURATION:PT1H
X-Robots-Tag:noindex
X-PUBLISHED-TTL:PT1H
BEGIN:VTIMEZONE
TZID:America/New_York
BEGIN:DAYLIGHT
TZOFFSETFROM:-0500
TZOFFSETTO:-0400
TZNAME:EDT
DTSTART:20240310T070000
END:DAYLIGHT
BEGIN:STANDARD
TZOFFSETFROM:-0400
TZOFFSETTO:-0500
TZNAME:EST
DTSTART:20241103T060000
END:STANDARD
BEGIN:DAYLIGHT
TZOFFSETFROM:-0500
TZOFFSETTO:-0400
TZNAME:EDT
DTSTART:20250309T070000
END:DAYLIGHT
BEGIN:STANDARD
TZOFFSETFROM:-0400
TZOFFSETTO:-0500
TZNAME:EST
DTSTART:20251102T060000
END:STANDARD
BEGIN:DAYLIGHT
TZOFFSETFROM:-0500
TZOFFSETTO:-0400
TZNAME:EDT
DTSTART:20260308T070000
END:DAYLIGHT
BEGIN:STANDARD
TZOFFSETFROM:-0400
TZOFFSETTO:-0500
TZNAME:EST
DTSTART:20261101T060000
END:STANDARD
END:VTIMEZONE
BEGIN:VEVENT
DTSTART;TZID=America/New_York:20250626T150000
DTEND;TZID=America/New_York:20250626T150000
DTSTAMP:20260422T191704
CREATED:20250509T134943Z
LAST-MODIFIED:20250509T134943Z
UID:10008992-1750950000-1750950000@www.trailslibrary.org
SUMMARY:Crafternoon: DIY Crayons - Knob Noster Branch
DESCRIPTION:Ages 6-12: Give old crayons new life! Melt\, mix\, and mold colorful wax to create your very own unique crayon masterpieces to take home!
URL:https://www.trailslibrary.org/event/crafternoon-diy-crayons-knob-noster-branch/
LOCATION:Knob Noster Branch\, 202 N. Adams\, Knob Noster\, MO\, 65336\, United States
CATEGORIES:Children,Crafts,Kids
END:VEVENT
BEGIN:VEVENT
DTSTART;TZID=America/New_York:20250626T160000
DTEND;TZID=America/New_York:20250626T160000
DTSTAMP:20260422T191704
CREATED:20250509T141424Z
LAST-MODIFIED:20250509T141424Z
UID:10009120-1750953600-1750953600@www.trailslibrary.org
SUMMARY:Crafty Creations - Warrensburg Branch
DESCRIPTION:Ages 6-12: Join us for hands-on fun where kids can get creative using recycled\, repurposed\, and budget-friendly materials.
URL:https://www.trailslibrary.org/event/crafty-creations-warrensburg-branch-3/
LOCATION:Warrensburg Branch\, 432 N. Holden\, Warrensburg\, Missouri\, 64093\, United States
CATEGORIES:Children,Crafts,Kids
END:VEVENT
END:VCALENDAR