BEGIN:VCALENDAR
VERSION:2.0
PRODID:-//Trails Regional Library - ECPv6.15.20//NONSGML v1.0//EN
CALSCALE:GREGORIAN
METHOD:PUBLISH
X-ORIGINAL-URL:https://www.trailslibrary.org
X-WR-CALDESC:Events for Trails Regional Library
REFRESH-INTERVAL;VALUE=DURATION:PT1H
X-Robots-Tag:noindex
X-PUBLISHED-TTL:PT1H
BEGIN:VTIMEZONE
TZID:America/New_York
BEGIN:DAYLIGHT
TZOFFSETFROM:-0500
TZOFFSETTO:-0400
TZNAME:EDT
DTSTART:20240310T070000
END:DAYLIGHT
BEGIN:STANDARD
TZOFFSETFROM:-0400
TZOFFSETTO:-0500
TZNAME:EST
DTSTART:20241103T060000
END:STANDARD
BEGIN:DAYLIGHT
TZOFFSETFROM:-0500
TZOFFSETTO:-0400
TZNAME:EDT
DTSTART:20250309T070000
END:DAYLIGHT
BEGIN:STANDARD
TZOFFSETFROM:-0400
TZOFFSETTO:-0500
TZNAME:EST
DTSTART:20251102T060000
END:STANDARD
BEGIN:DAYLIGHT
TZOFFSETFROM:-0500
TZOFFSETTO:-0400
TZNAME:EDT
DTSTART:20260308T070000
END:DAYLIGHT
BEGIN:STANDARD
TZOFFSETFROM:-0400
TZOFFSETTO:-0500
TZNAME:EST
DTSTART:20261101T060000
END:STANDARD
END:VTIMEZONE
BEGIN:VEVENT
DTSTART;TZID=America/New_York:20250627T140000
DTEND;TZID=America/New_York:20250627T140000
DTSTAMP:20260422T191749
CREATED:20250509T134118Z
LAST-MODIFIED:20250509T134118Z
UID:10008942-1751032800-1751032800@www.trailslibrary.org
SUMMARY:Teen Crafternoon - Corder Branch
DESCRIPTION:Ages 13-18: Get crafty and make something new!
URL:https://www.trailslibrary.org/event/teen-crafternoon-corder-branch-2/
LOCATION:Corder Branch\, 221 N. Lafayette\, Corder\, MO\, 64021\, United States
CATEGORIES:Crafts,Teen,Teens
END:VEVENT
BEGIN:VEVENT
DTSTART;TZID=America/New_York:20250627T160000
DTEND;TZID=America/New_York:20250627T160000
DTSTAMP:20260422T191749
CREATED:20250509T142350Z
LAST-MODIFIED:20250509T142350Z
UID:10009194-1751040000-1751040000@www.trailslibrary.org
SUMMARY:Summer Spa Series - Warrensburg Branch
DESCRIPTION:Ages 6-12: A fun and creative series where 6+ can learn to make their own relaxing spa treatments at home.
URL:https://www.trailslibrary.org/event/summer-spa-series-warrensburg-branch-3/
LOCATION:Warrensburg Branch\, 432 N. Holden\, Warrensburg\, Missouri\, 64093\, United States
CATEGORIES:Children,Crafts,Kids
END:VEVENT
END:VCALENDAR