BEGIN:VCALENDAR
VERSION:2.0
PRODID:-//Trails Regional Library - ECPv6.15.20//NONSGML v1.0//EN
CALSCALE:GREGORIAN
METHOD:PUBLISH
X-WR-CALNAME:Trails Regional Library
X-ORIGINAL-URL:https://www.trailslibrary.org
X-WR-CALDESC:Events for Trails Regional Library
REFRESH-INTERVAL;VALUE=DURATION:PT1H
X-Robots-Tag:noindex
X-PUBLISHED-TTL:PT1H
BEGIN:VTIMEZONE
TZID:America/New_York
BEGIN:DAYLIGHT
TZOFFSETFROM:-0500
TZOFFSETTO:-0400
TZNAME:EDT
DTSTART:20240310T070000
END:DAYLIGHT
BEGIN:STANDARD
TZOFFSETFROM:-0400
TZOFFSETTO:-0500
TZNAME:EST
DTSTART:20241103T060000
END:STANDARD
BEGIN:DAYLIGHT
TZOFFSETFROM:-0500
TZOFFSETTO:-0400
TZNAME:EDT
DTSTART:20250309T070000
END:DAYLIGHT
BEGIN:STANDARD
TZOFFSETFROM:-0400
TZOFFSETTO:-0500
TZNAME:EST
DTSTART:20251102T060000
END:STANDARD
BEGIN:DAYLIGHT
TZOFFSETFROM:-0500
TZOFFSETTO:-0400
TZNAME:EDT
DTSTART:20260308T070000
END:DAYLIGHT
BEGIN:STANDARD
TZOFFSETFROM:-0400
TZOFFSETTO:-0500
TZNAME:EST
DTSTART:20261101T060000
END:STANDARD
END:VTIMEZONE
BEGIN:VEVENT
DTSTART;TZID=America/New_York:20250709T130000
DTEND;TZID=America/New_York:20250709T130000
DTSTAMP:20260422T173849
CREATED:20250509T142240Z
LAST-MODIFIED:20250509T142240Z
UID:10009177-1752066000-1752066000@www.trailslibrary.org
SUMMARY:Snack Attack: Easy Eats for Kids - Warrensburg Branch
DESCRIPTION:Ages 6-12 REGISTRATION REQUIRED: Hands-on cooking fun where kids create easy recipes like salsa\, mug cakes\, and French bread pizzas using appliances like the stovetop\, air fryer\, and microwave—building kitchen skills along the way.
URL:https://www.trailslibrary.org/event/snack-attack-easy-eats-for-kids-warrensburg-branch/
LOCATION:Warrensburg Branch\, 432 N. Holden\, Warrensburg\, Missouri\, 64093\, United States
CATEGORIES:Children,Crafts,Kids
END:VEVENT
BEGIN:VEVENT
DTSTART;TZID=America/New_York:20250709T150000
DTEND;TZID=America/New_York:20250709T150000
DTSTAMP:20260422T173849
CREATED:20250509T134942Z
LAST-MODIFIED:20250509T134942Z
UID:10008988-1752073200-1752073200@www.trailslibrary.org
SUMMARY:Bad Art Afternoon - Knob Noster Branch
DESCRIPTION:Ages 13-18: The goal? Make the worst art possible and compete for funny awards.
URL:https://www.trailslibrary.org/event/bad-art-afternoon-knob-noster-branch/
LOCATION:Knob Noster Branch\, 202 N. Adams\, Knob Noster\, MO\, 65336\, United States
CATEGORIES:Crafts,Teen,Teens
END:VEVENT
END:VCALENDAR