BEGIN:VCALENDAR
VERSION:2.0
PRODID:-//Trails Regional Library - ECPv6.15.20//NONSGML v1.0//EN
CALSCALE:GREGORIAN
METHOD:PUBLISH
X-WR-CALNAME:Trails Regional Library
X-ORIGINAL-URL:https://www.trailslibrary.org
X-WR-CALDESC:Events for Trails Regional Library
REFRESH-INTERVAL;VALUE=DURATION:PT1H
X-Robots-Tag:noindex
X-PUBLISHED-TTL:PT1H
BEGIN:VTIMEZONE
TZID:America/New_York
BEGIN:DAYLIGHT
TZOFFSETFROM:-0500
TZOFFSETTO:-0400
TZNAME:EDT
DTSTART:20240310T070000
END:DAYLIGHT
BEGIN:STANDARD
TZOFFSETFROM:-0400
TZOFFSETTO:-0500
TZNAME:EST
DTSTART:20241103T060000
END:STANDARD
BEGIN:DAYLIGHT
TZOFFSETFROM:-0500
TZOFFSETTO:-0400
TZNAME:EDT
DTSTART:20250309T070000
END:DAYLIGHT
BEGIN:STANDARD
TZOFFSETFROM:-0400
TZOFFSETTO:-0500
TZNAME:EST
DTSTART:20251102T060000
END:STANDARD
BEGIN:DAYLIGHT
TZOFFSETFROM:-0500
TZOFFSETTO:-0400
TZNAME:EDT
DTSTART:20260308T070000
END:DAYLIGHT
BEGIN:STANDARD
TZOFFSETFROM:-0400
TZOFFSETTO:-0500
TZNAME:EST
DTSTART:20261101T060000
END:STANDARD
END:VTIMEZONE
BEGIN:VEVENT
DTSTART;TZID=America/New_York:20250721T140000
DTEND;TZID=America/New_York:20250721T140000
DTSTAMP:20260422T173831
CREATED:20250509T142526Z
LAST-MODIFIED:20250509T142526Z
UID:10009207-1753106400-1753106400@www.trailslibrary.org
SUMMARY:Homemade Sidewalk Chalk - Waverly Branch
DESCRIPTION:Ages 6-12: Like to draw on the sidewalk? Come and make your own sidewalk chalk.
URL:https://www.trailslibrary.org/event/homemade-sidewalk-chalk-waverly-branch/
LOCATION:Waverly Branch\, 203 E. Kelling\, Waverly\, MO\, 64096\, United States
CATEGORIES:Children,Crafts,Kids
END:VEVENT
BEGIN:VEVENT
DTSTART;TZID=America/New_York:20250721T160000
DTEND;TZID=America/New_York:20250721T160000
DTSTAMP:20260422T173831
CREATED:20250509T141033Z
LAST-MODIFIED:20250509T141033Z
UID:10009101-1753113600-1753113600@www.trailslibrary.org
SUMMARY:Textured Art - Odessa Branch
DESCRIPTION:Ages 5-8: Explore a shiny new art form and be creative with tin foil!
URL:https://www.trailslibrary.org/event/textured-art-odessa-branch/
LOCATION:Odessa Branch\, 107 W. Mason\, Odessa\, MO\, 64076\, United States
CATEGORIES:Children,Crafts,Kids
END:VEVENT
BEGIN:VEVENT
DTSTART;TZID=America/New_York:20250721T170000
DTEND;TZID=America/New_York:20250721T170000
DTSTAMP:20260422T173831
CREATED:20250509T141224Z
LAST-MODIFIED:20250509T141224Z
UID:10009114-1753117200-1753117200@www.trailslibrary.org
SUMMARY:Craftastic - Warrensburg Branch
DESCRIPTION:Ages 19+ REGISTRATION REQUIRED: Join fellow crafters at Trails for a fun and creative DIY project! All materials will be provided\, so bring your creativity and enjoy crafting with others.
URL:https://www.trailslibrary.org/event/craftastic-warrensburg-branch-6/
LOCATION:Warrensburg Branch\, 432 N. Holden\, Warrensburg\, Missouri\, 64093\, United States
CATEGORIES:Adult,Adults,Crafts,senior,Seniors
END:VEVENT
END:VCALENDAR