BEGIN:VCALENDAR
VERSION:2.0
PRODID:-//Trails Regional Library - ECPv6.15.20//NONSGML v1.0//EN
CALSCALE:GREGORIAN
METHOD:PUBLISH
X-ORIGINAL-URL:https://www.trailslibrary.org
X-WR-CALDESC:Events for Trails Regional Library
REFRESH-INTERVAL;VALUE=DURATION:PT1H
X-Robots-Tag:noindex
X-PUBLISHED-TTL:PT1H
BEGIN:VTIMEZONE
TZID:America/New_York
BEGIN:DAYLIGHT
TZOFFSETFROM:-0500
TZOFFSETTO:-0400
TZNAME:EDT
DTSTART:20240310T070000
END:DAYLIGHT
BEGIN:STANDARD
TZOFFSETFROM:-0400
TZOFFSETTO:-0500
TZNAME:EST
DTSTART:20241103T060000
END:STANDARD
BEGIN:DAYLIGHT
TZOFFSETFROM:-0500
TZOFFSETTO:-0400
TZNAME:EDT
DTSTART:20250309T070000
END:DAYLIGHT
BEGIN:STANDARD
TZOFFSETFROM:-0400
TZOFFSETTO:-0500
TZNAME:EST
DTSTART:20251102T060000
END:STANDARD
BEGIN:DAYLIGHT
TZOFFSETFROM:-0500
TZOFFSETTO:-0400
TZNAME:EDT
DTSTART:20260308T070000
END:DAYLIGHT
BEGIN:STANDARD
TZOFFSETFROM:-0400
TZOFFSETTO:-0500
TZNAME:EST
DTSTART:20261101T060000
END:STANDARD
END:VTIMEZONE
BEGIN:VEVENT
DTSTART;TZID=America/New_York:20250725T100000
DTEND;TZID=America/New_York:20250725T100000
DTSTAMP:20260422T173900
CREATED:20250509T141425Z
LAST-MODIFIED:20250509T141425Z
UID:10009122-1753437600-1753437600@www.trailslibrary.org
SUMMARY:Crafty Creations - Warrensburg Branch
DESCRIPTION:Ages 6-12 REGISTRATION REQUIRED: Join us for hands-on fun where kids can get creative using recycled\, repurposed\, and budget-friendly materials. *Bring your own tshirt\, bandana\, or socks to tie dye!
URL:https://www.trailslibrary.org/event/crafty-creations-warrensburg-branch-5/
LOCATION:Warrensburg Branch\, 432 N. Holden\, Warrensburg\, Missouri\, 64093\, United States
CATEGORIES:Children,Crafts,Kids
END:VEVENT
BEGIN:VEVENT
DTSTART;TZID=America/New_York:20250725T103000
DTEND;TZID=America/New_York:20250725T103000
DTSTAMP:20260422T173900
CREATED:20250509T134944Z
LAST-MODIFIED:20250509T134944Z
UID:10008995-1753439400-1753439400@www.trailslibrary.org
SUMMARY:Ink-tastic Bookmarks - Knob Noster Branch
DESCRIPTION:Ages 6-12: Join us for a fun and creative afternoon of making vibrant\, one-of-a-kind bookmarks using alcohol inks!
URL:https://www.trailslibrary.org/event/ink-tastic-bookmarks-knob-noster-branch/
LOCATION:Knob Noster Branch\, 202 N. Adams\, Knob Noster\, MO\, 65336\, United States
CATEGORIES:Children,Crafts,Kids
END:VEVENT
BEGIN:VEVENT
DTSTART;TZID=America/New_York:20250725T140000
DTEND;TZID=America/New_York:20250725T140000
DTSTAMP:20260422T173900
CREATED:20250509T134118Z
LAST-MODIFIED:20250509T134118Z
UID:10008944-1753452000-1753452000@www.trailslibrary.org
SUMMARY:Teen Crafternoon - Corder Branch
DESCRIPTION:Ages 13-18: Get crafty and make something new!
URL:https://www.trailslibrary.org/event/teen-crafternoon-corder-branch-4/
LOCATION:Corder Branch\, 221 N. Lafayette\, Corder\, MO\, 64021\, United States
CATEGORIES:Crafts,Teen,Teens
END:VEVENT
END:VCALENDAR