BEGIN:VCALENDAR
VERSION:2.0
PRODID:-//Trails Regional Library - ECPv6.15.20//NONSGML v1.0//EN
CALSCALE:GREGORIAN
METHOD:PUBLISH
X-WR-CALNAME:Trails Regional Library
X-ORIGINAL-URL:https://www.trailslibrary.org
X-WR-CALDESC:Events for Trails Regional Library
REFRESH-INTERVAL;VALUE=DURATION:PT1H
X-Robots-Tag:noindex
X-PUBLISHED-TTL:PT1H
BEGIN:VTIMEZONE
TZID:America/New_York
BEGIN:DAYLIGHT
TZOFFSETFROM:-0500
TZOFFSETTO:-0400
TZNAME:EDT
DTSTART:20240310T070000
END:DAYLIGHT
BEGIN:STANDARD
TZOFFSETFROM:-0400
TZOFFSETTO:-0500
TZNAME:EST
DTSTART:20241103T060000
END:STANDARD
BEGIN:DAYLIGHT
TZOFFSETFROM:-0500
TZOFFSETTO:-0400
TZNAME:EDT
DTSTART:20250309T070000
END:DAYLIGHT
BEGIN:STANDARD
TZOFFSETFROM:-0400
TZOFFSETTO:-0500
TZNAME:EST
DTSTART:20251102T060000
END:STANDARD
BEGIN:DAYLIGHT
TZOFFSETFROM:-0500
TZOFFSETTO:-0400
TZNAME:EDT
DTSTART:20260308T070000
END:DAYLIGHT
BEGIN:STANDARD
TZOFFSETFROM:-0400
TZOFFSETTO:-0500
TZNAME:EST
DTSTART:20261101T060000
END:STANDARD
END:VTIMEZONE
BEGIN:VEVENT
DTSTART;TZID=America/New_York:20251120T153000
DTEND;TZID=America/New_York:20251120T153000
DTSTAMP:20260422T111346
CREATED:20250911T140924Z
LAST-MODIFIED:20250911T140924Z
UID:10009478-1763652600-1763652600@www.trailslibrary.org
SUMMARY:Tween Time - Lexington Branch
DESCRIPTION:Ages 13-18: Come hang out with friends for an afternoon of fun! Whether you like crafting\, playing games\, or science experiments\, there’s something for everyone!
URL:https://www.trailslibrary.org/event/tween-time-lexington-branch-9/
LOCATION:Lexington Branch\, 1008 Main Street\, Lexington\, MO\, 64067\, United States
CATEGORIES:Crafts,Pre-Teen,Pre-Teens,STEAM,Teen,Teens
END:VEVENT
BEGIN:VEVENT
DTSTART;TZID=America/New_York:20251120T160000
DTEND;TZID=America/New_York:20251120T160000
DTSTAMP:20260422T111346
CREATED:20250911T141606Z
LAST-MODIFIED:20250911T141606Z
UID:10009531-1763654400-1763654400@www.trailslibrary.org
SUMMARY:12 Days of Kindness - Warrensburg Branch
DESCRIPTION:Ages 6-12: Part of a 12-week series\, this creative craft program lets kids design and make heartfelt gifts for family and friends. Each session is hands-on fun\, and participants can take home a wrapped gift. Join for one session or as many as you’d like!
URL:https://www.trailslibrary.org/event/12-days-of-kindness-warrensburg-branch-10/
LOCATION:Warrensburg Branch\, 432 N. Holden\, Warrensburg\, Missouri\, 64093\, United States
CATEGORIES:Children,Crafts,Kids
END:VEVENT
BEGIN:VEVENT
DTSTART;TZID=America/New_York:20251120T173000
DTEND;TZID=America/New_York:20251120T173000
DTSTAMP:20260422T111346
CREATED:20250911T140839Z
LAST-MODIFIED:20250911T140839Z
UID:10009462-1763659800-1763659800@www.trailslibrary.org
SUMMARY:Bee Creative - Lexington Branch
DESCRIPTION:Ages 19+ REGISTRATION REQUIRED: BEE ready for the holidays with a new seasonal craft for your home or to give as a gift.
URL:https://www.trailslibrary.org/event/bee-creative-lexington-branch-5/
LOCATION:Lexington Branch\, 1008 Main Street\, Lexington\, MO\, 64067\, United States
CATEGORIES:Adult,Adults,Crafts,senior,Seniors
END:VEVENT
END:VCALENDAR