BEGIN:VCALENDAR
VERSION:2.0
PRODID:-//Trails Regional Library - ECPv6.15.20//NONSGML v1.0//EN
CALSCALE:GREGORIAN
METHOD:PUBLISH
X-ORIGINAL-URL:https://www.trailslibrary.org
X-WR-CALDESC:Events for Trails Regional Library
REFRESH-INTERVAL;VALUE=DURATION:PT1H
X-Robots-Tag:noindex
X-PUBLISHED-TTL:PT1H
BEGIN:VTIMEZONE
TZID:America/New_York
BEGIN:DAYLIGHT
TZOFFSETFROM:-0500
TZOFFSETTO:-0400
TZNAME:EDT
DTSTART:20250309T070000
END:DAYLIGHT
BEGIN:STANDARD
TZOFFSETFROM:-0400
TZOFFSETTO:-0500
TZNAME:EST
DTSTART:20251102T060000
END:STANDARD
BEGIN:DAYLIGHT
TZOFFSETFROM:-0500
TZOFFSETTO:-0400
TZNAME:EDT
DTSTART:20260308T070000
END:DAYLIGHT
BEGIN:STANDARD
TZOFFSETFROM:-0400
TZOFFSETTO:-0500
TZNAME:EST
DTSTART:20261101T060000
END:STANDARD
BEGIN:DAYLIGHT
TZOFFSETFROM:-0500
TZOFFSETTO:-0400
TZNAME:EDT
DTSTART:20270314T070000
END:DAYLIGHT
BEGIN:STANDARD
TZOFFSETFROM:-0400
TZOFFSETTO:-0500
TZNAME:EST
DTSTART:20271107T060000
END:STANDARD
END:VTIMEZONE
BEGIN:VEVENT
DTSTART;TZID=America/New_York:20260331T150000
DTEND;TZID=America/New_York:20260331T150000
DTSTAMP:20260422T032329
CREATED:20251215T201455Z
LAST-MODIFIED:20251215T201455Z
UID:10009832-1774969200-1774969200@www.trailslibrary.org
SUMMARY:Makers Gonna Make - Holden Branch
DESCRIPTION:Ages 19+: Unleash your creativity every other week with a new craft project designed for all experience levels. All materials are provided at no cost.
URL:https://www.trailslibrary.org/event/makers-gonna-make-holden-branch-6/
LOCATION:Holden Branch\, 207 S. Main\, Holden\, MO\, 64040\, United States
CATEGORIES:Adult,Adults,Crafts,senior,Seniors
END:VEVENT
BEGIN:VEVENT
DTSTART;TZID=America/New_York:20260331T170000
DTEND;TZID=America/New_York:20260331T170000
DTSTAMP:20260422T032329
CREATED:20251215T204846Z
LAST-MODIFIED:20251215T204846Z
UID:10010033-1774976400-1774976400@www.trailslibrary.org
SUMMARY:Literary Antics - Warrensburg Branch
DESCRIPTION:Ages 19+ REGISTRATION REQUIRED: Transform retired books into one-of-a-kind crafts in this creative program!
URL:https://www.trailslibrary.org/event/literary-antics-warrensburg-branch-9/
LOCATION:Warrensburg Branch\, 432 N. Holden\, Warrensburg\, Missouri\, 64093\, United States
CATEGORIES:Adult,Adults,Crafts,senior,Seniors
END:VEVENT
END:VCALENDAR