BEGIN:VCALENDAR
VERSION:2.0
PRODID:-//Trails Regional Library - ECPv6.15.20//NONSGML v1.0//EN
CALSCALE:GREGORIAN
METHOD:PUBLISH
X-ORIGINAL-URL:https://www.trailslibrary.org
X-WR-CALDESC:Events for Trails Regional Library
REFRESH-INTERVAL;VALUE=DURATION:PT1H
X-Robots-Tag:noindex
X-PUBLISHED-TTL:PT1H
BEGIN:VTIMEZONE
TZID:America/New_York
BEGIN:DAYLIGHT
TZOFFSETFROM:-0500
TZOFFSETTO:-0400
TZNAME:EDT
DTSTART:20230312T070000
END:DAYLIGHT
BEGIN:STANDARD
TZOFFSETFROM:-0400
TZOFFSETTO:-0500
TZNAME:EST
DTSTART:20231105T060000
END:STANDARD
BEGIN:DAYLIGHT
TZOFFSETFROM:-0500
TZOFFSETTO:-0400
TZNAME:EDT
DTSTART:20240310T070000
END:DAYLIGHT
BEGIN:STANDARD
TZOFFSETFROM:-0400
TZOFFSETTO:-0500
TZNAME:EST
DTSTART:20241103T060000
END:STANDARD
BEGIN:DAYLIGHT
TZOFFSETFROM:-0500
TZOFFSETTO:-0400
TZNAME:EDT
DTSTART:20250309T070000
END:DAYLIGHT
BEGIN:STANDARD
TZOFFSETFROM:-0400
TZOFFSETTO:-0500
TZNAME:EST
DTSTART:20251102T060000
END:STANDARD
END:VTIMEZONE
BEGIN:VEVENT
DTSTART;TZID=America/New_York:20240724T100000
DTEND;TZID=America/New_York:20240724T100000
DTSTAMP:20260425T080617
CREATED:20240520T192213Z
LAST-MODIFIED:20240520T192213Z
UID:10007481-1721815200-1721815200@www.trailslibrary.org
SUMMARY:Storytime - Holden
DESCRIPTION:Ages 0-5: Come listen to a story at the library and do a craft.
URL:https://www.trailslibrary.org/event/storytime-holden-120/
LOCATION:Holden Branch\, 207 S. Main\, Holden\, MO\, 64040\, United States
CATEGORIES:Children,Crafts,Kids,Preschool,Storytime
END:VEVENT
BEGIN:VEVENT
DTSTART;TZID=America/New_York:20240724T140000
DTEND;TZID=America/New_York:20240724T160000
DTSTAMP:20260425T080617
CREATED:20240520T194222Z
LAST-MODIFIED:20240520T194222Z
UID:10007596-1721829600-1721836800@www.trailslibrary.org
SUMMARY:Nature Pouch - Waverly
DESCRIPTION:Ages 6-12 REGISTRATION Required: Make a pouch for your nature collectibles\, such as acorns\, rocks\, and leaves!
URL:https://www.trailslibrary.org/event/nature-pouch-waverly/
LOCATION:Waverly Branch\, 203 E. Kelling\, Waverly\, MO\, 64096\, United States
CATEGORIES:Children,Crafts,Kids
END:VEVENT
BEGIN:VEVENT
DTSTART;TZID=America/New_York:20240725T140000
DTEND;TZID=America/New_York:20240725T160000
DTSTAMP:20260425T080617
CREATED:20240521T143731Z
LAST-MODIFIED:20240521T143731Z
UID:10007788-1721916000-1721923200@www.trailslibrary.org
SUMMARY:Trading Card Club - Leeton
DESCRIPTION:Ages 6-12 REGISTRATION Required: Trading card fans\, join Mrs. Schuler for trading card fun to include: playing\, chatting\, trading\, and more!
URL:https://www.trailslibrary.org/event/trading-card-club-leeton-9/
LOCATION:Leeton Express Branch\, 500 N. Main\, Leeton\, MO\, 64761\, United States
CATEGORIES:Children,Crafts,Kids
END:VEVENT
BEGIN:VEVENT
DTSTART;TZID=America/New_York:20240725T153000
DTEND;TZID=America/New_York:20240725T163000
DTSTAMP:20260425T080617
CREATED:20240520T192909Z
LAST-MODIFIED:20240520T192909Z
UID:10007521-1721921400-1721925000@www.trailslibrary.org
SUMMARY:Kid's Club - Lexington
DESCRIPTION:Ages 6-12: If you like crafts\, games\, and fun science activites (STEAM) then this club is for you. Snack provided. Bring a friend for more FUN!
URL:https://www.trailslibrary.org/event/kids-club-lexington-10/
LOCATION:Lexington Branch\, 1008 Main Street\, Lexington\, MO\, 64067\, United States
CATEGORIES:Children,Crafts,Kids,STEAM,Youth
END:VEVENT
BEGIN:VEVENT
DTSTART;TZID=America/New_York:20240726T100000
DTEND;TZID=America/New_York:20240726T100000
DTSTAMP:20260425T080617
CREATED:20240521T143319Z
LAST-MODIFIED:20240521T143319Z
UID:10007769-1721988000-1721988000@www.trailslibrary.org
SUMMARY:Adventure Storytime - Leeton
DESCRIPTION:Ages 6-12: Storytimes are for building reading skills\, making friends and having fun!  Our Summer Reading series will include crafts and activities related to our theme “Adventure Begins at the Library.”
URL:https://www.trailslibrary.org/event/adventure-storytime-leeton-8/
LOCATION:Leeton Express Branch\, 500 N. Main\, Leeton\, MO\, 64761\, United States
CATEGORIES:Children,Crafts,Kids,Storytime
END:VEVENT
BEGIN:VEVENT
DTSTART;TZID=America/New_York:20240727T100000
DTEND;TZID=America/New_York:20240727T110000
DTSTAMP:20260425T080617
CREATED:20240520T204325Z
LAST-MODIFIED:20240520T204325Z
UID:10007709-1722074400-1722078000@www.trailslibrary.org
SUMMARY:Crafty Family Fun - Warrensburg
DESCRIPTION:All Ages: Join us to make a craft!
URL:https://www.trailslibrary.org/event/crafty-family-fun-warrensburg-5/
LOCATION:Warrensburg Branch\, 432 N. Holden\, Warrensburg\, Missouri\, 64093\, United States
CATEGORIES:Adult,Adults,All Ages,Children,Crafts,Family,Kids,preteens,senior,Seniors,Teen,Teens,Youth
END:VEVENT
BEGIN:VEVENT
DTSTART;TZID=America/New_York:20240906T150000
DTEND;TZID=America/New_York:20240906T163000
DTSTAMP:20260425T080617
CREATED:20240822T210401Z
LAST-MODIFIED:20240822T210401Z
UID:10008328-1725634800-1725640200@www.trailslibrary.org
SUMMARY:Bookgami - Knob Noster
DESCRIPTION:Ages 13-18 REGISTRATION REQUIRED: Let’s turn old books into works of art with this fun strategic craft. Get an early start on a gift for someone\, we’ll provide the materials\, you just have to provide the patience and attention.
URL:https://www.trailslibrary.org/event/bookgami-knob-noster/
LOCATION:Knob Noster Branch\, 202 N. Adams\, Knob Noster\, MO\, 65336\, United States
CATEGORIES:Crafts,Pre-Teen,preteens,Teen,Teens
END:VEVENT
BEGIN:VEVENT
DTSTART;TZID=America/New_York:20240906T160000
DTEND;TZID=America/New_York:20240906T173000
DTSTAMP:20260425T080617
CREATED:20240822T163618Z
LAST-MODIFIED:20240822T163618Z
UID:10007938-1725638400-1725643800@www.trailslibrary.org
SUMMARY:Night Sky Paint-Along - Corder
DESCRIPTION:Ages 6-18 REGISTRATION REQUIRED: Learn some basic painting skills while you follow along painting a beautiful night sky with our instructor.
URL:https://www.trailslibrary.org/event/night-sky-paint-along-corder-2/
LOCATION:Corder Branch\, 221 N. Lafayette\, Corder\, MO\, 64021\, United States
CATEGORIES:Children,Crafts,Kids,Pre-Teen,Pre-Teens,Teen,Teens
END:VEVENT
BEGIN:VEVENT
DTSTART;TZID=America/New_York:20240910T150000
DTEND;TZID=America/New_York:20240910T150000
DTSTAMP:20260425T080617
CREATED:20240822T170609Z
LAST-MODIFIED:20240822T170609Z
UID:10007988-1725980400-1725980400@www.trailslibrary.org
SUMMARY:Fall Watercolor - Holden
DESCRIPTION:Ages 19+ REGISTRATION REQUIRED: Come and enjoy learning to make Fall Watercolor compositions with us.
URL:https://www.trailslibrary.org/event/fall-watercolor-holden-3/
LOCATION:Holden Branch\, 207 S. Main\, Holden\, MO\, 64040\, United States
CATEGORIES:Adult,Adults,Crafts,senior,Seniors
END:VEVENT
BEGIN:VEVENT
DTSTART;TZID=America/New_York:20240910T160000
DTEND;TZID=America/New_York:20240910T160000
DTSTAMP:20260425T080617
CREATED:20240822T170609Z
LAST-MODIFIED:20240822T170609Z
UID:10007989-1725984000-1725984000@www.trailslibrary.org
SUMMARY:Fall Watercolor - Holden
DESCRIPTION:Ages 13-18 REGISTRATION REQUIRED: Come and enjoy learning to make Fall Watercolor compositions with us.
URL:https://www.trailslibrary.org/event/fall-watercolor-holden-4/
LOCATION:Holden Branch\, 207 S. Main\, Holden\, MO\, 64040\, United States
CATEGORIES:Crafts,Teen,Teens
END:VEVENT
BEGIN:VEVENT
DTSTART;TZID=America/New_York:20240911T143000
DTEND;TZID=America/New_York:20240911T160000
DTSTAMP:20260425T080617
CREATED:20240822T210401Z
LAST-MODIFIED:20240822T210401Z
UID:10008329-1726065000-1726070400@www.trailslibrary.org
SUMMARY:Crafternoon - Knob Noster
DESCRIPTION:Ages 6-12: Join us every second Wednesday for early out while we do a fun new craft.
URL:https://www.trailslibrary.org/event/crafternoon-knob-noster/
LOCATION:Knob Noster Branch\, 202 N. Adams\, Knob Noster\, MO\, 65336\, United States
CATEGORIES:Children,Crafts,Kids
END:VEVENT
BEGIN:VEVENT
DTSTART;TZID=America/New_York:20240912T140000
DTEND;TZID=America/New_York:20240912T150000
DTSTAMP:20260425T080617
CREATED:20240822T210402Z
LAST-MODIFIED:20240822T210402Z
UID:10008332-1726149600-1726153200@www.trailslibrary.org
SUMMARY:Easy\, Cheesy\, Delicious - Knob Noster
DESCRIPTION:Ages 19+ REGISTRATION REQUIRED: Learn a new skill: Easy cheese making! Watch as I demonstrate how to make cheese and taste the delicious product.
URL:https://www.trailslibrary.org/event/easy-cheesy-delicious-knob-noster/
LOCATION:Knob Noster Branch\, 202 N. Adams\, Knob Noster\, MO\, 65336\, United States
CATEGORIES:Adult,Adults,Crafts,senior,Seniors
END:VEVENT
BEGIN:VEVENT
DTSTART;TZID=America/New_York:20240912T153000
DTEND;TZID=America/New_York:20240912T170000
DTSTAMP:20260425T080617
CREATED:20240822T185352Z
LAST-MODIFIED:20240822T185352Z
UID:10008077-1726155000-1726160400@www.trailslibrary.org
SUMMARY:Kids Club - Lexington
DESCRIPTION:Ages 6-12: If you like crafts\, games and fun science activites (STEAM) then this club is for you. Snack provided. Bring a friend for more FUN!
URL:https://www.trailslibrary.org/event/kids-club-lexington-12/
LOCATION:Lexington Branch\, 1008 Main Street\, Lexington\, MO\, 64067\, United States
CATEGORIES:Children,Crafts,Kids
END:VEVENT
BEGIN:VEVENT
DTSTART;TZID=America/New_York:20240916T160000
DTEND;TZID=America/New_York:20240916T170000
DTSTAMP:20260425T080617
CREATED:20240822T211204Z
LAST-MODIFIED:20240822T211204Z
UID:10008416-1726502400-1726506000@www.trailslibrary.org
SUMMARY:Squishy Art - Odessa
DESCRIPTION:Ages 9-12 REGISTRATION REQUIRED:You love to squish them\, now let’s paint one!
URL:https://www.trailslibrary.org/event/squishy-art-odessa/
LOCATION:Odessa Branch\, 107 W. Mason\, Odessa\, MO\, 64076\, United States
CATEGORIES:Children,Crafts,Kids
END:VEVENT
BEGIN:VEVENT
DTSTART;TZID=America/New_York:20240916T173000
DTEND;TZID=America/New_York:20240916T183000
DTSTAMP:20260425T080617
CREATED:20240822T194050Z
LAST-MODIFIED:20240822T194050Z
UID:10008216-1726507800-1726511400@www.trailslibrary.org
SUMMARY:Craftastic  - Warrensburg
DESCRIPTION:Ages 19+ REGISTRATION REQUIRED: Join us to make a mosaic stepping stone for your garden.
URL:https://www.trailslibrary.org/event/craftastic-warrensburg-15/
LOCATION:Warrensburg Branch\, 432 N. Holden\, Warrensburg\, Missouri\, 64093\, United States
CATEGORIES:Adult,Adults,Crafts,preteens,senior,Seniors,Teen,Teens,Youth
END:VEVENT
BEGIN:VEVENT
DTSTART;TZID=America/New_York:20240919T180000
DTEND;TZID=America/New_York:20240919T193000
DTSTAMP:20260425T080617
CREATED:20240822T185351Z
LAST-MODIFIED:20240822T185351Z
UID:10008073-1726768800-1726774200@www.trailslibrary.org
SUMMARY:Bee Creative - Lexington
DESCRIPTION:Ages 19+ REGISTRATION REQUIRED: Get a head start on crafting fun Fall decor!
URL:https://www.trailslibrary.org/event/bee-creative-lexington-5/
LOCATION:Lexington Branch\, 1008 Main Street\, Lexington\, MO\, 64067\, United States
CATEGORIES:Adult,Adults,Crafts,senior,Seniors
END:VEVENT
BEGIN:VEVENT
DTSTART;TZID=America/New_York:20240920T100000
DTEND;TZID=America/New_York:20240920T110000
DTSTAMP:20260425T080617
CREATED:20240822T163556Z
LAST-MODIFIED:20240822T163556Z
UID:10007934-1726826400-1726830000@www.trailslibrary.org
SUMMARY:Needle Stories - Corder
DESCRIPTION:Ages 13+: Bring your project (crocheting\, knitting\, sewing\, etc.) and spend time with fellow hobbyists. Someone will be on hand to teach crochet if you would like to learn.
URL:https://www.trailslibrary.org/event/needle-stories-corder-14/
LOCATION:Corder Branch\, 221 N. Lafayette\, Corder\, MO\, 64021\, United States
CATEGORIES:Adult,Adults,Crafts,preteens,senior,Seniors,Teen,Teens,Youth
END:VEVENT
BEGIN:VEVENT
DTSTART;TZID=America/New_York:20240924T150000
DTEND;TZID=America/New_York:20240924T150000
DTSTAMP:20260425T080617
CREATED:20240822T170230Z
LAST-MODIFIED:20240822T170230Z
UID:10007971-1727190000-1727190000@www.trailslibrary.org
SUMMARY:Art Club: Decorative Masks - Holden
DESCRIPTION:Ages 8+ REGISTRATION REQUIRED: Paint and apply embellishments to fanciful masquerade masks.
URL:https://www.trailslibrary.org/event/art-club-decorative-masks-holden/
LOCATION:Holden Branch\, 207 S. Main\, Holden\, MO\, 64040\, United States
CATEGORIES:Adult,Adults,Children,Crafts,Kids,preteens,senior,Seniors,Teen,Teens,Youth
END:VEVENT
BEGIN:VEVENT
DTSTART;TZID=America/New_York:20240924T173000
DTEND;TZID=America/New_York:20240924T183000
DTSTAMP:20260425T080617
CREATED:20240822T211015Z
LAST-MODIFIED:20240822T211015Z
UID:10008372-1727199000-1727202600@www.trailslibrary.org
SUMMARY:A Night in the Shire - Odessa
DESCRIPTION:Ages 19+: Celebrate Hobbit week with some Lord of the Rings games and crafts!
URL:https://www.trailslibrary.org/event/a-night-in-the-shire-odessa/
LOCATION:Odessa Branch\, 107 W. Mason\, Odessa\, MO\, 64076\, United States
CATEGORIES:Adult,Adults,Crafts,senior,Seniors
END:VEVENT
BEGIN:VEVENT
DTSTART;TZID=America/New_York:20240926T140000
DTEND;TZID=America/New_York:20240926T160000
DTSTAMP:20260425T080617
CREATED:20240822T210434Z
LAST-MODIFIED:20240822T210434Z
UID:10008344-1727359200-1727366400@www.trailslibrary.org
SUMMARY:Halloween Spell Book - Knob Noster
DESCRIPTION:Ages 19+ REGISTRATION REQUIRED: Make it spooky\, make it creepy\, make it fun! Make a Halloween spellbook however you like!
URL:https://www.trailslibrary.org/event/halloween-spell-book-knob-noster/
LOCATION:Knob Noster Branch\, 202 N. Adams\, Knob Noster\, MO\, 65336\, United States
CATEGORIES:Adult,Adults,Crafts,senior,Seniors
END:VEVENT
BEGIN:VEVENT
DTSTART;TZID=America/New_York:20240926T153000
DTEND;TZID=America/New_York:20240926T153000
DTSTAMP:20260425T080617
CREATED:20240822T211048Z
LAST-MODIFIED:20240822T211048Z
UID:10008387-1727364600-1727364600@www.trailslibrary.org
SUMMARY:Freed Between the Lines - Odessa
DESCRIPTION:Ages 13-18: Celebrate Banned Books Week by making a keychain of the cover of your favorite banned book!
URL:https://www.trailslibrary.org/event/freed-between-the-lines-odessa/
LOCATION:Odessa Branch\, 107 W. Mason\, Odessa\, MO\, 64076\, United States
CATEGORIES:Crafts,Pre-Teen,Pre-Teens,Teen,Teens
END:VEVENT
BEGIN:VEVENT
DTSTART;TZID=America/New_York:20240928T100000
DTEND;TZID=America/New_York:20240928T110000
DTSTAMP:20260425T080617
CREATED:20240822T194050Z
LAST-MODIFIED:20240822T194050Z
UID:10008217-1727517600-1727521200@www.trailslibrary.org
SUMMARY:Crafty Family Fun - Warrensburg
DESCRIPTION:All Ages: Join us to make a fun craft.
URL:https://www.trailslibrary.org/event/crafty-family-fun-warrensburg-6/
LOCATION:Warrensburg Branch\, 432 N. Holden\, Warrensburg\, Missouri\, 64093\, United States
CATEGORIES:Adult,Adults,Crafts,senior,Seniors
END:VEVENT
BEGIN:VEVENT
DTSTART;TZID=America/New_York:20241001T180000
DTEND;TZID=America/New_York:20241001T193000
DTSTAMP:20260425T080617
CREATED:20240822T185354Z
LAST-MODIFIED:20240822T185354Z
UID:10008080-1727805600-1727811000@www.trailslibrary.org
SUMMARY:Let's Unwind - Lexington
DESCRIPTION:Ages 19+ REGISTRATION REQUIRED: You can destress with a homemade salt scrub made with natural ingredients. A great addition to your self-care practices!
URL:https://www.trailslibrary.org/event/lets-unwind-lexington/
LOCATION:Lexington Branch\, 1008 Main Street\, Lexington\, MO\, 64067\, United States
CATEGORIES:Adult,Adults,Crafts,senior,Seniors
END:VEVENT
BEGIN:VEVENT
DTSTART;TZID=America/New_York:20241002T173000
DTEND;TZID=America/New_York:20241002T183000
DTSTAMP:20260425T080617
CREATED:20240822T194106Z
LAST-MODIFIED:20240822T194106Z
UID:10008224-1727890200-1727893800@www.trailslibrary.org
SUMMARY:Halloween Jars - Warrensburg
DESCRIPTION:Ages 19+ REGISTRATION REQUIRED: Create spooky decorations while upcycling used plastic bottles.
URL:https://www.trailslibrary.org/event/halloween-jars-warrensburg/
LOCATION:Warrensburg Branch\, 432 N. Holden\, Warrensburg\, Missouri\, 64093\, United States
CATEGORIES:Adult,Adults,Crafts,senior,Seniors
END:VEVENT
BEGIN:VEVENT
DTSTART;TZID=America/New_York:20241003T140000
DTEND;TZID=America/New_York:20241003T160000
DTSTAMP:20260425T080617
CREATED:20240822T210435Z
LAST-MODIFIED:20240822T210435Z
UID:10008345-1727964000-1727971200@www.trailslibrary.org
SUMMARY:Halloween Spell Book Part 2 - Knob Noster
DESCRIPTION:Ages 19+ REGISTRATION REQUIRED: Part 2: Make it spooky\, make it creepy\, make it fun! Make a Halloween spellbook however you like!
URL:https://www.trailslibrary.org/event/halloween-spell-book-part-2-knob-noster/
LOCATION:Knob Noster Branch\, 202 N. Adams\, Knob Noster\, MO\, 65336\, United States
CATEGORIES:Adult,Adults,Crafts,senior,Seniors
END:VEVENT
BEGIN:VEVENT
DTSTART;TZID=America/New_York:20241004T150000
DTEND;TZID=America/New_York:20241004T163000
DTSTAMP:20260425T080617
CREATED:20240822T201441Z
LAST-MODIFIED:20240822T201441Z
UID:10008318-1728054000-1728059400@www.trailslibrary.org
SUMMARY:Tea Blending - Warrensburg
DESCRIPTION:Ages 19+: Would you like a spot of tea? Come in and create your own unique blend!
URL:https://www.trailslibrary.org/event/tea-blending-warrensburg/
LOCATION:Warrensburg Branch\, 432 N. Holden\, Warrensburg\, Missouri\, 64093\, United States
CATEGORIES:Adult,Adults,Crafts,senior,Seniors
END:VEVENT
BEGIN:VEVENT
DTSTART;TZID=America/New_York:20241008T150000
DTEND;TZID=America/New_York:20241008T150000
DTSTAMP:20260425T080617
CREATED:20240822T171311Z
LAST-MODIFIED:20240822T171311Z
UID:10008014-1728399600-1728399600@www.trailslibrary.org
SUMMARY:Victorian Halloween Vignettes - Holden
DESCRIPTION:Ages 19+ REGISTRATION REQUIRED: Join us to make three dimensional Victorian Halloween Vignettes and Scenes to decorate for the holidays!
URL:https://www.trailslibrary.org/event/victorian-halloween-vignettes-holden/
LOCATION:Holden Branch\, 207 S. Main\, Holden\, MO\, 64040\, United States
CATEGORIES:Adult,Adults,Crafts,senior,Seniors
END:VEVENT
BEGIN:VEVENT
DTSTART;TZID=America/New_York:20241008T160000
DTEND;TZID=America/New_York:20241008T160000
DTSTAMP:20260425T080617
CREATED:20240822T171312Z
LAST-MODIFIED:20240822T171312Z
UID:10008015-1728403200-1728403200@www.trailslibrary.org
SUMMARY:Victorian Halloween Vignettes - Holden
DESCRIPTION:Ages 13-18 REGISTRATION REQUIRED: Join us to make three dimensional Victorian Halloween Vignettes and Scenes to decorate for the holidays!
URL:https://www.trailslibrary.org/event/victorian-halloween-vignettes-holden-2/
LOCATION:Holden Branch\, 207 S. Main\, Holden\, MO\, 64040\, United States
CATEGORIES:Crafts,Teen,Teens
END:VEVENT
BEGIN:VEVENT
DTSTART;TZID=America/New_York:20241010T153000
DTEND;TZID=America/New_York:20241010T170000
DTSTAMP:20260425T080617
CREATED:20240822T185352Z
LAST-MODIFIED:20240822T185352Z
UID:10008076-1728574200-1728579600@www.trailslibrary.org
SUMMARY:Kids Club - Lexington
DESCRIPTION:Ages 6-12: If you like crafts\, games and fun science activites (STEAM) then this club is for you. Snack provided. Bring a friend for more FUN!
URL:https://www.trailslibrary.org/event/kids-club-lexington-11/
LOCATION:Lexington Branch\, 1008 Main Street\, Lexington\, MO\, 64067\, United States
CATEGORIES:Children,Crafts,Kids
END:VEVENT
BEGIN:VEVENT
DTSTART;TZID=America/New_York:20241011T100000
DTEND;TZID=America/New_York:20241011T110000
DTSTAMP:20260425T080617
CREATED:20240822T163556Z
LAST-MODIFIED:20240822T163556Z
UID:10007935-1728640800-1728644400@www.trailslibrary.org
SUMMARY:Needle Stories - Corder
DESCRIPTION:Ages 13+: Bring your project (crocheting\, knitting\, sewing\, etc.) and spend time with fellow hobbyists. Someone will be on hand to teach crochet if you would like to learn.
URL:https://www.trailslibrary.org/event/needle-stories-corder-15/
LOCATION:Corder Branch\, 221 N. Lafayette\, Corder\, MO\, 64021\, United States
CATEGORIES:Adult,Adults,Crafts,preteens,senior,Seniors,Teen,Teens,Youth
END:VEVENT
END:VCALENDAR