BEGIN:VCALENDAR
VERSION:2.0
PRODID:-//Trails Regional Library - ECPv6.15.20//NONSGML v1.0//EN
CALSCALE:GREGORIAN
METHOD:PUBLISH
X-WR-CALNAME:Trails Regional Library
X-ORIGINAL-URL:https://www.trailslibrary.org
X-WR-CALDESC:Events for Trails Regional Library
REFRESH-INTERVAL;VALUE=DURATION:PT1H
X-Robots-Tag:noindex
X-PUBLISHED-TTL:PT1H
BEGIN:VTIMEZONE
TZID:America/New_York
BEGIN:DAYLIGHT
TZOFFSETFROM:-0500
TZOFFSETTO:-0400
TZNAME:EDT
DTSTART:20230312T070000
END:DAYLIGHT
BEGIN:STANDARD
TZOFFSETFROM:-0400
TZOFFSETTO:-0500
TZNAME:EST
DTSTART:20231105T060000
END:STANDARD
BEGIN:DAYLIGHT
TZOFFSETFROM:-0500
TZOFFSETTO:-0400
TZNAME:EDT
DTSTART:20240310T070000
END:DAYLIGHT
BEGIN:STANDARD
TZOFFSETFROM:-0400
TZOFFSETTO:-0500
TZNAME:EST
DTSTART:20241103T060000
END:STANDARD
BEGIN:DAYLIGHT
TZOFFSETFROM:-0500
TZOFFSETTO:-0400
TZNAME:EDT
DTSTART:20250309T070000
END:DAYLIGHT
BEGIN:STANDARD
TZOFFSETFROM:-0400
TZOFFSETTO:-0500
TZNAME:EST
DTSTART:20251102T060000
END:STANDARD
END:VTIMEZONE
BEGIN:VEVENT
DTSTART;TZID=America/New_York:20240627T153000
DTEND;TZID=America/New_York:20240627T153000
DTSTAMP:20260425T061515
CREATED:20240520T192909Z
LAST-MODIFIED:20240520T192909Z
UID:10007520-1719502200-1719502200@www.trailslibrary.org
SUMMARY:Kid's Club - Lexington
DESCRIPTION:Ages 6-12: If you like crafts\, games\, and fun science activites (STEAM) then this club is for you. Snack provided. Bring a friend for more FUN!
URL:https://www.trailslibrary.org/event/kids-club-lexington-9/
LOCATION:Lexington Branch\, 1008 Main Street\, Lexington\, MO\, 64067\, United States
CATEGORIES:Children,Crafts,Kids,STEAM,Youth
END:VEVENT
BEGIN:VEVENT
DTSTART;TZID=America/New_York:20240628T100000
DTEND;TZID=America/New_York:20240628T100000
DTSTAMP:20260425T061515
CREATED:20240521T143317Z
LAST-MODIFIED:20240521T143317Z
UID:10007765-1719568800-1719568800@www.trailslibrary.org
SUMMARY:Adventure Storytime - Leeton
DESCRIPTION:Ages 6-12: Storytimes are for building reading skills\, making friends and having fun!  Our Summer Reading series will include crafts and activities related to our theme “Adventure Begins at the Library.”
URL:https://www.trailslibrary.org/event/adventure-storytime-leeton-4/
LOCATION:Leeton Express Branch\, 500 N. Main\, Leeton\, MO\, 64761\, United States
CATEGORIES:Children,Crafts,Kids,Storytime
END:VEVENT
BEGIN:VEVENT
DTSTART;TZID=America/New_York:20240701T100000
DTEND;TZID=America/New_York:20240701T100000
DTSTAMP:20260425T061515
CREATED:20240520T194205Z
LAST-MODIFIED:20240520T194205Z
UID:10007589-1719828000-1719828000@www.trailslibrary.org
SUMMARY:Little Adventure Storytime - Waverly
DESCRIPTION:Ages 0-5: Bring your little ones for a morning of reading\, crafting\, and more!
URL:https://www.trailslibrary.org/event/little-adventure-storytime-waverly-5/
LOCATION:Waverly Branch\, 203 E. Kelling\, Waverly\, MO\, 64096\, United States
CATEGORIES:Children,Crafts,Kids,Pre-School,Preschool,Storytime,Toddlers
END:VEVENT
BEGIN:VEVENT
DTSTART;TZID=America/New_York:20240703T100000
DTEND;TZID=America/New_York:20240703T100000
DTSTAMP:20260425T061515
CREATED:20240520T192212Z
LAST-MODIFIED:20240520T192212Z
UID:10007478-1720000800-1720000800@www.trailslibrary.org
SUMMARY:Storytime - Holden
DESCRIPTION:Ages 0-5: Come listen to a story at the library and do a craft.
URL:https://www.trailslibrary.org/event/storytime-holden-117/
LOCATION:Holden Branch\, 207 S. Main\, Holden\, MO\, 64040\, United States
CATEGORIES:Children,Crafts,Kids,Preschool,Storytime
END:VEVENT
BEGIN:VEVENT
DTSTART;TZID=America/New_York:20240705T100000
DTEND;TZID=America/New_York:20240705T100000
DTSTAMP:20260425T061515
CREATED:20240521T143317Z
LAST-MODIFIED:20240521T143317Z
UID:10007766-1720173600-1720173600@www.trailslibrary.org
SUMMARY:Adventure Storytime - Leeton
DESCRIPTION:Ages 6-12: Storytimes are for building reading skills\, making friends and having fun!  Our Summer Reading series will include crafts and activities related to our theme “Adventure Begins at the Library.”
URL:https://www.trailslibrary.org/event/adventure-storytime-leeton-5/
LOCATION:Leeton Express Branch\, 500 N. Main\, Leeton\, MO\, 64761\, United States
CATEGORIES:Children,Crafts,Kids,Storytime
END:VEVENT
BEGIN:VEVENT
DTSTART;TZID=America/New_York:20240708T100000
DTEND;TZID=America/New_York:20240708T100000
DTSTAMP:20260425T061515
CREATED:20240520T194206Z
LAST-MODIFIED:20240520T194206Z
UID:10007590-1720432800-1720432800@www.trailslibrary.org
SUMMARY:Little Adventure Storytime - Waverly
DESCRIPTION:Ages 0-5: Bring your little ones for a morning of reading\, crafting\, and more!
URL:https://www.trailslibrary.org/event/little-adventure-storytime-waverly-6/
LOCATION:Waverly Branch\, 203 E. Kelling\, Waverly\, MO\, 64096\, United States
CATEGORIES:Children,Crafts,Kids,Pre-School,Preschool,Storytime,Toddlers
END:VEVENT
BEGIN:VEVENT
DTSTART;TZID=America/New_York:20240708T160000
DTEND;TZID=America/New_York:20240708T170000
DTSTAMP:20260425T061515
CREATED:20240520T193709Z
LAST-MODIFIED:20240520T193709Z
UID:10007563-1720454400-1720458000@www.trailslibrary.org
SUMMARY:Garden Fun! - Odessa
DESCRIPTION:Ages 5-8: Make your own caterpillar and watch his hair grow.
URL:https://www.trailslibrary.org/event/garden-fun-odessa/
LOCATION:Odessa Branch\, 107 W. Mason\, Odessa\, MO\, 64076\, United States
CATEGORIES:Children,Crafts,Kids
END:VEVENT
BEGIN:VEVENT
DTSTART;TZID=America/New_York:20240709T150000
DTEND;TZID=America/New_York:20240709T160000
DTSTAMP:20260425T061515
CREATED:20240520T192230Z
LAST-MODIFIED:20240520T192230Z
UID:10007491-1720537200-1720540800@www.trailslibrary.org
SUMMARY:Sea Shell Craft - Holden
DESCRIPTION:Ages 19+ REGISTRATION Required: Create a wall art piece out of seashells and paint.
URL:https://www.trailslibrary.org/event/sea-shell-craft-holden-2/
LOCATION:Holden Branch\, 207 S. Main\, Holden\, MO\, 64040\, United States
CATEGORIES:Adult,Adults,Crafts,senior,Seniors
END:VEVENT
BEGIN:VEVENT
DTSTART;TZID=America/New_York:20240709T160000
DTEND;TZID=America/New_York:20240709T170000
DTSTAMP:20260425T061515
CREATED:20240520T192215Z
LAST-MODIFIED:20240520T192215Z
UID:10007485-1720540800-1720544400@www.trailslibrary.org
SUMMARY:Sea Shell Craft - Holden
DESCRIPTION:Ages 13-18 REGISTRATION Required: Create a wall art piece out of seashells and paint.
URL:https://www.trailslibrary.org/event/sea-shell-craft-holden/
LOCATION:Holden Branch\, 207 S. Main\, Holden\, MO\, 64040\, United States
CATEGORIES:Crafts,Teen,Teens
END:VEVENT
BEGIN:VEVENT
DTSTART;TZID=America/New_York:20240710T100000
DTEND;TZID=America/New_York:20240710T100000
DTSTAMP:20260425T061515
CREATED:20240520T192212Z
LAST-MODIFIED:20240520T192212Z
UID:10007479-1720605600-1720605600@www.trailslibrary.org
SUMMARY:Storytime - Holden
DESCRIPTION:Ages 0-5: Come listen to a story at the library and do a craft.
URL:https://www.trailslibrary.org/event/storytime-holden-118/
LOCATION:Holden Branch\, 207 S. Main\, Holden\, MO\, 64040\, United States
CATEGORIES:Children,Crafts,Kids,Preschool,Storytime
END:VEVENT
BEGIN:VEVENT
DTSTART;TZID=America/New_York:20240710T140000
DTEND;TZID=America/New_York:20240710T140000
DTSTAMP:20260425T061515
CREATED:20240520T194237Z
LAST-MODIFIED:20240520T194237Z
UID:10007602-1720620000-1720620000@www.trailslibrary.org
SUMMARY:Build a Camp
DESCRIPTION:Ages 5-8: Come craft a camp site out of crafting materials.
URL:https://www.trailslibrary.org/event/build-a-camp/
LOCATION:Waverly Branch\, 203 E. Kelling\, Waverly\, MO\, 64096\, United States
CATEGORIES:Children,Crafts,Kids
END:VEVENT
BEGIN:VEVENT
DTSTART;TZID=America/New_York:20240710T140000
DTEND;TZID=America/New_York:20240710T150000
DTSTAMP:20260425T061515
CREATED:20240521T152957Z
LAST-MODIFIED:20240521T152957Z
UID:10007825-1720620000-1720623600@www.trailslibrary.org
SUMMARY:School-Age Storytime - Knob Noster
DESCRIPTION:Ages 6-12: Help your child develop a love for literacy with stories & a craft!
URL:https://www.trailslibrary.org/event/school-age-storytime-knob-noster-2/
LOCATION:Knob Noster Branch\, 202 N. Adams\, Knob Noster\, MO\, 65336\, United States
CATEGORIES:Children,Crafts,Kids,Storytime
END:VEVENT
BEGIN:VEVENT
DTSTART;TZID=America/New_York:20240711T140000
DTEND;TZID=America/New_York:20240711T140000
DTSTAMP:20260425T061515
CREATED:20240520T193609Z
LAST-MODIFIED:20240520T193609Z
UID:10007542-1720706400-1720706400@www.trailslibrary.org
SUMMARY:Culture Shock! - Odessa
DESCRIPTION:Ages 13-18: Journey through the mythologies and histories of different cultures around the world by making crafts or playing games at the library. This week’s theme is Chinese Mythology!
URL:https://www.trailslibrary.org/event/culture-shock-odessa/
LOCATION:Odessa Branch\, 107 W. Mason\, Odessa\, MO\, 64076\, United States
CATEGORIES:Crafts,Pre-Teen,Pre-Teens,Teen,Teens
END:VEVENT
BEGIN:VEVENT
DTSTART;TZID=America/New_York:20240711T140000
DTEND;TZID=America/New_York:20240711T160000
DTSTAMP:20260425T061515
CREATED:20240521T143716Z
LAST-MODIFIED:20240521T143716Z
UID:10007786-1720706400-1720713600@www.trailslibrary.org
SUMMARY:Trading Card Club - Leeton
DESCRIPTION:Ages 6-12 REGISTRATION Required: Trading card fans\, join Mrs. Schuler for trading card fun to include: playing\, chatting\, trading\, and more!
URL:https://www.trailslibrary.org/event/trading-card-club-leeton-7/
LOCATION:Leeton Express Branch\, 500 N. Main\, Leeton\, MO\, 64761\, United States
CATEGORIES:Children,Crafts,Kids
END:VEVENT
BEGIN:VEVENT
DTSTART;TZID=America/New_York:20240712T100000
DTEND;TZID=America/New_York:20240712T100000
DTSTAMP:20260425T061515
CREATED:20240521T143318Z
LAST-MODIFIED:20240521T143318Z
UID:10007767-1720778400-1720778400@www.trailslibrary.org
SUMMARY:Adventure Storytime - Leeton
DESCRIPTION:Ages 6-12: Storytimes are for building reading skills\, making friends and having fun!  Our Summer Reading series will include crafts and activities related to our theme “Adventure Begins at the Library.”
URL:https://www.trailslibrary.org/event/adventure-storytime-leeton-6/
LOCATION:Leeton Express Branch\, 500 N. Main\, Leeton\, MO\, 64761\, United States
CATEGORIES:Children,Crafts,Kids,Storytime
END:VEVENT
BEGIN:VEVENT
DTSTART;TZID=America/New_York:20240712T100000
DTEND;TZID=America/New_York:20240712T113000
DTSTAMP:20260425T061515
CREATED:20240521T152824Z
LAST-MODIFIED:20240521T152824Z
UID:10007823-1720778400-1720783800@www.trailslibrary.org
SUMMARY:Pool Noodle Derby - Knob Noster
DESCRIPTION:Ages 6-12 REGISTRATION Required: Come make a pool noodle pony with us and then we can race to see whose is fastest!
URL:https://www.trailslibrary.org/event/pool-noodle-derby-knob-noster/
LOCATION:Knob Noster Branch\, 202 N. Adams\, Knob Noster\, MO\, 65336\, United States
CATEGORIES:Children,Crafts,Kids
END:VEVENT
BEGIN:VEVENT
DTSTART;TZID=America/New_York:20240713T100000
DTEND;TZID=America/New_York:20240713T110000
DTSTAMP:20260425T061515
CREATED:20240520T191922Z
LAST-MODIFIED:20240520T191922Z
UID:10007476-1720864800-1720868400@www.trailslibrary.org
SUMMARY:Super Saturdays! - Corder
DESCRIPTION:Ages 6-18: Join us for an exciting time doing crafts or playing games.
URL:https://www.trailslibrary.org/event/super-saturdays-corder-2/
LOCATION:Corder Branch\, 221 N. Lafayette\, Corder\, MO\, 64021\, United States
CATEGORIES:Children,Crafts,Kids,Pre-Teen,Pre-Teens,Teen,Teens,Youth
END:VEVENT
BEGIN:VEVENT
DTSTART;TZID=America/New_York:20240715T100000
DTEND;TZID=America/New_York:20240715T100000
DTSTAMP:20260425T061515
CREATED:20240520T194206Z
LAST-MODIFIED:20240520T194206Z
UID:10007591-1721037600-1721037600@www.trailslibrary.org
SUMMARY:Little Adventure Storytime - Waverly
DESCRIPTION:Ages 0-5: Bring your little ones for a morning of reading\, crafting\, and more!
URL:https://www.trailslibrary.org/event/little-adventure-storytime-waverly-7/
LOCATION:Waverly Branch\, 203 E. Kelling\, Waverly\, MO\, 64096\, United States
CATEGORIES:Children,Crafts,Kids,Pre-School,Preschool,Storytime,Toddlers
END:VEVENT
BEGIN:VEVENT
DTSTART;TZID=America/New_York:20240715T130000
DTEND;TZID=America/New_York:20240715T140000
DTSTAMP:20260425T061515
CREATED:20240520T191837Z
LAST-MODIFIED:20240520T191837Z
UID:10007462-1721048400-1721052000@www.trailslibrary.org
SUMMARY:Crafternoon - Corder
DESCRIPTION:Ages 19+ REGISTRATION Required: Learn the art of Adventure/Bucket List Journaling.
URL:https://www.trailslibrary.org/event/crafternoon-corder-2/
LOCATION:Corder Branch\, 221 N. Lafayette\, Corder\, MO\, 64021\, United States
CATEGORIES:Adult,Adults,Crafts,senior,Seniors
END:VEVENT
BEGIN:VEVENT
DTSTART;TZID=America/New_York:20240715T160000
DTEND;TZID=America/New_York:20240715T170000
DTSTAMP:20260425T061515
CREATED:20240520T193851Z
LAST-MODIFIED:20240520T193851Z
UID:10007571-1721059200-1721062800@www.trailslibrary.org
SUMMARY:Wild World of Science - Odessa
DESCRIPTION:Ages 9-12: Join us as we make Magnetic Slime.
URL:https://www.trailslibrary.org/event/wild-world-of-science-odessa/
LOCATION:Odessa Branch\, 107 W. Mason\, Odessa\, MO\, 64076\, United States
CATEGORIES:Children,Crafts,Kids
END:VEVENT
BEGIN:VEVENT
DTSTART;TZID=America/New_York:20240716T173000
DTEND;TZID=America/New_York:20240716T183000
DTSTAMP:20260425T061515
CREATED:20240520T193654Z
LAST-MODIFIED:20240520T193654Z
UID:10007558-1721151000-1721154600@www.trailslibrary.org
SUMMARY:Stamptastic! - Odessa
DESCRIPTION:Ages 19+: Try your hand at carving your own stamp. Use a template\, or create an original design!
URL:https://www.trailslibrary.org/event/stamptastic-odessa/
LOCATION:Odessa Branch\, 107 W. Mason\, Odessa\, MO\, 64076\, United States
CATEGORIES:Adult,Adults,Crafts,senior,Seniors
END:VEVENT
BEGIN:VEVENT
DTSTART;TZID=America/New_York:20240717T100000
DTEND;TZID=America/New_York:20240717T100000
DTSTAMP:20260425T061515
CREATED:20240520T192213Z
LAST-MODIFIED:20240520T192213Z
UID:10007480-1721210400-1721210400@www.trailslibrary.org
SUMMARY:Storytime - Holden
DESCRIPTION:Ages 0-5: Come listen to a story at the library and do a craft.
URL:https://www.trailslibrary.org/event/storytime-holden-119/
LOCATION:Holden Branch\, 207 S. Main\, Holden\, MO\, 64040\, United States
CATEGORIES:Children,Crafts,Kids,Preschool,Storytime
END:VEVENT
BEGIN:VEVENT
DTSTART;TZID=America/New_York:20240718T140000
DTEND;TZID=America/New_York:20240718T140000
DTSTAMP:20260425T061515
CREATED:20240520T193624Z
LAST-MODIFIED:20240520T193624Z
UID:10007546-1721311200-1721311200@www.trailslibrary.org
SUMMARY:Culture Shock! - Odessa
DESCRIPTION:Ages 13-18 REGISTRATION Required: Journey through the mythologies and histories of different cultures around the world by making crafts or playing games at the library. This week’s theme is Roman Mythology!
URL:https://www.trailslibrary.org/event/culture-shock-odessa-5/
LOCATION:Odessa Branch\, 107 W. Mason\, Odessa\, MO\, 64076\, United States
CATEGORIES:Crafts,Pre-Teen,Pre-Teens,Teen,Teens
END:VEVENT
BEGIN:VEVENT
DTSTART;TZID=America/New_York:20240718T140000
DTEND;TZID=America/New_York:20240718T160000
DTSTAMP:20260425T061515
CREATED:20240521T143730Z
LAST-MODIFIED:20240521T143730Z
UID:10007787-1721311200-1721318400@www.trailslibrary.org
SUMMARY:Trading Card Club - Leeton
DESCRIPTION:Ages 6-12 REGISTRATION Required: Trading card fans\, join Mrs. Schuler for trading card fun to include: playing\, chatting\, trading\, and more!
URL:https://www.trailslibrary.org/event/trading-card-club-leeton-8/
LOCATION:Leeton Express Branch\, 500 N. Main\, Leeton\, MO\, 64761\, United States
CATEGORIES:Children,Crafts,Kids
END:VEVENT
BEGIN:VEVENT
DTSTART;TZID=America/New_York:20240719T100000
DTEND;TZID=America/New_York:20240719T100000
DTSTAMP:20260425T061515
CREATED:20240521T143319Z
LAST-MODIFIED:20240521T143319Z
UID:10007768-1721383200-1721383200@www.trailslibrary.org
SUMMARY:Adventure Storytime - Leeton
DESCRIPTION:Ages 6-12: Storytimes are for building reading skills\, making friends and having fun!  Our Summer Reading series will include crafts and activities related to our theme “Adventure Begins at the Library.”
URL:https://www.trailslibrary.org/event/adventure-storytime-leeton-7/
LOCATION:Leeton Express Branch\, 500 N. Main\, Leeton\, MO\, 64761\, United States
CATEGORIES:Children,Crafts,Kids,Storytime
END:VEVENT
BEGIN:VEVENT
DTSTART;TZID=America/New_York:20240719T130000
DTEND;TZID=America/New_York:20240719T150000
DTSTAMP:20260425T061515
CREATED:20240520T191838Z
LAST-MODIFIED:20240520T191838Z
UID:10007465-1721394000-1721401200@www.trailslibrary.org
SUMMARY:Night Sky Paint-Along - Corder
DESCRIPTION:Ages 13+ REGISTRATION Required: Learn some basic painting skills while you follow along painting a beautiful night sky with our instructor.
URL:https://www.trailslibrary.org/event/night-sky-paint-along-corder/
LOCATION:Corder Branch\, 221 N. Lafayette\, Corder\, MO\, 64021\, United States
CATEGORIES:Crafts,Pre-Teen,Pre-Teens,Teen,Teens,Youth
END:VEVENT
BEGIN:VEVENT
DTSTART;TZID=America/New_York:20240720T110000
DTEND;TZID=America/New_York:20240720T130000
DTSTAMP:20260425T061515
CREATED:20240520T192245Z
LAST-MODIFIED:20240520T192245Z
UID:10007496-1721473200-1721480400@www.trailslibrary.org
SUMMARY:Super Saturdays - Holden
DESCRIPTION:Ages 6-12: Super Saturdays are tons of Fun for Children Ages 6-12\, come enjoy crafts\, card games\, and fun galore!
URL:https://www.trailslibrary.org/event/super-saturdays-holden-11/
LOCATION:Holden Branch\, 207 S. Main\, Holden\, MO\, 64040\, United States
CATEGORIES:Children,Crafts,Kids
END:VEVENT
BEGIN:VEVENT
DTSTART;TZID=America/New_York:20240722T100000
DTEND;TZID=America/New_York:20240722T100000
DTSTAMP:20260425T061515
CREATED:20240520T194204Z
LAST-MODIFIED:20240520T194204Z
UID:10007585-1721642400-1721642400@www.trailslibrary.org
SUMMARY:Little Adventure Storytime - Waverly
DESCRIPTION:Ages 0-5: Bring your little ones for a morning of reading\, crafting and more!
URL:https://www.trailslibrary.org/event/little-adventure-storytime-waverly/
LOCATION:Waverly Branch\, 203 E. Kelling\, Waverly\, MO\, 64096\, United States
CATEGORIES:Children,Crafts,Kids,Pre-School,Preschool,Storytime,Toddlers
END:VEVENT
BEGIN:VEVENT
DTSTART;TZID=America/New_York:20240722T140000
DTEND;TZID=America/New_York:20240722T140000
DTSTAMP:20260425T061515
CREATED:20240520T194237Z
LAST-MODIFIED:20240520T194237Z
UID:10007603-1721656800-1721656800@www.trailslibrary.org
SUMMARY:Senior Conversations
DESCRIPTION:Ages 55+: Join us for discussions on current events\, legacy\, your favorite things\, and more!
URL:https://www.trailslibrary.org/event/senior-conversations/
LOCATION:Waverly Branch\, 203 E. Kelling\, Waverly\, MO\, 64096\, United States
CATEGORIES:Children,Crafts,Kids
END:VEVENT
BEGIN:VEVENT
DTSTART;TZID=America/New_York:20240722T160000
DTEND;TZID=America/New_York:20240722T160000
DTSTAMP:20260425T061515
CREATED:20240520T193709Z
LAST-MODIFIED:20240520T193709Z
UID:10007560-1721664000-1721664000@www.trailslibrary.org
SUMMARY:Up Up and Away - Odessa
DESCRIPTION:Ages 5-8 REGISTRATION Required: Join us as we explore Sky Lanterns and make one that lights up!
URL:https://www.trailslibrary.org/event/up-up-and-away-odessa/
LOCATION:Odessa Branch\, 107 W. Mason\, Odessa\, MO\, 64076\, United States
CATEGORIES:Children,Crafts,Kids,STEAM
END:VEVENT
END:VCALENDAR