BEGIN:VCALENDAR
VERSION:2.0
PRODID:-//Trails Regional Library - ECPv6.15.20//NONSGML v1.0//EN
CALSCALE:GREGORIAN
METHOD:PUBLISH
X-WR-CALNAME:Trails Regional Library
X-ORIGINAL-URL:https://www.trailslibrary.org
X-WR-CALDESC:Events for Trails Regional Library
REFRESH-INTERVAL;VALUE=DURATION:PT1H
X-Robots-Tag:noindex
X-PUBLISHED-TTL:PT1H
BEGIN:VTIMEZONE
TZID:America/New_York
BEGIN:DAYLIGHT
TZOFFSETFROM:-0500
TZOFFSETTO:-0400
TZNAME:EDT
DTSTART:20230312T070000
END:DAYLIGHT
BEGIN:STANDARD
TZOFFSETFROM:-0400
TZOFFSETTO:-0500
TZNAME:EST
DTSTART:20231105T060000
END:STANDARD
BEGIN:DAYLIGHT
TZOFFSETFROM:-0500
TZOFFSETTO:-0400
TZNAME:EDT
DTSTART:20240310T070000
END:DAYLIGHT
BEGIN:STANDARD
TZOFFSETFROM:-0400
TZOFFSETTO:-0500
TZNAME:EST
DTSTART:20241103T060000
END:STANDARD
BEGIN:DAYLIGHT
TZOFFSETFROM:-0500
TZOFFSETTO:-0400
TZNAME:EDT
DTSTART:20250309T070000
END:DAYLIGHT
BEGIN:STANDARD
TZOFFSETFROM:-0400
TZOFFSETTO:-0500
TZNAME:EST
DTSTART:20251102T060000
END:STANDARD
BEGIN:DAYLIGHT
TZOFFSETFROM:-0500
TZOFFSETTO:-0400
TZNAME:EDT
DTSTART:20260308T070000
END:DAYLIGHT
BEGIN:STANDARD
TZOFFSETFROM:-0400
TZOFFSETTO:-0500
TZNAME:EST
DTSTART:20261101T060000
END:STANDARD
END:VTIMEZONE
BEGIN:VEVENT
DTSTART;TZID=America/New_York:20241104T160000
DTEND;TZID=America/New_York:20241104T164500
DTSTAMP:20260423T183523
CREATED:20240822T211018Z
LAST-MODIFIED:20240822T211018Z
UID:10008381-1730736000-1730738700@www.trailslibrary.org
SUMMARY:Celebrate Gratitude - Odessa
DESCRIPTION:Ages 5-8: Show your gratitude as we make washi tape magnetic photo frames.
URL:https://www.trailslibrary.org/event/celebrate-gratitude-odessa/
LOCATION:Odessa Branch\, 107 W. Mason\, Odessa\, MO\, 64076\, United States
CATEGORIES:Children,Crafts,Kids
END:VEVENT
BEGIN:VEVENT
DTSTART;TZID=America/New_York:20241107T140000
DTEND;TZID=America/New_York:20241107T160000
DTSTAMP:20260423T183523
CREATED:20240822T210506Z
LAST-MODIFIED:20240822T210506Z
UID:10008357-1730988000-1730995200@www.trailslibrary.org
SUMMARY:Silk Scarves - Knob Noster
DESCRIPTION:Ages 19+ REGISTRATION REQUIRED: Make a lovely tie dyed silk scarf with alcohol ink! Keep or give it as a gift!
URL:https://www.trailslibrary.org/event/silk-scarves-knob-noster/
LOCATION:Knob Noster Branch\, 202 N. Adams\, Knob Noster\, MO\, 65336\, United States
CATEGORIES:Adult,Adults,Crafts,senior,Seniors
END:VEVENT
BEGIN:VEVENT
DTSTART;TZID=America/New_York:20241112T150000
DTEND;TZID=America/New_York:20241112T150000
DTSTAMP:20260423T183523
CREATED:20240822T171311Z
LAST-MODIFIED:20240822T171311Z
UID:10008012-1731423600-1731423600@www.trailslibrary.org
SUMMARY:Thanksgiving Turkey Doorhanger - Holden
DESCRIPTION:Ages 19+ REGISTRATION REQUIRED: We will be painting decorative woodcut turkey doorhangers.
URL:https://www.trailslibrary.org/event/thanksgiving-turkey-doorhanger-holden/
LOCATION:Holden Branch\, 207 S. Main\, Holden\, MO\, 64040\, United States
CATEGORIES:Adult,Adults,Crafts,senior,Seniors
END:VEVENT
BEGIN:VEVENT
DTSTART;TZID=America/New_York:20241112T160000
DTEND;TZID=America/New_York:20241112T160000
DTSTAMP:20260423T183523
CREATED:20240822T171311Z
LAST-MODIFIED:20240822T171311Z
UID:10008013-1731427200-1731427200@www.trailslibrary.org
SUMMARY:Thanksgiving Turkey Doorhanger - Holden
DESCRIPTION:Ages 13-18 REGISTRATION REQUIRED: We will be painting decorative woodcut turkey doorhangers.
URL:https://www.trailslibrary.org/event/thanksgiving-turkey-doorhanger-holden-2/
LOCATION:Holden Branch\, 207 S. Main\, Holden\, MO\, 64040\, United States
CATEGORIES:Crafts,Teen,Teens
END:VEVENT
BEGIN:VEVENT
DTSTART;TZID=America/New_York:20241113T143000
DTEND;TZID=America/New_York:20241113T160000
DTSTAMP:20260423T183523
CREATED:20240822T210401Z
LAST-MODIFIED:20240822T210401Z
UID:10008330-1731508200-1731513600@www.trailslibrary.org
SUMMARY:Crafternoon - Knob Noster
DESCRIPTION:Ages 6-12: Join us every second Wednesday for early out while we do a fun new craft.
URL:https://www.trailslibrary.org/event/crafternoon-knob-noster-2/
LOCATION:Knob Noster Branch\, 202 N. Adams\, Knob Noster\, MO\, 65336\, United States
CATEGORIES:Children,Crafts,Kids
END:VEVENT
BEGIN:VEVENT
DTSTART;TZID=America/New_York:20241114T153000
DTEND;TZID=America/New_York:20241114T170000
DTSTAMP:20260423T183523
CREATED:20240822T185354Z
LAST-MODIFIED:20240822T185354Z
UID:10008078-1731598200-1731603600@www.trailslibrary.org
SUMMARY:Kids Club - Lexington
DESCRIPTION:Ages 6-12: If you like crafts\, games and fun science activites (STEAM) then this club is for you. Snack provided. Bring a friend for more FUN!
URL:https://www.trailslibrary.org/event/kids-club-lexington-13/
LOCATION:Lexington Branch\, 1008 Main Street\, Lexington\, MO\, 64067\, United States
CATEGORIES:Children,Crafts,Kids
END:VEVENT
BEGIN:VEVENT
DTSTART;TZID=America/New_York:20241118T173000
DTEND;TZID=America/New_York:20241118T183000
DTSTAMP:20260423T183523
CREATED:20240822T194022Z
LAST-MODIFIED:20240822T194022Z
UID:10008215-1731951000-1731954600@www.trailslibrary.org
SUMMARY:Craftastic  - Warrensburg
DESCRIPTION:Ages 19+ REGISTRATION REQUIRED: Join us as we make a tin can planter. Hang it on your door for perfect holiday decor or give it away as a gift.
URL:https://www.trailslibrary.org/event/craftastic-warrensburg-14/
LOCATION:Warrensburg Branch\, 432 N. Holden\, Warrensburg\, Missouri\, 64093\, United States
CATEGORIES:Adult,Adults,Crafts,preteens,senior,Seniors,Teen,Teens,Youth
END:VEVENT
BEGIN:VEVENT
DTSTART;TZID=America/New_York:20241119T170000
DTEND;TZID=America/New_York:20241119T170000
DTSTAMP:20260423T183523
CREATED:20240822T211203Z
LAST-MODIFIED:20240822T211203Z
UID:10008415-1732035600-1732035600@www.trailslibrary.org
SUMMARY:Soap Opera - Odessa
DESCRIPTION:Ages 19+: Learn how to make your own laundry soap!
URL:https://www.trailslibrary.org/event/soap-opera-odessa/
LOCATION:Odessa Branch\, 107 W. Mason\, Odessa\, MO\, 64076\, United States
CATEGORIES:Adult,Adults,Crafts,senior,Seniors
END:VEVENT
BEGIN:VEVENT
DTSTART;TZID=America/New_York:20241122T100000
DTEND;TZID=America/New_York:20241122T110000
DTSTAMP:20260423T183523
CREATED:20240822T163556Z
LAST-MODIFIED:20240822T163556Z
UID:10007936-1732269600-1732273200@www.trailslibrary.org
SUMMARY:Needle Stories - Corder
DESCRIPTION:Ages 13+: Bring your project (crocheting\, knitting\, sewing\, etc.) and spend time with fellow hobbyists. Someone will be on hand to teach crochet if you would like to learn.
URL:https://www.trailslibrary.org/event/needle-stories-corder-16/
LOCATION:Corder Branch\, 221 N. Lafayette\, Corder\, MO\, 64021\, United States
CATEGORIES:Adult,Adults,Crafts,preteens,senior,Seniors,Teen,Teens,Youth
END:VEVENT
BEGIN:VEVENT
DTSTART;TZID=America/New_York:20241123T100000
DTEND;TZID=America/New_York:20241123T100000
DTSTAMP:20260423T183523
CREATED:20240822T192739Z
LAST-MODIFIED:20240822T192739Z
UID:10008185-1732356000-1732356000@www.trailslibrary.org
SUMMARY:Thanksgiving Craft - Waverly
DESCRIPTION:All Ages: Come and make a Thanksgiving Craft.
URL:https://www.trailslibrary.org/event/thanksgiving-craft-waverly/
LOCATION:Waverly Branch\, 203 E. Kelling\, Waverly\, MO\, 64096\, United States
CATEGORIES:Adult,Adults,All Ages,Children,Crafts,Family,Kids,preteens,senior,Seniors,Teen,Teens,Youth
END:VEVENT
BEGIN:VEVENT
DTSTART;TZID=America/New_York:20241123T100000
DTEND;TZID=America/New_York:20241123T110000
DTSTAMP:20260423T183523
CREATED:20240822T194051Z
LAST-MODIFIED:20240822T194051Z
UID:10008219-1732356000-1732359600@www.trailslibrary.org
SUMMARY:Crafty Family Fun - Warrensburg
DESCRIPTION:All Ages: Join us to make a fun craft.
URL:https://www.trailslibrary.org/event/crafty-family-fun-warrensburg-8/
LOCATION:Warrensburg Branch\, 432 N. Holden\, Warrensburg\, Missouri\, 64093\, United States
CATEGORIES:Adult,Adults,Crafts,senior,Seniors
END:VEVENT
BEGIN:VEVENT
DTSTART;TZID=America/New_York:20241125T173000
DTEND;TZID=America/New_York:20241125T183000
DTSTAMP:20260423T183523
CREATED:20240822T195350Z
LAST-MODIFIED:20240822T195350Z
UID:10008256-1732555800-1732559400@www.trailslibrary.org
SUMMARY:Make\, Mingle & Munch - Warrensburg
DESCRIPTION:Ages 19+: Join us to create 90’s inspired crafts\, meet new friends and enjoy light refreshments.
URL:https://www.trailslibrary.org/event/make-mingle-munch-warrensburg-3/
LOCATION:Warrensburg Branch\, 432 N. Holden\, Warrensburg\, Missouri\, 64093\, United States
CATEGORIES:Adult,Adults,Crafts,senior,Seniors
END:VEVENT
BEGIN:VEVENT
DTSTART;TZID=America/New_York:20241202T140000
DTEND;TZID=America/New_York:20241202T150000
DTSTAMP:20260423T183523
CREATED:20240822T210435Z
LAST-MODIFIED:20240822T210435Z
UID:10008346-1733148000-1733151600@www.trailslibrary.org
SUMMARY:Holiday Frame Class - Knob Noster
DESCRIPTION:Ages 19+ REGISTRATION REQUIRED: Join us for this quick and easy holiday craft that you will love to display!
URL:https://www.trailslibrary.org/event/holiday-frame-class-knob-noster/
LOCATION:Knob Noster Branch\, 202 N. Adams\, Knob Noster\, MO\, 65336\, United States
CATEGORIES:Adult,Adults,Crafts,senior,Seniors
END:VEVENT
BEGIN:VEVENT
DTSTART;TZID=America/New_York:20241205T133000
DTEND;TZID=America/New_York:20241205T150000
DTSTAMP:20260423T183523
CREATED:20240822T185352Z
LAST-MODIFIED:20240822T185352Z
UID:10008075-1733405400-1733410800@www.trailslibrary.org
SUMMARY:It's a Wrap! - Lexington
DESCRIPTION:Ages 19+: Bring in two gifts you’d like to wrap and we’ll explore some new techniques.
URL:https://www.trailslibrary.org/event/its-a-wrap-lexington/
LOCATION:Lexington Branch\, 1008 Main Street\, Lexington\, MO\, 64067\, United States
CATEGORIES:Adult,Adults,Crafts,senior,Seniors
END:VEVENT
BEGIN:VEVENT
DTSTART;TZID=America/New_York:20241210T150000
DTEND;TZID=America/New_York:20241210T150000
DTSTAMP:20260423T183523
CREATED:20240822T170234Z
LAST-MODIFIED:20240822T170234Z
UID:10007977-1733842800-1733842800@www.trailslibrary.org
SUMMARY:Christmas Ornaments - Holden
DESCRIPTION:Ages 19+ REGISTRATION REQUIRED: Come make a variety of Christmas Ornaments!
URL:https://www.trailslibrary.org/event/christmas-ornaments-holden/
LOCATION:Holden Branch\, 207 S. Main\, Holden\, MO\, 64040\, United States
CATEGORIES:Adult,Adults,Crafts,senior,Seniors
END:VEVENT
BEGIN:VEVENT
DTSTART;TZID=America/New_York:20241210T160000
DTEND;TZID=America/New_York:20241210T160000
DTSTAMP:20260423T183523
CREATED:20240822T170234Z
LAST-MODIFIED:20240822T170234Z
UID:10007978-1733846400-1733846400@www.trailslibrary.org
SUMMARY:Christmas Ornaments - Holden
DESCRIPTION:Ages 13-18 REGISTRATION REQUIRED: Come make a variety of Christmas Ornaments!
URL:https://www.trailslibrary.org/event/christmas-ornaments-holden-2/
LOCATION:Holden Branch\, 207 S. Main\, Holden\, MO\, 64040\, United States
CATEGORIES:Crafts,Teen,Teens
END:VEVENT
BEGIN:VEVENT
DTSTART;TZID=America/New_York:20241211T143000
DTEND;TZID=America/New_York:20241211T160000
DTSTAMP:20260423T183523
CREATED:20240822T210402Z
LAST-MODIFIED:20240822T210402Z
UID:10008331-1733927400-1733932800@www.trailslibrary.org
SUMMARY:Crafternoon - Knob Noster
DESCRIPTION:Ages 6-12: Join us every second Wednesday for early out while we do a fun new craft.
URL:https://www.trailslibrary.org/event/crafternoon-knob-noster-3/
LOCATION:Knob Noster Branch\, 202 N. Adams\, Knob Noster\, MO\, 65336\, United States
CATEGORIES:Children,Crafts,Kids
END:VEVENT
BEGIN:VEVENT
DTSTART;TZID=America/New_York:20241212T153000
DTEND;TZID=America/New_York:20241212T170000
DTSTAMP:20260423T183523
CREATED:20240822T185354Z
LAST-MODIFIED:20240822T185354Z
UID:10008079-1734017400-1734022800@www.trailslibrary.org
SUMMARY:Kids Club - Lexington
DESCRIPTION:Ages 6-12: If you like crafts\, games and fun science activites (STEAM) then this club is for you. Snack provided. Bring a friend for more FUN!
URL:https://www.trailslibrary.org/event/kids-club-lexington-14/
LOCATION:Lexington Branch\, 1008 Main Street\, Lexington\, MO\, 64067\, United States
CATEGORIES:Children,Crafts,Kids
END:VEVENT
BEGIN:VEVENT
DTSTART;TZID=America/New_York:20241214T140000
DTEND;TZID=America/New_York:20241214T160000
DTSTAMP:20260423T183523
CREATED:20240822T201441Z
LAST-MODIFIED:20240822T201441Z
UID:10008319-1734184800-1734192000@www.trailslibrary.org
SUMMARY:Wrap & Chat - Warrensburg
DESCRIPTION:Ages 13+: Need a place to wrap gifts without interruption? Bring your supplies to the library and enjoy a cozy holiday atmosphere with refreshemnts as you get ready for the Big Day!
URL:https://www.trailslibrary.org/event/wrap-chat-warrensburg/
LOCATION:Warrensburg Branch\, 432 N. Holden\, Warrensburg\, Missouri\, 64093\, United States
CATEGORIES:Adult,Adults,Crafts,preteens,senior,Seniors,Teen,Teens,Youth
END:VEVENT
BEGIN:VEVENT
DTSTART;TZID=America/New_York:20241216T173000
DTEND;TZID=America/New_York:20241216T183000
DTSTAMP:20260423T183523
CREATED:20240822T194021Z
LAST-MODIFIED:20240822T194021Z
UID:10008213-1734370200-1734373800@www.trailslibrary.org
SUMMARY:Craftastic  - Warrensburg
DESCRIPTION:Ages 19+ REGISTRATION REQUIRED: Come paint a brick that resembles one of your favorite books. These can be used in your garden or as a shelf sitter.
URL:https://www.trailslibrary.org/event/craftastic-warrensburg-12/
LOCATION:Warrensburg Branch\, 432 N. Holden\, Warrensburg\, Missouri\, 64093\, United States
CATEGORIES:Adult,Adults,Crafts,preteens,senior,Seniors,Teen,Teens,Youth
END:VEVENT
BEGIN:VEVENT
DTSTART;TZID=America/New_York:20241220T100000
DTEND;TZID=America/New_York:20241220T110000
DTSTAMP:20260423T183523
CREATED:20240822T163556Z
LAST-MODIFIED:20240822T163556Z
UID:10007937-1734688800-1734692400@www.trailslibrary.org
SUMMARY:Needle Stories - Corder
DESCRIPTION:Ages 13+: Bring your project (crocheting\, knitting\, sewing\, etc.) and spend time with fellow hobbyists. Someone will be on hand to teach crochet if you would like to learn.
URL:https://www.trailslibrary.org/event/needle-stories-corder-17/
LOCATION:Corder Branch\, 221 N. Lafayette\, Corder\, MO\, 64021\, United States
CATEGORIES:Adult,Adults,Crafts,preteens,senior,Seniors,Teen,Teens,Youth
END:VEVENT
BEGIN:VEVENT
DTSTART;TZID=America/New_York:20241221T110000
DTEND;TZID=America/New_York:20241221T110000
DTSTAMP:20260423T183523
CREATED:20240822T211119Z
LAST-MODIFIED:20240822T211119Z
UID:10008401-1734778800-1734778800@www.trailslibrary.org
SUMMARY:Pick Your Books and Paint Them Too - Odessa
DESCRIPTION:Ages 19+: Have you set your reading goal for 2025 already? Make it easier to keep track of by painting a book tracker!
URL:https://www.trailslibrary.org/event/pick-your-books-and-paint-them-too-odessa/
LOCATION:Odessa Branch\, 107 W. Mason\, Odessa\, MO\, 64076\, United States
CATEGORIES:Adult,Adults,Crafts,senior,Seniors
END:VEVENT
BEGIN:VEVENT
DTSTART;TZID=America/New_York:20250109T140000
DTEND;TZID=America/New_York:20250109T140000
DTSTAMP:20260423T183523
CREATED:20241217T183841Z
LAST-MODIFIED:20241217T183841Z
UID:10008748-1736431200-1736431200@www.trailslibrary.org
SUMMARY:Crafternoon - Warrensburg Branch
DESCRIPTION:Ages 19+: Join us for Crafternoon—a perfect blend of crafting and conversation! Bring a project you’re working on or enjoy our adult coloring supplies while you chat\, relax\, and connect with fellow crafters. Whether you’re here to craft or just socialize\, everyone is welcome!
URL:https://www.trailslibrary.org/event/crafternoon-warrensburg-branch/
LOCATION:Warrensburg Branch\, 432 N. Holden\, Warrensburg\, Missouri\, 64093\, United States
CATEGORIES:Adult,Adults,Crafts,senior,Seniors
END:VEVENT
BEGIN:VEVENT
DTSTART;TZID=America/New_York:20250109T153000
DTEND;TZID=America/New_York:20250109T153000
DTSTAMP:20260423T183523
CREATED:20241217T174732Z
LAST-MODIFIED:20241217T174732Z
UID:10008632-1736436600-1736436600@www.trailslibrary.org
SUMMARY:Kids Club - Lexington Branch
DESCRIPTION:Ages 6-12: If you like crafts\, games\, and fun science activities (STEAM) then this club is for you. Snack provided. Bring a friend for more FUN!
URL:https://www.trailslibrary.org/event/kids-club-lexington-branch-2/
LOCATION:Lexington Branch\, 1008 Main Street\, Lexington\, MO\, 64067\, United States
CATEGORIES:Children,Crafts,Kids
END:VEVENT
BEGIN:VEVENT
DTSTART;TZID=America/New_York:20250118T110000
DTEND;TZID=America/New_York:20250118T110000
DTSTAMP:20260423T183523
CREATED:20241217T174057Z
LAST-MODIFIED:20241217T174057Z
UID:10008598-1737198000-1737198000@www.trailslibrary.org
SUMMARY:Super Saturdays - Holden Branch
DESCRIPTION:Ages 6-12: Super Saturdays are tons of Fun for Children Ages 6-12\, come enjoy crafts\, card games\, and fun galore!
URL:https://www.trailslibrary.org/event/super-saturdays-holden-branch/
LOCATION:Holden Branch\, 207 S. Main\, Holden\, MO\, 64040\, United States
CATEGORIES:Children,Crafts,Kids
END:VEVENT
BEGIN:VEVENT
DTSTART;TZID=America/New_York:20250121T150000
DTEND;TZID=America/New_York:20250121T150000
DTSTAMP:20260423T183523
CREATED:20241217T173059Z
LAST-MODIFIED:20241217T173059Z
UID:10008576-1737471600-1737471600@www.trailslibrary.org
SUMMARY:Heart Woodcut Doorhanger Painting - Holden Branch
DESCRIPTION:Ages 19+ REGISTRATION REQUIRED: Come craft and paint an adorable woodcut heartshaped doorhanger with us and add embellishments to celebrate the upcoming Valentine’s Day Holiday.
URL:https://www.trailslibrary.org/event/heart-woodcut-doorhanger-painting-holden-branch/
LOCATION:Holden Branch\, 207 S. Main\, Holden\, MO\, 64040\, United States
CATEGORIES:Adult,Adults,Crafts,senior,Seniors
END:VEVENT
BEGIN:VEVENT
DTSTART;TZID=America/New_York:20250121T160000
DTEND;TZID=America/New_York:20250121T160000
DTSTAMP:20260423T183523
CREATED:20241217T173257Z
LAST-MODIFIED:20241217T173257Z
UID:10008577-1737475200-1737475200@www.trailslibrary.org
SUMMARY:Heart Woodcut Doorhanger Painting - Holden Branch
DESCRIPTION:Ages 13-18 REGISTRATION REQUIRED: Come craft and paint an adorable woodcut heartshaped doorhanger with us and add embellishments to celebrate the upcoming Valentine’s Day Holiday.
URL:https://www.trailslibrary.org/event/heart-woodcut-doorhanger-painting-holden-branch-2/
LOCATION:Holden Branch\, 207 S. Main\, Holden\, MO\, 64040\, United States
CATEGORIES:Crafts,Teen,Teens
END:VEVENT
BEGIN:VEVENT
DTSTART;TZID=America/New_York:20250122T110000
DTEND;TZID=America/New_York:20250122T110000
DTSTAMP:20260423T183523
CREATED:20241217T184049Z
LAST-MODIFIED:20241217T184049Z
UID:10008757-1737543600-1737543600@www.trailslibrary.org
SUMMARY:DIY Bird Feeder - Warrensburg Branch
DESCRIPTION:All Ages: Join us to craft a simple and fun bird feeder that will attract feathered friends to your yard! All materials are provided\, so bring your creativity and a love for nature.
URL:https://www.trailslibrary.org/event/diy-bird-feeder-warrensburg-branch/
LOCATION:Warrensburg Branch\, 432 N. Holden\, Warrensburg\, Missouri\, 64093\, United States
CATEGORIES:Adult,Adults,All Ages,Children,Crafts,Family,Kids,preteens,senior,Seniors,Teen,Teens,Youth
END:VEVENT
BEGIN:VEVENT
DTSTART;TZID=America/New_York:20250123T150000
DTEND;TZID=America/New_York:20250123T150000
DTSTAMP:20260423T183523
CREATED:20241217T183736Z
LAST-MODIFIED:20241217T183736Z
UID:10008738-1737644400-1737644400@www.trailslibrary.org
SUMMARY:Card Making - Warrensburg Branch
DESCRIPTION:Ages 19+ REGISTRATION REQUIRED: Get creative with your friends at Trails and make three adorable\, handcrafted cards! Perfect for any occasion\, this fun and easy class will have you leaving with unique creations and great memories.
URL:https://www.trailslibrary.org/event/card-making-warrensburg-branch/
LOCATION:Warrensburg Branch\, 432 N. Holden\, Warrensburg\, Missouri\, 64093\, United States
CATEGORIES:Adult,Adults,Crafts,senior,Seniors
END:VEVENT
BEGIN:VEVENT
DTSTART;TZID=America/New_York:20250124T103000
DTEND;TZID=America/New_York:20250124T103000
DTSTAMP:20260423T183523
CREATED:20241217T170018Z
LAST-MODIFIED:20241217T170018Z
UID:10008494-1737714600-1737714600@www.trailslibrary.org
SUMMARY:Knots and Needles - Corder Branch
DESCRIPTION:Ages 13+: Bring your favorite project—be it crocheting\, knitting\, sewing\, or any other craft—and connect with fellow enthusiasts.  Whether you’re a seasoned crafter or just starting out\, come relax\, learn\, and make new friends!
URL:https://www.trailslibrary.org/event/knots-and-needles-corder-branch/
LOCATION:Corder Branch\, 221 N. Lafayette\, Corder\, MO\, 64021\, United States
CATEGORIES:Adult,Adults,Crafts,Pre-Teen,Pre-Teens,senior,Seniors,Teen,Teens
END:VEVENT
END:VCALENDAR