BEGIN:VCALENDAR
VERSION:2.0
PRODID:-//Trails Regional Library - ECPv6.15.20//NONSGML v1.0//EN
CALSCALE:GREGORIAN
METHOD:PUBLISH
X-WR-CALNAME:Trails Regional Library
X-ORIGINAL-URL:https://www.trailslibrary.org
X-WR-CALDESC:Events for Trails Regional Library
REFRESH-INTERVAL;VALUE=DURATION:PT1H
X-Robots-Tag:noindex
X-PUBLISHED-TTL:PT1H
BEGIN:VTIMEZONE
TZID:America/New_York
BEGIN:DAYLIGHT
TZOFFSETFROM:-0500
TZOFFSETTO:-0400
TZNAME:EDT
DTSTART:20240310T070000
END:DAYLIGHT
BEGIN:STANDARD
TZOFFSETFROM:-0400
TZOFFSETTO:-0500
TZNAME:EST
DTSTART:20241103T060000
END:STANDARD
BEGIN:DAYLIGHT
TZOFFSETFROM:-0500
TZOFFSETTO:-0400
TZNAME:EDT
DTSTART:20250309T070000
END:DAYLIGHT
BEGIN:STANDARD
TZOFFSETFROM:-0400
TZOFFSETTO:-0500
TZNAME:EST
DTSTART:20251102T060000
END:STANDARD
BEGIN:DAYLIGHT
TZOFFSETFROM:-0500
TZOFFSETTO:-0400
TZNAME:EDT
DTSTART:20260308T070000
END:DAYLIGHT
BEGIN:STANDARD
TZOFFSETFROM:-0400
TZOFFSETTO:-0500
TZNAME:EST
DTSTART:20261101T060000
END:STANDARD
END:VTIMEZONE
BEGIN:VEVENT
DTSTART;TZID=America/New_York:20250918T153000
DTEND;TZID=America/New_York:20250918T153000
DTSTAMP:20260422T173526
CREATED:20250811T145911Z
LAST-MODIFIED:20250811T145911Z
UID:10009323-1758209400-1758209400@www.trailslibrary.org
SUMMARY:Tween Time - Lexington Branch
DESCRIPTION:Ages 13-18: Come hang out with friends for an afternoon of fun! Whether you like crafting\, playing games\, or science experiments\, there’s something for everyone!
URL:https://www.trailslibrary.org/event/tween-time-lexington-branch-7/
LOCATION:Lexington Branch\, 1008 Main Street\, Lexington\, MO\, 64067\, United States
CATEGORIES:Crafts,Pre-Teen,Pre-Teens,Teen,Teens
END:VEVENT
BEGIN:VEVENT
DTSTART;TZID=America/New_York:20250918T160000
DTEND;TZID=America/New_York:20250918T160000
DTSTAMP:20260422T173526
CREATED:20250811T150056Z
LAST-MODIFIED:20250812T202542Z
UID:10009347-1758211200-1758211200@www.trailslibrary.org
SUMMARY:12 Days of Kindness - Warrensburg Branch
DESCRIPTION:Ages 6-12: Join a creative craft series where kids can make heartfelt gifts for family/friends. Join us for hands on fun and take home a wrapped gift for each session.
URL:https://www.trailslibrary.org/event/13-days-of-kindness-warrensburg-branch/
LOCATION:Warrensburg Branch\, 432 N. Holden\, Warrensburg\, Missouri\, 64093\, United States
CATEGORIES:Children,Crafts,Kids
END:VEVENT
BEGIN:VEVENT
DTSTART;TZID=America/New_York:20250919T110000
DTEND;TZID=America/New_York:20250919T110000
DTSTAMP:20260422T173526
CREATED:20250811T145832Z
LAST-MODIFIED:20250811T145832Z
UID:10009315-1758279600-1758279600@www.trailslibrary.org
SUMMARY:Dotted Bottle Art - Knob Noster Branch
DESCRIPTION:Ages 19+: Hand-painted\, upcycled bottles turned into vibrant décor.
URL:https://www.trailslibrary.org/event/dotted-bottle-art-knob-noster-branch/
LOCATION:Knob Noster Branch\, 202 N. Adams\, Knob Noster\, MO\, 65336\, United States
CATEGORIES:Adult,Adults,Crafts,senior,Seniors
END:VEVENT
BEGIN:VEVENT
DTSTART;TZID=America/New_York:20250919T153000
DTEND;TZID=America/New_York:20250919T153000
DTSTAMP:20260422T173526
CREATED:20250811T150020Z
LAST-MODIFIED:20250811T150020Z
UID:10009342-1758295800-1758295800@www.trailslibrary.org
SUMMARY:Crafting Begins - Odessa Branch
DESCRIPTION:Ages 13-18: Celebrate Batman Day with some crafts and a movie!
URL:https://www.trailslibrary.org/event/crafting-begins-odessa-branch/
LOCATION:Odessa Branch\, 107 W. Mason\, Odessa\, MO\, 64076\, United States
CATEGORIES:Crafts,Movie,Teen,Teens
END:VEVENT
BEGIN:VEVENT
DTSTART;TZID=America/New_York:20250923T140000
DTEND;TZID=America/New_York:20250923T140000
DTSTAMP:20260422T173526
CREATED:20250811T145832Z
LAST-MODIFIED:20250811T145832Z
UID:10009316-1758636000-1758636000@www.trailslibrary.org
SUMMARY:No Bake Cookie Craze - Knob Noster Branch
DESCRIPTION:Ages 6-12: Join us to make delicious\, oven-free cookies from scratch! It’s a fun\, hands-on baking adventure that’s as sweet as it is easy!
URL:https://www.trailslibrary.org/event/no-bake-cookie-craze-knob-noster-branch/
LOCATION:Knob Noster Branch\, 202 N. Adams\, Knob Noster\, MO\, 65336\, United States
CATEGORIES:Children,Crafts,Kids
END:VEVENT
BEGIN:VEVENT
DTSTART;TZID=America/New_York:20250923T150000
DTEND;TZID=America/New_York:20250923T150000
DTSTAMP:20260422T173526
CREATED:20250811T145726Z
LAST-MODIFIED:20250811T145726Z
UID:10009298-1758639600-1758639600@www.trailslibrary.org
SUMMARY:Craft and Chill - Holden Branch
DESCRIPTION:Ages 19+ REGISTRATION REQUIRED: Paint cans into recycled art critters and spooky creatures just in time for the Fall Season.
URL:https://www.trailslibrary.org/event/craft-and-chill-holden-branch-2/
LOCATION:Holden Branch\, 207 S. Main\, Holden\, MO\, 64040\, United States
CATEGORIES:Adult,Adults,Crafts,senior,Seniors
END:VEVENT
BEGIN:VEVENT
DTSTART;TZID=America/New_York:20250924T143000
DTEND;TZID=America/New_York:20250924T143000
DTSTAMP:20260422T173526
CREATED:20250811T145832Z
LAST-MODIFIED:20250811T145832Z
UID:10009317-1758724200-1758724200@www.trailslibrary.org
SUMMARY:Clay Critters - Knob Noster Branch
DESCRIPTION:Ages 13-18: Create adorable animals using polymer clay and marbles.
URL:https://www.trailslibrary.org/event/clay-critters-knob-noster-branch/
LOCATION:Knob Noster Branch\, 202 N. Adams\, Knob Noster\, MO\, 65336\, United States
CATEGORIES:Crafts,Pre-Teen,Pre-Teens,Teen,Teens
END:VEVENT
BEGIN:VEVENT
DTSTART;TZID=America/New_York:20250925T160000
DTEND;TZID=America/New_York:20250925T160000
DTSTAMP:20260422T173526
CREATED:20250811T150056Z
LAST-MODIFIED:20250812T202614Z
UID:10009348-1758816000-1758816000@www.trailslibrary.org
SUMMARY:12 Days of Kindness - Warrensburg Branch
DESCRIPTION:Ages 6-12: Join a creative craft series where kids can make heartfelt gifts for family/friends. Join us for hands on fun and take home a wrapped gift for each session.
URL:https://www.trailslibrary.org/event/14-days-of-kindness-warrensburg-branch/
LOCATION:Warrensburg Branch\, 432 N. Holden\, Warrensburg\, Missouri\, 64093\, United States
CATEGORIES:Children,Crafts,Kids
END:VEVENT
BEGIN:VEVENT
DTSTART;TZID=America/New_York:20250925T173000
DTEND;TZID=America/New_York:20250925T173000
DTSTAMP:20260422T173526
CREATED:20250811T145912Z
LAST-MODIFIED:20250811T145912Z
UID:10009326-1758821400-1758821400@www.trailslibrary.org
SUMMARY:Bee Creative - Lexington Branch
DESCRIPTION:Ages 19+ REGISTRATION REQUIRED: Buzz over and craft a fun Fall item! Stop by the branch a few weeks BEEfore and see a sample. That will be the time to sign-up for a spot at this program as supplies are limited!
URL:https://www.trailslibrary.org/event/bee-creative-lexington-branch-4/
LOCATION:Lexington Branch\, 1008 Main Street\, Lexington\, MO\, 64067\, United States
CATEGORIES:Adult,Adults,Crafts,senior,Seniors
END:VEVENT
BEGIN:VEVENT
DTSTART;TZID=America/New_York:20251002T160000
DTEND;TZID=America/New_York:20251002T160000
DTSTAMP:20260422T173526
CREATED:20250911T141604Z
LAST-MODIFIED:20250911T141604Z
UID:10009523-1759420800-1759420800@www.trailslibrary.org
SUMMARY:12 Days of Kindness - Warrensburg Branch
DESCRIPTION:Ages 6-12: Part of a 12-week series\, this creative craft program lets kids design and make heartfelt gifts for family and friends. Each session is hands-on fun\, and participants can take home a wrapped gift. Join for one session or as many as you’d like!
URL:https://www.trailslibrary.org/event/12-days-of-kindness-warrensburg-branch-2/
LOCATION:Warrensburg Branch\, 432 N. Holden\, Warrensburg\, Missouri\, 64093\, United States
CATEGORIES:Children,Crafts,Kids
END:VEVENT
BEGIN:VEVENT
DTSTART;TZID=America/New_York:20251003T160000
DTEND;TZID=America/New_York:20251003T160000
DTSTAMP:20260422T173526
CREATED:20250911T141852Z
LAST-MODIFIED:20250911T141852Z
UID:10009587-1759507200-1759507200@www.trailslibrary.org
SUMMARY:Teen Maker Lab - Warrensburg Branch
DESCRIPTION:Ages 13-18 REGISTRATION REQUIRED: Create and innovate with hands-on crafts and projects using repurposed materials in this fun\, eco-friendly maker experience.
URL:https://www.trailslibrary.org/event/teen-maker-lab-warrensburg-branch-3/
LOCATION:Warrensburg Branch\, 432 N. Holden\, Warrensburg\, Missouri\, 64093\, United States
CATEGORIES:Crafts,Pre-Teen,Pre-Teens,Teen,Teens
END:VEVENT
BEGIN:VEVENT
DTSTART;TZID=America/New_York:20251007T150000
DTEND;TZID=America/New_York:20251007T150000
DTSTAMP:20260422T173526
CREATED:20250911T140508Z
LAST-MODIFIED:20250911T140508Z
UID:10009409-1759849200-1759849200@www.trailslibrary.org
SUMMARY:Craft and Chill - Holden Branch
DESCRIPTION:Ages 19+ REGISTRATION REQUIRED: Unleash your creativity at our twice monthly crafting program. Each session will feature a new art project. All supplies provided\, no experience necessary.
URL:https://www.trailslibrary.org/event/craft-and-chill-holden-branch-3/
LOCATION:Holden Branch\, 207 S. Main\, Holden\, MO\, 64040\, United States
CATEGORIES:Adult,Adults,Crafts,senior,Seniors
END:VEVENT
BEGIN:VEVENT
DTSTART;TZID=America/New_York:20251008T170000
DTEND;TZID=America/New_York:20251008T170000
DTSTAMP:20260422T173526
CREATED:20250911T141736Z
LAST-MODIFIED:20250911T141736Z
UID:10009558-1759942800-1759942800@www.trailslibrary.org
SUMMARY:Neurographic Art - Warrensburg Branch
DESCRIPTION:Ages 19+: Dive into creativity at our Neurographic Art Program! Unleash your imagination through this unique\, meditative art form that blends freeform lines and vibrant colors to create stunning\, brain-inspired designs. Perfect for all skill levels.
URL:https://www.trailslibrary.org/event/neurographic-art-warrensburg-branch/
LOCATION:Warrensburg Branch\, 432 N. Holden\, Warrensburg\, Missouri\, 64093\, United States
CATEGORIES:Adult,Adults,Crafts,senior,Seniors
END:VEVENT
BEGIN:VEVENT
DTSTART;TZID=America/New_York:20251014T153000
DTEND;TZID=America/New_York:20251014T153000
DTSTAMP:20260422T173526
CREATED:20250911T140611Z
LAST-MODIFIED:20250911T140611Z
UID:10009428-1760455800-1760455800@www.trailslibrary.org
SUMMARY:Frankenstuffies - Knob Noster Branch
DESCRIPTION:Ages 13-18: Create your own stuffed creature by mixing and matching parts from old stuffed animals in this fun and spooky DIY craft!
URL:https://www.trailslibrary.org/event/frankenstuffies-knob-noster-branch/
LOCATION:Knob Noster Branch\, 202 N. Adams\, Knob Noster\, MO\, 65336\, United States
CATEGORIES:Crafts,Pre-Teen,Pre-Teens,Teen,Teens
END:VEVENT
BEGIN:VEVENT
DTSTART;TZID=America/New_York:20251016T113000
DTEND;TZID=America/New_York:20251016T113000
DTSTAMP:20260422T173526
CREATED:20250911T140647Z
LAST-MODIFIED:20250911T140647Z
UID:10009432-1760614200-1760614200@www.trailslibrary.org
SUMMARY:Leaf Prints & Paints - Knob Noster Branch
DESCRIPTION:Ages 0-5: Explore nature and art by making colorful leaf rubbings and painting them with watercolor!
URL:https://www.trailslibrary.org/event/leaf-prints-paints-knob-noster-branch/
LOCATION:Knob Noster Branch\, 202 N. Adams\, Knob Noster\, MO\, 65336\, United States
CATEGORIES:Children,Crafts,Kids,Pre-School,Preschool,Toddlers
END:VEVENT
BEGIN:VEVENT
DTSTART;TZID=America/New_York:20251016T153000
DTEND;TZID=America/New_York:20251016T153000
DTSTAMP:20260422T173526
CREATED:20250911T140924Z
LAST-MODIFIED:20250911T140924Z
UID:10009477-1760628600-1760628600@www.trailslibrary.org
SUMMARY:Tween Time - Lexington Branch
DESCRIPTION:Ages 13-18: Come hang out with friends for an afternoon of fun! Whether you like crafting\, playing games\, or science experiments\, there’s something for everyone!
URL:https://www.trailslibrary.org/event/tween-time-lexington-branch-8/
LOCATION:Lexington Branch\, 1008 Main Street\, Lexington\, MO\, 64067\, United States
CATEGORIES:Crafts,Pre-Teen,Pre-Teens,STEAM,Teen,Teens
END:VEVENT
BEGIN:VEVENT
DTSTART;TZID=America/New_York:20251016T160000
DTEND;TZID=America/New_York:20251016T160000
DTSTAMP:20260422T173526
CREATED:20250911T141604Z
LAST-MODIFIED:20250911T141604Z
UID:10009524-1760630400-1760630400@www.trailslibrary.org
SUMMARY:12 Days of Kindness - Warrensburg Branch
DESCRIPTION:Ages 6-12: Part of a 12-week series\, this creative craft program lets kids design and make heartfelt gifts for family and friends. Each session is hands-on fun\, and participants can take home a wrapped gift. Join for one session or as many as you’d like!
URL:https://www.trailslibrary.org/event/12-days-of-kindness-warrensburg-branch-3/
LOCATION:Warrensburg Branch\, 432 N. Holden\, Warrensburg\, Missouri\, 64093\, United States
CATEGORIES:Children,Crafts,Kids
END:VEVENT
BEGIN:VEVENT
DTSTART;TZID=America/New_York:20251018T100000
DTEND;TZID=America/New_York:20251018T100000
DTSTAMP:20260422T173526
CREATED:20250911T193919Z
LAST-MODIFIED:20250911T193919Z
UID:10009626-1760781600-1760781600@www.trailslibrary.org
SUMMARY:Book Folding Creations - Corder Branch
DESCRIPTION:Ages 19+: Learn how to do book folding art!
URL:https://www.trailslibrary.org/event/book-folding-creations-corder-branch/
LOCATION:Corder Branch\, 221 N. Lafayette\, Corder\, MO\, 64021\, United States
CATEGORIES:Adult,Adults,Crafts,senior,Seniors
END:VEVENT
BEGIN:VEVENT
DTSTART;TZID=America/New_York:20251020T170000
DTEND;TZID=America/New_York:20251020T170000
DTSTAMP:20260422T173526
CREATED:20250911T141636Z
LAST-MODIFIED:20250911T141636Z
UID:10009538-1760979600-1760979600@www.trailslibrary.org
SUMMARY:Craftastic - Warrensburg Branch
DESCRIPTION:Ages 19+ REGISTRATION REQUIRED: Join fellow crafters at Trails for a fun and creative DIY project! All materials will be provided\, so bring your creativity and enjoy crafting with others.
URL:https://www.trailslibrary.org/event/craftastic-warrensburg-branch-8/
LOCATION:Warrensburg Branch\, 432 N. Holden\, Warrensburg\, Missouri\, 64093\, United States
CATEGORIES:Adult,Adults,Crafts,senior,Seniors
END:VEVENT
BEGIN:VEVENT
DTSTART;TZID=America/New_York:20251021T113000
DTEND;TZID=America/New_York:20251021T113000
DTSTAMP:20260422T173526
CREATED:20250911T140717Z
LAST-MODIFIED:20250911T140717Z
UID:10009443-1761046200-1761046200@www.trailslibrary.org
SUMMARY:Spray Bottle Art - Knob Noster Branch
DESCRIPTION:Ages 0-5: Create your own wax resist art! Draw with crayons\, then spray the paper with colorful water to reveal hidden designs.
URL:https://www.trailslibrary.org/event/spray-bottle-art-knob-noster-branch/
LOCATION:Knob Noster Branch\, 202 N. Adams\, Knob Noster\, MO\, 65336\, United States
CATEGORIES:Children,Crafts,Kids,Pre-School,Preschool,Toddlers
END:VEVENT
BEGIN:VEVENT
DTSTART;TZID=America/New_York:20251021T150000
DTEND;TZID=America/New_York:20251021T150000
DTSTAMP:20260422T173526
CREATED:20250911T140508Z
LAST-MODIFIED:20250911T140508Z
UID:10009410-1761058800-1761058800@www.trailslibrary.org
SUMMARY:Craft and Chill - Holden Branch
DESCRIPTION:Ages 19+ REGISTRATION REQUIRED: Unleash your creativity at our twice monthly crafting program. Each session will feature a new art project. All supplies provided\, no experience necessary.
URL:https://www.trailslibrary.org/event/craft-and-chill-holden-branch-4/
LOCATION:Holden Branch\, 207 S. Main\, Holden\, MO\, 64040\, United States
CATEGORIES:Adult,Adults,Crafts,senior,Seniors
END:VEVENT
BEGIN:VEVENT
DTSTART;TZID=America/New_York:20251021T160000
DTEND;TZID=America/New_York:20251021T160000
DTSTAMP:20260422T173526
CREATED:20250911T141651Z
LAST-MODIFIED:20250911T141651Z
UID:10009543-1761062400-1761062400@www.trailslibrary.org
SUMMARY:From Orchard to Crockpot - Warrensburg Branch
DESCRIPTION:All Ages: Discover how to turn fresh apples into delicious homemade applesauce with just a few simple ingredients and a slow cooker. Enjoy the comforting scents and flavors of this program.
URL:https://www.trailslibrary.org/event/from-orchard-to-crockpot-warrensburg-branch/
LOCATION:Warrensburg Branch\, 432 N. Holden\, Warrensburg\, Missouri\, 64093\, United States
CATEGORIES:Adult,Adults,All Ages,Children,Crafts,Family,Kids,preteens,senior,Seniors,Teen,Teens,Youth
END:VEVENT
BEGIN:VEVENT
DTSTART;TZID=America/New_York:20251023T160000
DTEND;TZID=America/New_York:20251023T160000
DTSTAMP:20260422T173526
CREATED:20250911T141606Z
LAST-MODIFIED:20250911T141606Z
UID:10009530-1761235200-1761235200@www.trailslibrary.org
SUMMARY:12 Days of Kindness - Warrensburg Branch
DESCRIPTION:Ages 6-12: Part of a 12-week series\, this creative craft program lets kids design and make heartfelt gifts for family and friends. Each session is hands-on fun\, and participants can take home a wrapped gift. Join for one session or as many as you’d like!
URL:https://www.trailslibrary.org/event/12-days-of-kindness-warrensburg-branch-9/
LOCATION:Warrensburg Branch\, 432 N. Holden\, Warrensburg\, Missouri\, 64093\, United States
CATEGORIES:Children,Crafts,Kids
END:VEVENT
BEGIN:VEVENT
DTSTART;TZID=America/New_York:20251024T120000
DTEND;TZID=America/New_York:20251024T120000
DTSTAMP:20260422T173526
CREATED:20250911T140647Z
LAST-MODIFIED:20250911T140647Z
UID:10009434-1761307200-1761307200@www.trailslibrary.org
SUMMARY:Mini Wood Slice Pumpkins - Knob Noster Branch
DESCRIPTION:Ages 19+: Craft charming mini pumpkins using wood slices\, paint\, and a touch of fall fun!
URL:https://www.trailslibrary.org/event/mini-wood-slice-pumpkins-knob-noster-branch/
LOCATION:Knob Noster Branch\, 202 N. Adams\, Knob Noster\, MO\, 65336\, United States
CATEGORIES:Adult,Adults,Crafts,senior,Seniors
END:VEVENT
BEGIN:VEVENT
DTSTART;TZID=America/New_York:20251025T100000
DTEND;TZID=America/New_York:20251025T100000
DTSTAMP:20260422T173526
CREATED:20250911T141636Z
LAST-MODIFIED:20250911T141636Z
UID:10009541-1761386400-1761386400@www.trailslibrary.org
SUMMARY:Crafty Family Fun - Warrensburg Branch
DESCRIPTION:All Ages: Join us for hands-on fun where kids can get creative using recycled\, repurposed\, and budget-friendly materials.
URL:https://www.trailslibrary.org/event/crafty-family-fun-warrensburg-branch-8/
LOCATION:Warrensburg Branch\, 432 N. Holden\, Warrensburg\, Missouri\, 64093\, United States
CATEGORIES:Adult,Adults,All Ages,Children,Crafts,Family,Kids,preteens,senior,Seniors,Teen,Teens,Youth
END:VEVENT
BEGIN:VEVENT
DTSTART;TZID=America/New_York:20251025T113000
DTEND;TZID=America/New_York:20251025T113000
DTSTAMP:20260422T173526
CREATED:20250911T194003Z
LAST-MODIFIED:20250911T194003Z
UID:10009640-1761391800-1761391800@www.trailslibrary.org
SUMMARY:Monster Slime - Corder Branch
DESCRIPTION:All Ages: Create eerie monster slime and add spooky add-ins like eyeballs and glitter for a frightfully fun goo!
URL:https://www.trailslibrary.org/event/monster-slime-corder-branch/
LOCATION:Corder Branch\, 221 N. Lafayette\, Corder\, MO\, 64021\, United States
CATEGORIES:Adult,Adults,All Ages,Children,Crafts,Family,Kids,preteens,senior,Seniors,Teen,Teens,Youth
END:VEVENT
BEGIN:VEVENT
DTSTART;TZID=America/New_York:20251027T140000
DTEND;TZID=America/New_York:20251027T140000
DTSTAMP:20260422T173526
CREATED:20250911T142158Z
LAST-MODIFIED:20250911T142158Z
UID:10009598-1761573600-1761573600@www.trailslibrary.org
SUMMARY:Spooktacular Creations - Waverly Branch
DESCRIPTION:Ages 6-12: Take a break from school and dive into creativity! Join us in making a spooky craft.
URL:https://www.trailslibrary.org/event/spooktacular-creations-waverly-branch/
LOCATION:Waverly Branch\, 203 E. Kelling\, Waverly\, MO\, 64096\, United States
CATEGORIES:Children,Crafts,Kids
END:VEVENT
BEGIN:VEVENT
DTSTART;TZID=America/New_York:20251104T150000
DTEND;TZID=America/New_York:20251104T150000
DTSTAMP:20260422T173526
CREATED:20250930T135600Z
LAST-MODIFIED:20250930T135600Z
UID:10009668-1762268400-1762268400@www.trailslibrary.org
SUMMARY:Craft and Chill - Holden Branch
DESCRIPTION:Ages 19+ REGISTRATION REQUIRED: Unleash your creativity at our twice monthly crafting program. Each session will feature a new art project. All supplies provided\, no experience necessary.
URL:https://www.trailslibrary.org/event/craft-and-chill-holden-branch-5/
LOCATION:Holden Branch\, 207 S. Main\, Holden\, MO\, 64040\, United States
CATEGORIES:Adult,Adults,Crafts,senior,Seniors
END:VEVENT
BEGIN:VEVENT
DTSTART;TZID=America/New_York:20251106T113000
DTEND;TZID=America/New_York:20251106T113000
DTSTAMP:20260422T173526
CREATED:20250911T140702Z
LAST-MODIFIED:20250911T140702Z
UID:10009438-1762428600-1762428600@www.trailslibrary.org
SUMMARY:Play-Dough Bake Shop - Knob Noster Branch
DESCRIPTION:Ages 0-5: Whip up some fun! Kids can make pretend treats and tasty creations using play dough and play kitchen tools.
URL:https://www.trailslibrary.org/event/play-dough-bake-shop-knob-noster-branch/
LOCATION:Knob Noster Branch\, 202 N. Adams\, Knob Noster\, MO\, 65336\, United States
CATEGORIES:Children,Crafts,Kids,Pre-School,Preschool,Toddlers
END:VEVENT
BEGIN:VEVENT
DTSTART;TZID=America/New_York:20251106T160000
DTEND;TZID=America/New_York:20251106T160000
DTSTAMP:20260422T173526
CREATED:20250911T141604Z
LAST-MODIFIED:20250911T141604Z
UID:10009525-1762444800-1762444800@www.trailslibrary.org
SUMMARY:12 Days of Kindness - Warrensburg Branch
DESCRIPTION:Ages 6-12: Part of a 12-week series\, this creative craft program lets kids design and make heartfelt gifts for family and friends. Each session is hands-on fun\, and participants can take home a wrapped gift. Join for one session or as many as you’d like!
URL:https://www.trailslibrary.org/event/12-days-of-kindness-warrensburg-branch-4/
LOCATION:Warrensburg Branch\, 432 N. Holden\, Warrensburg\, Missouri\, 64093\, United States
CATEGORIES:Children,Crafts,Kids
END:VEVENT
END:VCALENDAR