BEGIN:VCALENDAR
VERSION:2.0
PRODID:-//Trails Regional Library - ECPv6.15.20//NONSGML v1.0//EN
CALSCALE:GREGORIAN
METHOD:PUBLISH
X-ORIGINAL-URL:https://www.trailslibrary.org
X-WR-CALDESC:Events for Trails Regional Library
REFRESH-INTERVAL;VALUE=DURATION:PT1H
X-Robots-Tag:noindex
X-PUBLISHED-TTL:PT1H
BEGIN:VTIMEZONE
TZID:America/New_York
BEGIN:DAYLIGHT
TZOFFSETFROM:-0500
TZOFFSETTO:-0400
TZNAME:EDT
DTSTART:20220313T070000
END:DAYLIGHT
BEGIN:STANDARD
TZOFFSETFROM:-0400
TZOFFSETTO:-0500
TZNAME:EST
DTSTART:20221106T060000
END:STANDARD
BEGIN:DAYLIGHT
TZOFFSETFROM:-0500
TZOFFSETTO:-0400
TZNAME:EDT
DTSTART:20230312T070000
END:DAYLIGHT
BEGIN:STANDARD
TZOFFSETFROM:-0400
TZOFFSETTO:-0500
TZNAME:EST
DTSTART:20231105T060000
END:STANDARD
BEGIN:DAYLIGHT
TZOFFSETFROM:-0500
TZOFFSETTO:-0400
TZNAME:EDT
DTSTART:20240310T070000
END:DAYLIGHT
BEGIN:STANDARD
TZOFFSETFROM:-0400
TZOFFSETTO:-0500
TZNAME:EST
DTSTART:20241103T060000
END:STANDARD
END:VTIMEZONE
BEGIN:VEVENT
DTSTART;TZID=America/New_York:20230918T173000
DTEND;TZID=America/New_York:20230918T183000
DTSTAMP:20260425T080534
CREATED:20230818T201402Z
LAST-MODIFIED:20230820T063646Z
UID:10006786-1695058200-1695061800@www.trailslibrary.org
SUMMARY:Craftastic - Warrensburg
DESCRIPTION:Ages 13+: Spruce up your home with a no-sew gnome!
URL:https://www.trailslibrary.org/event/craftastic-warrensburg-6/
LOCATION:Warrensburg Branch\, 432 N. Holden\, Warrensburg\, Missouri\, 64093\, United States
CATEGORIES:Adult,Adults,Crafts,senior,Seniors,Teen,Teens
END:VEVENT
BEGIN:VEVENT
DTSTART;TZID=America/New_York:20230919T103000
DTEND;TZID=America/New_York:20230919T110000
DTSTAMP:20260425T080534
CREATED:20230820T064031Z
LAST-MODIFIED:20230820T064031Z
UID:10005839-1695119400-1695121200@www.trailslibrary.org
SUMMARY:Preschool Craftime - Warrensburg
DESCRIPTION:Ages 0-5: Stay after storytime to make a themed craft with Miss Amy.
URL:https://www.trailslibrary.org/event/preschool-craftime-warrensburg-3/
LOCATION:Warrensburg Branch\, 432 N. Holden\, Warrensburg\, Missouri\, 64093\, United States
CATEGORIES:Children,Craft,Crafts,Kids,Preschool
END:VEVENT
BEGIN:VEVENT
DTSTART;TZID=America/New_York:20230919T150000
DTEND;TZID=America/New_York:20230919T170000
DTSTAMP:20260425T080534
CREATED:20230818T200653Z
LAST-MODIFIED:20230820T064641Z
UID:10006679-1695135600-1695142800@www.trailslibrary.org
SUMMARY:Art and Craft Club -Holden
DESCRIPTION:All Ages: REGISTRATION REQUIRED–Art & Craft Club is a social hour for Patrons to bring Art & Craft projects they are currently working on and get assistance and guidance from each other and the program staff.
URL:https://www.trailslibrary.org/event/art-and-craft-club-holden-2/
LOCATION:Holden Branch\, 207 S. Main\, Holden\, MO\, 64040\, United States
CATEGORIES:Adult,Adults,All Ages,Children,Crafts,Family,Kids,senior,Seniors,Teen,Teens
END:VEVENT
BEGIN:VEVENT
DTSTART;TZID=America/New_York:20230919T170000
DTEND;TZID=America/New_York:20230919T180000
DTSTAMP:20260425T080534
CREATED:20230818T201447Z
LAST-MODIFIED:20230820T063730Z
UID:10005691-1695142800-1695146400@www.trailslibrary.org
SUMMARY:Get Hooked - Warrensburg
DESCRIPTION:All Ages: Get Hooked! Come join us for tips and tricks\, learn how to crochet or knit.
URL:https://www.trailslibrary.org/event/get-hooked-warrensburg-15/
LOCATION:Warrensburg Branch\, 432 N. Holden\, Warrensburg\, Missouri\, 64093\, United States
CATEGORIES:Adult,Adults,All Ages,Children,Crafts,Family,Kids,preteens,senior,Seniors,Teen,Teens,Youth
END:VEVENT
BEGIN:VEVENT
DTSTART;TZID=America/New_York:20230921T153000
DTEND;TZID=America/New_York:20230921T170000
DTSTAMP:20260425T080534
CREATED:20230820T042854Z
LAST-MODIFIED:20230820T042854Z
UID:10006859-1695310200-1695315600@www.trailslibrary.org
SUMMARY:T(w)een Time - Lexington
DESCRIPTION:Ages 13-18: Come hang out with friends for an afternoon of fun! Play games\, make crafts\, and enjoy snacks!
URL:https://www.trailslibrary.org/event/tween-time-lexington/
LOCATION:Lexington Branch\, 1008 Main Street\, Lexington\, MO\, 64067\, United States
CATEGORIES:Crafts,Teen,Teens
END:VEVENT
BEGIN:VEVENT
DTSTART;TZID=America/New_York:20230925T173000
DTEND;TZID=America/New_York:20230925T183000
DTSTAMP:20260425T080534
CREATED:20230818T201417Z
LAST-MODIFIED:20230820T063700Z
UID:10006791-1695663000-1695666600@www.trailslibrary.org
SUMMARY:DIY Spa Series - Warrensburg
DESCRIPTION:Ages 19+: Get in the mood for fall with our home made autumn scented face mask!
URL:https://www.trailslibrary.org/event/diy-spa-series-warrensburg-6/
LOCATION:Warrensburg Branch\, 432 N. Holden\, Warrensburg\, Missouri\, 64093\, United States
CATEGORIES:Adult,Adults,Crafts,senior,Seniors
END:VEVENT
BEGIN:VEVENT
DTSTART;TZID=America/New_York:20230926T103000
DTEND;TZID=America/New_York:20230926T110000
DTSTAMP:20260425T080534
CREATED:20230820T064031Z
LAST-MODIFIED:20230820T064031Z
UID:10005841-1695724200-1695726000@www.trailslibrary.org
SUMMARY:Preschool Craftime - Warrensburg
DESCRIPTION:Ages 0-5: Stay after storytime to make a themed craft with Miss Amy.
URL:https://www.trailslibrary.org/event/preschool-craftime-warrensburg-4/
LOCATION:Warrensburg Branch\, 432 N. Holden\, Warrensburg\, Missouri\, 64093\, United States
CATEGORIES:Children,Craft,Crafts,Kids,Preschool
END:VEVENT
BEGIN:VEVENT
DTSTART;TZID=America/New_York:20230929T100000
DTEND;TZID=America/New_York:20230929T110000
DTSTAMP:20260425T080534
CREATED:20230818T200418Z
LAST-MODIFIED:20230818T200418Z
UID:10006667-1695981600-1695985200@www.trailslibrary.org
SUMMARY:Needle Stories - Corder
DESCRIPTION:Ages 19+:  Bring your project (crochet\, knitting\, sewing\, etc.) and spend an hour with fellow hobbiest.  We will have soemone on hand to teach crochet if you would like to learn.
URL:https://www.trailslibrary.org/event/needle-stories-corder-5/
LOCATION:Corder Branch\, 221 N. Lafayette\, Corder\, MO\, 64021\, United States
CATEGORIES:Adult,Adults,Crafts,senior,Seniors
END:VEVENT
BEGIN:VEVENT
DTSTART;TZID=America/New_York:20230930T140000
DTEND;TZID=America/New_York:20230930T154500
DTSTAMP:20260425T080534
CREATED:20230818T201154Z
LAST-MODIFIED:20230818T212522Z
UID:10006747-1696082400-1696088700@www.trailslibrary.org
SUMMARY:Crafternoon - Odessa
DESCRIPTION:Ages 19+: REGISTRATION Required–Get ready for banned book week by making a keychain of the cover of your favorite banned book!
URL:https://www.trailslibrary.org/event/crafternoon-odessa/
LOCATION:Odessa Branch\, 107 W. Mason\, Odessa\, MO\, 64076\, United States
CATEGORIES:Adult,Adults,Crafts,senior,Seniors
END:VEVENT
BEGIN:VEVENT
DTSTART;TZID=America/New_York:20231003T090000
DTEND;TZID=America/New_York:20231003T100000
DTSTAMP:20260425T080534
CREATED:20230818T201448Z
LAST-MODIFIED:20230820T063730Z
UID:10005693-1696323600-1696327200@www.trailslibrary.org
SUMMARY:Get Hooked - Warrensburg
DESCRIPTION:All Ages: Get Hooked! Come join us for tips and tricks\, learn how to crochet or knit.
URL:https://www.trailslibrary.org/event/get-hooked-warrensburg-16/
LOCATION:Warrensburg Branch\, 432 N. Holden\, Warrensburg\, Missouri\, 64093\, United States
CATEGORIES:Adult,Adults,All Ages,Children,Crafts,Family,Kids,preteens,senior,Seniors,Teen,Teens,Youth
END:VEVENT
BEGIN:VEVENT
DTSTART;TZID=America/New_York:20231010T103000
DTEND;TZID=America/New_York:20231010T110000
DTSTAMP:20260425T080534
CREATED:20230820T064031Z
LAST-MODIFIED:20230820T064031Z
UID:10005843-1696933800-1696935600@www.trailslibrary.org
SUMMARY:Preschool Craftime - Warrensburg
DESCRIPTION:Ages 0-5: Stay after storytime to make a themed craft with Miss Amy.
URL:https://www.trailslibrary.org/event/preschool-craftime-warrensburg-5/
LOCATION:Warrensburg Branch\, 432 N. Holden\, Warrensburg\, Missouri\, 64093\, United States
CATEGORIES:Children,Craft,Crafts,Kids,Preschool
END:VEVENT
BEGIN:VEVENT
DTSTART;TZID=America/New_York:20231010T150000
DTEND;TZID=America/New_York:20231010T160000
DTSTAMP:20260425T080534
CREATED:20230820T064729Z
LAST-MODIFIED:20230820T064729Z
UID:10006987-1696950000-1696953600@www.trailslibrary.org
SUMMARY:Pumpkin Wood Craft Painting - Holden
DESCRIPTION:Ages 19+: REGISTRATION REQUIRED–Come paint a large wooden craft pumpkin for your door.
URL:https://www.trailslibrary.org/event/pumpkin-wood-craft-painting-holden-2/
LOCATION:Holden Branch\, 207 S. Main\, Holden\, MO\, 64040\, United States
CATEGORIES:Adult,Adults,Crafts,senior,Seniors
END:VEVENT
BEGIN:VEVENT
DTSTART;TZID=America/New_York:20231010T160000
DTEND;TZID=America/New_York:20231010T170000
DTSTAMP:20260425T080534
CREATED:20230820T064729Z
LAST-MODIFIED:20230820T064729Z
UID:10006986-1696953600-1696957200@www.trailslibrary.org
SUMMARY:Pumpkin Wood Craft Painting - Holden
DESCRIPTION:Ages 13-18: Come paint a large wooden craft pumpkin for your door.
URL:https://www.trailslibrary.org/event/pumpkin-wood-craft-painting-holden/
LOCATION:Holden Branch\, 207 S. Main\, Holden\, MO\, 64040\, United States
CATEGORIES:Crafts,Teen,Teens
END:VEVENT
BEGIN:VEVENT
DTSTART;TZID=America/New_York:20231014T100000
DTEND;TZID=America/New_York:20231014T110000
DTSTAMP:20260425T080534
CREATED:20230818T201301Z
LAST-MODIFIED:20230820T063543Z
UID:10005660-1697277600-1697281200@www.trailslibrary.org
SUMMARY:Beginner Woodcarving - Warrensburg
DESCRIPTION:All Ages: Learn the history\, tools and art of beginning woodcarving with the Old Drum Woodcarvers.  You will be given an opportunity to carve a dog.
URL:https://www.trailslibrary.org/event/beginner-woodcarving-warrensburg/
LOCATION:Warrensburg Branch\, 432 N. Holden\, Warrensburg\, Missouri\, 64093\, United States
CATEGORIES:Adult,Adults,All Ages,Children,Crafts,Family,Kids,preteens,senior,Seniors,Teen,Teens,Youth
END:VEVENT
BEGIN:VEVENT
DTSTART;TZID=America/New_York:20231014T140000
DTEND;TZID=America/New_York:20231014T150000
DTSTAMP:20260425T080534
CREATED:20230818T201301Z
LAST-MODIFIED:20230820T063543Z
UID:10005658-1697292000-1697295600@www.trailslibrary.org
SUMMARY:Bead It!  - Warrensburg
DESCRIPTION:Ages 5-18: Join us to create fun fuse bead designs!
URL:https://www.trailslibrary.org/event/bead-it-warrensburg/
LOCATION:Warrensburg Branch\, 432 N. Holden\, Warrensburg\, Missouri\, 64093\, United States
CATEGORIES:Children,Crafts,Kids
END:VEVENT
BEGIN:VEVENT
DTSTART;TZID=America/New_York:20231016T160000
DTEND;TZID=America/New_York:20231016T164500
DTSTAMP:20260425T080534
CREATED:20230818T201131Z
LAST-MODIFIED:20230818T212505Z
UID:10006746-1697472000-1697474700@www.trailslibrary.org
SUMMARY:Adventures with Moonlight - Odessa
DESCRIPTION:Ages 5-8: Take part in Moonlight’s journey as she explores Halloween.  Then make  Moonlight to take home.
URL:https://www.trailslibrary.org/event/adventures-with-moonlight-odessa/
LOCATION:Odessa Branch\, 107 W. Mason\, Odessa\, MO\, 64076\, United States
CATEGORIES:Children,Crafts,Kids
END:VEVENT
BEGIN:VEVENT
DTSTART;TZID=America/New_York:20231016T173000
DTEND;TZID=America/New_York:20231016T183000
DTSTAMP:20260425T080534
CREATED:20230818T201403Z
LAST-MODIFIED:20230820T063646Z
UID:10006787-1697477400-1697481000@www.trailslibrary.org
SUMMARY:Craftastic - Warrensburg
DESCRIPTION:Ages 13+: Join us as we create a fall watercolor canvas.
URL:https://www.trailslibrary.org/event/craftastic-warrensburg-7/
LOCATION:Warrensburg Branch\, 432 N. Holden\, Warrensburg\, Missouri\, 64093\, United States
CATEGORIES:Adult,Adults,Crafts,senior,Seniors,Teen,Teens
END:VEVENT
BEGIN:VEVENT
DTSTART;TZID=America/New_York:20231016T183000
DTEND;TZID=America/New_York:20231016T193000
DTSTAMP:20260425T080534
CREATED:20230818T200420Z
LAST-MODIFIED:20230818T200420Z
UID:10006671-1697481000-1697484600@www.trailslibrary.org
SUMMARY:Pumpkin Painting - Corder
DESCRIPTION:All Ages/Registration Required: Join us for some fall fun!  Each participant will enjoy decorating/ painting their own little pumpkin to take home.
URL:https://www.trailslibrary.org/event/pumpkin-painting-corder/
LOCATION:Corder Branch\, 221 N. Lafayette\, Corder\, MO\, 64021\, United States
CATEGORIES:Adults,All Ages,Children,Crafts,Family,Kids,Teen,Teens
END:VEVENT
BEGIN:VEVENT
DTSTART;TZID=America/New_York:20231017T103000
DTEND;TZID=America/New_York:20231017T110000
DTSTAMP:20260425T080534
CREATED:20230820T064032Z
LAST-MODIFIED:20230820T064032Z
UID:10005845-1697538600-1697540400@www.trailslibrary.org
SUMMARY:Preschool Craftime - Warrensburg
DESCRIPTION:Ages 0-5: Stay after storytime to make a themed craft with Miss Amy.
URL:https://www.trailslibrary.org/event/preschool-craftime-warrensburg-6/
LOCATION:Warrensburg Branch\, 432 N. Holden\, Warrensburg\, Missouri\, 64093\, United States
CATEGORIES:Children,Craft,Crafts,Kids,Preschool
END:VEVENT
BEGIN:VEVENT
DTSTART;TZID=America/New_York:20231017T170000
DTEND;TZID=America/New_York:20231017T180000
DTSTAMP:20260425T080534
CREATED:20230818T201448Z
LAST-MODIFIED:20230820T063730Z
UID:10005695-1697562000-1697565600@www.trailslibrary.org
SUMMARY:Get Hooked - Warrensburg
DESCRIPTION:All Ages: Get Hooked! Come join us for tips and tricks\, learn how to crochet or knit.
URL:https://www.trailslibrary.org/event/get-hooked-warrensburg-17/
LOCATION:Warrensburg Branch\, 432 N. Holden\, Warrensburg\, Missouri\, 64093\, United States
CATEGORIES:Adult,Adults,All Ages,Children,Crafts,Family,Kids,preteens,senior,Seniors,Teen,Teens,Youth
END:VEVENT
BEGIN:VEVENT
DTSTART;TZID=America/New_York:20231019T153000
DTEND;TZID=America/New_York:20231019T170000
DTSTAMP:20260425T080534
CREATED:20230820T042908Z
LAST-MODIFIED:20230820T042908Z
UID:10006860-1697729400-1697734800@www.trailslibrary.org
SUMMARY:T(w)een Time - Lexington
DESCRIPTION:Ages 13-18: Come hang out with friends for an afternoon of fun! Play games\, make crafts\, and enjoy snacks!
URL:https://www.trailslibrary.org/event/tween-time-lexington-2/
LOCATION:Lexington Branch\, 1008 Main Street\, Lexington\, MO\, 64067\, United States
CATEGORIES:Crafts,Teen,Teens
END:VEVENT
BEGIN:VEVENT
DTSTART;TZID=America/New_York:20231019T153000
DTEND;TZID=America/New_York:20231019T173000
DTSTAMP:20260425T080534
CREATED:20230818T200726Z
LAST-MODIFIED:20230820T064713Z
UID:10005580-1697729400-1697736600@www.trailslibrary.org
SUMMARY:Learn to Draw - Scary Stuff - Holden
DESCRIPTION:All Ages: REGISTRATION REQUIRED–Come draw bats\, cats\, skulls\, snakes\, et. This is a learn to draw sketch class.
URL:https://www.trailslibrary.org/event/learn-to-draw-scary-stuff-holden/
LOCATION:Holden Branch\, 207 S. Main\, Holden\, MO\, 64040\, United States
CATEGORIES:Adult,Adults,All Ages,Children,Crafts,Family,Kids,senior,Seniors,Teen,Teens
END:VEVENT
BEGIN:VEVENT
DTSTART;TZID=America/New_York:20231023T160000
DTEND;TZID=America/New_York:20231023T170000
DTSTAMP:20260425T080534
CREATED:20230818T201254Z
LAST-MODIFIED:20230831T172930Z
UID:10006766-1698076800-1698080400@www.trailslibrary.org
SUMMARY:Nightmare Before Craft Time - Odessa
DESCRIPTION:Ages 9-12: Do you know the pumpkin king and queen? Play trivia about Jack and Sally and make your favorite balloon string art character.
URL:https://www.trailslibrary.org/event/nightmare-before-craft-time-odessa/
LOCATION:Odessa Branch\, 107 W. Mason\, Odessa\, MO\, 64076\, United States
CATEGORIES:Children,Crafts,Kids
END:VEVENT
BEGIN:VEVENT
DTSTART;TZID=America/New_York:20231023T173000
DTEND;TZID=America/New_York:20231023T183000
DTSTAMP:20260425T080534
CREATED:20230818T201417Z
LAST-MODIFIED:20230820T063700Z
UID:10006792-1698082200-1698085800@www.trailslibrary.org
SUMMARY:DIY Spa Series - Warrensburg
DESCRIPTION:Ages 19+: Join us to make a pumkin flavored Lip Scrub.
URL:https://www.trailslibrary.org/event/diy-spa-series-warrensburg-7/
LOCATION:Warrensburg Branch\, 432 N. Holden\, Warrensburg\, Missouri\, 64093\, United States
CATEGORIES:Adult,Adults,Crafts,senior,Seniors
END:VEVENT
BEGIN:VEVENT
DTSTART;TZID=America/New_York:20231024T103000
DTEND;TZID=America/New_York:20231024T110000
DTSTAMP:20260425T080534
CREATED:20230820T064032Z
LAST-MODIFIED:20230820T064032Z
UID:10005847-1698143400-1698145200@www.trailslibrary.org
SUMMARY:Preschool Craftime - Warrensburg
DESCRIPTION:Ages 0-5: Stay after storytime to make a themed craft with Miss Amy.
URL:https://www.trailslibrary.org/event/preschool-craftime-warrensburg-7/
LOCATION:Warrensburg Branch\, 432 N. Holden\, Warrensburg\, Missouri\, 64093\, United States
CATEGORIES:Children,Craft,Crafts,Kids,Preschool
END:VEVENT
BEGIN:VEVENT
DTSTART;TZID=America/New_York:20231024T150000
DTEND;TZID=America/New_York:20231024T170000
DTSTAMP:20260425T080534
CREATED:20230818T200653Z
LAST-MODIFIED:20230820T064641Z
UID:10006681-1698159600-1698166800@www.trailslibrary.org
SUMMARY:Art and Craft Club - Fall Candle Craft - Holden
DESCRIPTION:All Ages: REGISTRATION REQUIRED–Art & Craft Club is a social hour for Patrons to bring Art & Craft projects. This month we will make a fall craft candle jar where we decoupage on fall leaves.
URL:https://www.trailslibrary.org/event/art-and-craft-club-fall-candle-craft-holden/
LOCATION:Holden Branch\, 207 S. Main\, Holden\, MO\, 64040\, United States
CATEGORIES:Adult,Adults,All Ages,Children,Crafts,Family,Kids,senior,Seniors,Teen,Teens
END:VEVENT
BEGIN:VEVENT
DTSTART;TZID=America/New_York:20231027T100000
DTEND;TZID=America/New_York:20231027T110000
DTSTAMP:20260425T080534
CREATED:20230818T200419Z
LAST-MODIFIED:20230818T200419Z
UID:10006668-1698400800-1698404400@www.trailslibrary.org
SUMMARY:Needle Stories - Corder
DESCRIPTION:Ages 19+:  Bring your project (crochet\, knitting\, sewing\, etc.) and spend an hour with fellow hobbiest.  We will have soemone on hand to teach crochet if you would like to learn.
URL:https://www.trailslibrary.org/event/needle-stories-corder-6/
LOCATION:Corder Branch\, 221 N. Lafayette\, Corder\, MO\, 64021\, United States
CATEGORIES:Adult,Adults,Crafts,senior,Seniors
END:VEVENT
BEGIN:VEVENT
DTSTART;TZID=America/New_York:20231031T103000
DTEND;TZID=America/New_York:20231031T110000
DTSTAMP:20260425T080534
CREATED:20230820T064046Z
LAST-MODIFIED:20230820T064046Z
UID:10006944-1698748200-1698750000@www.trailslibrary.org
SUMMARY:Preschool Craftime - Warrensburg
DESCRIPTION:Ages 0-5: Stay after storytime to make a themed craft with Miss Amy.
URL:https://www.trailslibrary.org/event/preschool-craftime-warrensburg-8/
LOCATION:Warrensburg Branch\, 432 N. Holden\, Warrensburg\, Missouri\, 64093\, United States
CATEGORIES:Children,Craft,Crafts,Kids,Preschool
END:VEVENT
BEGIN:VEVENT
DTSTART;TZID=America/New_York:20231102T163000
DTEND;TZID=America/New_York:20231102T163000
DTSTAMP:20260425T080534
CREATED:20230818T201154Z
LAST-MODIFIED:20230830T154520Z
UID:10006748-1698942600-1698942600@www.trailslibrary.org
SUMMARY:Crafternoon - Odessa
DESCRIPTION:Ages 19+: REGISTRATION Required–Come make a fun multi-seasonal decoration for your home!
URL:https://www.trailslibrary.org/event/crafternoon-odessa-2/
LOCATION:Odessa Branch\, 107 W. Mason\, Odessa\, MO\, 64076\, United States
CATEGORIES:Adult,Adults,Crafts,senior,Seniors
END:VEVENT
BEGIN:VEVENT
DTSTART;TZID=America/New_York:20231103T150000
DTEND;TZID=America/New_York:20231103T160000
DTSTAMP:20260425T080534
CREATED:20230820T063800Z
LAST-MODIFIED:20230820T063800Z
UID:10006912-1699023600-1699027200@www.trailslibrary.org
SUMMARY:Holiday Card Making - Warrensburg
DESCRIPTION:Ages 19+: Join us to get ready for the Holidays and create lovely and cute Holiday cards.
URL:https://www.trailslibrary.org/event/holiday-card-making-warrensburg-2/
LOCATION:Warrensburg Branch\, 432 N. Holden\, Warrensburg\, Missouri\, 64093\, United States
CATEGORIES:Adult,Adults,Crafts,senior,Seniors
END:VEVENT
END:VCALENDAR