BEGIN:VCALENDAR
VERSION:2.0
PRODID:-//Trails Regional Library - ECPv6.15.20//NONSGML v1.0//EN
CALSCALE:GREGORIAN
METHOD:PUBLISH
X-ORIGINAL-URL:https://www.trailslibrary.org
X-WR-CALDESC:Events for Trails Regional Library
REFRESH-INTERVAL;VALUE=DURATION:PT1H
X-Robots-Tag:noindex
X-PUBLISHED-TTL:PT1H
BEGIN:VTIMEZONE
TZID:America/New_York
BEGIN:DAYLIGHT
TZOFFSETFROM:-0500
TZOFFSETTO:-0400
TZNAME:EDT
DTSTART:20240310T070000
END:DAYLIGHT
BEGIN:STANDARD
TZOFFSETFROM:-0400
TZOFFSETTO:-0500
TZNAME:EST
DTSTART:20241103T060000
END:STANDARD
BEGIN:DAYLIGHT
TZOFFSETFROM:-0500
TZOFFSETTO:-0400
TZNAME:EDT
DTSTART:20250309T070000
END:DAYLIGHT
BEGIN:STANDARD
TZOFFSETFROM:-0400
TZOFFSETTO:-0500
TZNAME:EST
DTSTART:20251102T060000
END:STANDARD
BEGIN:DAYLIGHT
TZOFFSETFROM:-0500
TZOFFSETTO:-0400
TZNAME:EDT
DTSTART:20260308T070000
END:DAYLIGHT
BEGIN:STANDARD
TZOFFSETFROM:-0400
TZOFFSETTO:-0500
TZNAME:EST
DTSTART:20261101T060000
END:STANDARD
END:VTIMEZONE
BEGIN:VEVENT
DTSTART;TZID=America/New_York:20250717T173000
DTEND;TZID=America/New_York:20250717T173000
DTSTAMP:20260423T004929
CREATED:20250509T135736Z
LAST-MODIFIED:20250509T135736Z
UID:10009022-1752773400-1752773400@www.trailslibrary.org
SUMMARY:Bee Creative - Lexington Branch
DESCRIPTION:Ages 19+ REGISTRATION REQUIRED: Arranging flowers is a breeze with a clay flower frog. Bring fresh cut flowers inside with this cute and clever craft. This will be a 2 part program and registration is required.
URL:https://www.trailslibrary.org/event/bee-creative-lexington-branch-2/
LOCATION:Lexington Branch\, 1008 Main Street\, Lexington\, MO\, 64067\, United States
CATEGORIES:Adult,Adults,Crafts,senior,Seniors
END:VEVENT
BEGIN:VEVENT
DTSTART;TZID=America/New_York:20250718T140000
DTEND;TZID=America/New_York:20250718T140000
DTSTAMP:20260423T004929
CREATED:20250509T134118Z
LAST-MODIFIED:20250509T134118Z
UID:10008943-1752847200-1752847200@www.trailslibrary.org
SUMMARY:Teen Crafternoon - Corder Branch
DESCRIPTION:Ages 13-18: Get crafty and make something new!
URL:https://www.trailslibrary.org/event/teen-crafternoon-corder-branch-3/
LOCATION:Corder Branch\, 221 N. Lafayette\, Corder\, MO\, 64021\, United States
CATEGORIES:Crafts,Teen,Teens
END:VEVENT
BEGIN:VEVENT
DTSTART;TZID=America/New_York:20250721T140000
DTEND;TZID=America/New_York:20250721T140000
DTSTAMP:20260423T004929
CREATED:20250509T142526Z
LAST-MODIFIED:20250509T142526Z
UID:10009207-1753106400-1753106400@www.trailslibrary.org
SUMMARY:Homemade Sidewalk Chalk - Waverly Branch
DESCRIPTION:Ages 6-12: Like to draw on the sidewalk? Come and make your own sidewalk chalk.
URL:https://www.trailslibrary.org/event/homemade-sidewalk-chalk-waverly-branch/
LOCATION:Waverly Branch\, 203 E. Kelling\, Waverly\, MO\, 64096\, United States
CATEGORIES:Children,Crafts,Kids
END:VEVENT
BEGIN:VEVENT
DTSTART;TZID=America/New_York:20250721T160000
DTEND;TZID=America/New_York:20250721T160000
DTSTAMP:20260423T004929
CREATED:20250509T141033Z
LAST-MODIFIED:20250509T141033Z
UID:10009101-1753113600-1753113600@www.trailslibrary.org
SUMMARY:Textured Art - Odessa Branch
DESCRIPTION:Ages 5-8: Explore a shiny new art form and be creative with tin foil!
URL:https://www.trailslibrary.org/event/textured-art-odessa-branch/
LOCATION:Odessa Branch\, 107 W. Mason\, Odessa\, MO\, 64076\, United States
CATEGORIES:Children,Crafts,Kids
END:VEVENT
BEGIN:VEVENT
DTSTART;TZID=America/New_York:20250721T170000
DTEND;TZID=America/New_York:20250721T170000
DTSTAMP:20260423T004929
CREATED:20250509T141224Z
LAST-MODIFIED:20250509T141224Z
UID:10009114-1753117200-1753117200@www.trailslibrary.org
SUMMARY:Craftastic - Warrensburg Branch
DESCRIPTION:Ages 19+ REGISTRATION REQUIRED: Join fellow crafters at Trails for a fun and creative DIY project! All materials will be provided\, so bring your creativity and enjoy crafting with others.
URL:https://www.trailslibrary.org/event/craftastic-warrensburg-branch-6/
LOCATION:Warrensburg Branch\, 432 N. Holden\, Warrensburg\, Missouri\, 64093\, United States
CATEGORIES:Adult,Adults,Crafts,senior,Seniors
END:VEVENT
BEGIN:VEVENT
DTSTART;TZID=America/New_York:20250722T110000
DTEND;TZID=America/New_York:20250722T110000
DTSTAMP:20260423T004929
CREATED:20250509T135059Z
LAST-MODIFIED:20250509T135059Z
UID:10009006-1753182000-1753182000@www.trailslibrary.org
SUMMARY:Start with Starter - Knob Noster Branch
DESCRIPTION:Ages 19+ REGISTRATION REQUIRED: Learn the basics of sourdough in this beginner-friendly presentation and take home a dried starter to begin your own baking journey!
URL:https://www.trailslibrary.org/event/start-with-starter-knob-noster-branch/
LOCATION:Knob Noster Branch\, 202 N. Adams\, Knob Noster\, MO\, 65336\, United States
CATEGORIES:Adult,Adults,Crafts,senior,Seniors
END:VEVENT
BEGIN:VEVENT
DTSTART;TZID=America/New_York:20250722T150000
DTEND;TZID=America/New_York:20250722T150000
DTSTAMP:20260423T004929
CREATED:20250509T134723Z
LAST-MODIFIED:20250509T134723Z
UID:10008984-1753196400-1753196400@www.trailslibrary.org
SUMMARY:Summer Wooden Doorhanger - Holden Branch
DESCRIPTION:Ages 13-18: Come paint a Summer Wooden Doorhanger to decorate your home for the season.
URL:https://www.trailslibrary.org/event/summer-wooden-doorhanger-holden-branch/
LOCATION:Holden Branch\, 207 S. Main\, Holden\, MO\, 64040\, United States
CATEGORIES:Crafts,Teen,Teens
END:VEVENT
BEGIN:VEVENT
DTSTART;TZID=America/New_York:20250723T130000
DTEND;TZID=America/New_York:20250723T130000
DTSTAMP:20260423T004929
CREATED:20250509T142254Z
LAST-MODIFIED:20250509T142254Z
UID:10009179-1753275600-1753275600@www.trailslibrary.org
SUMMARY:Snack Attack: Easy Eats for Kids - Warrensburg Branch
DESCRIPTION:Ages 6-12 REGISTRATION REQUIRED: Hands-on cooking fun where kids create easy recipes like salsa\, mug cakes\, and French bread pizzas using appliances like the stovetop\, air fryer\, and microwave—building kitchen skills along the way.
URL:https://www.trailslibrary.org/event/snack-attack-easy-eats-for-kids-warrensburg-branch-3/
LOCATION:Warrensburg Branch\, 432 N. Holden\, Warrensburg\, Missouri\, 64093\, United States
CATEGORIES:Children,Crafts,Kids
END:VEVENT
BEGIN:VEVENT
DTSTART;TZID=America/New_York:20250723T150000
DTEND;TZID=America/New_York:20250723T150000
DTSTAMP:20260423T004929
CREATED:20250509T142524Z
LAST-MODIFIED:20250509T142524Z
UID:10009202-1753282800-1753282800@www.trailslibrary.org
SUMMARY:Book Page Wreath - Waverly Branch
DESCRIPTION:Ages 19+: Join us in learning how to make a wreath out of old newspapers.
URL:https://www.trailslibrary.org/event/book-page-wreath-waverly-branch/
LOCATION:Waverly Branch\, 203 E. Kelling\, Waverly\, MO\, 64096\, United States
CATEGORIES:Adult,Adults,Crafts,senior,Seniors
END:VEVENT
BEGIN:VEVENT
DTSTART;TZID=America/New_York:20250723T170000
DTEND;TZID=America/New_York:20250723T170000
DTSTAMP:20260423T004929
CREATED:20250509T142224Z
LAST-MODIFIED:20250509T142224Z
UID:10009171-1753290000-1753290000@www.trailslibrary.org
SUMMARY:Pickle Lab - Warrensburg Branch
DESCRIPTION:All Ages REGISTRATION REQUIRED: Learn to make your own refrigerator pickles in this fun\, hands-on program—no canning required! Experiment with flavors\, explore the science of pickling\, and take home a jar of your creation.
URL:https://www.trailslibrary.org/event/pickle-lab-warrensburg-branch/
LOCATION:Warrensburg Branch\, 432 N. Holden\, Warrensburg\, Missouri\, 64093\, United States
CATEGORIES:Adult,Adults,All Ages,Children,Crafts,Family,Kids,preteens,senior,Seniors,Teen,Teens,Youth
END:VEVENT
BEGIN:VEVENT
DTSTART;TZID=America/New_York:20250725T100000
DTEND;TZID=America/New_York:20250725T100000
DTSTAMP:20260423T004929
CREATED:20250509T141425Z
LAST-MODIFIED:20250509T141425Z
UID:10009122-1753437600-1753437600@www.trailslibrary.org
SUMMARY:Crafty Creations - Warrensburg Branch
DESCRIPTION:Ages 6-12 REGISTRATION REQUIRED: Join us for hands-on fun where kids can get creative using recycled\, repurposed\, and budget-friendly materials. *Bring your own tshirt\, bandana\, or socks to tie dye!
URL:https://www.trailslibrary.org/event/crafty-creations-warrensburg-branch-5/
LOCATION:Warrensburg Branch\, 432 N. Holden\, Warrensburg\, Missouri\, 64093\, United States
CATEGORIES:Children,Crafts,Kids
END:VEVENT
BEGIN:VEVENT
DTSTART;TZID=America/New_York:20250725T103000
DTEND;TZID=America/New_York:20250725T103000
DTSTAMP:20260423T004929
CREATED:20250509T134944Z
LAST-MODIFIED:20250509T134944Z
UID:10008995-1753439400-1753439400@www.trailslibrary.org
SUMMARY:Ink-tastic Bookmarks - Knob Noster Branch
DESCRIPTION:Ages 6-12: Join us for a fun and creative afternoon of making vibrant\, one-of-a-kind bookmarks using alcohol inks!
URL:https://www.trailslibrary.org/event/ink-tastic-bookmarks-knob-noster-branch/
LOCATION:Knob Noster Branch\, 202 N. Adams\, Knob Noster\, MO\, 65336\, United States
CATEGORIES:Children,Crafts,Kids
END:VEVENT
BEGIN:VEVENT
DTSTART;TZID=America/New_York:20250725T140000
DTEND;TZID=America/New_York:20250725T140000
DTSTAMP:20260423T004929
CREATED:20250509T134118Z
LAST-MODIFIED:20250509T134118Z
UID:10008944-1753452000-1753452000@www.trailslibrary.org
SUMMARY:Teen Crafternoon - Corder Branch
DESCRIPTION:Ages 13-18: Get crafty and make something new!
URL:https://www.trailslibrary.org/event/teen-crafternoon-corder-branch-4/
LOCATION:Corder Branch\, 221 N. Lafayette\, Corder\, MO\, 64021\, United States
CATEGORIES:Crafts,Teen,Teens
END:VEVENT
BEGIN:VEVENT
DTSTART;TZID=America/New_York:20250726T100000
DTEND;TZID=America/New_York:20250726T100000
DTSTAMP:20260423T004929
CREATED:20250509T141624Z
LAST-MODIFIED:20250509T141624Z
UID:10009124-1753524000-1753524000@www.trailslibrary.org
SUMMARY:Crafty Family Fun - Warrensburg Branch
DESCRIPTION:All Ages: Bring the whole family to create a fun craft together!
URL:https://www.trailslibrary.org/event/crafty-family-fun-warrensburg-branch-6/
LOCATION:Warrensburg Branch\, 432 N. Holden\, Warrensburg\, Missouri\, 64093\, United States
CATEGORIES:Adult,Adults,All Ages,Children,Crafts,Family,Kids,preteens,senior,Seniors,Teen,Teens,Youth
END:VEVENT
BEGIN:VEVENT
DTSTART;TZID=America/New_York:20250726T140000
DTEND;TZID=America/New_York:20250726T140000
DTSTAMP:20260423T004929
CREATED:20250509T141207Z
LAST-MODIFIED:20250509T141207Z
UID:10009106-1753538400-1753538400@www.trailslibrary.org
SUMMARY:Brewed to Perfection - Warrensburg Branch
DESCRIPTION:Ages 19+ REGISTRATION REQUIRED: This program will guide you through the process of making your own custom tea blends. Come for the tea\, stay for the knowledge—and take home a blend made just for you!
URL:https://www.trailslibrary.org/event/brewed-to-perfection-warrensburg-branch/
LOCATION:Warrensburg Branch\, 432 N. Holden\, Warrensburg\, Missouri\, 64093\, United States
CATEGORIES:Adult,Adults,Crafts,senior,Seniors
END:VEVENT
BEGIN:VEVENT
DTSTART;TZID=America/New_York:20250728T180000
DTEND;TZID=America/New_York:20250728T180000
DTSTAMP:20260423T004929
CREATED:20250509T141034Z
LAST-MODIFIED:20250509T141034Z
UID:10009102-1753725600-1753725600@www.trailslibrary.org
SUMMARY:The Art of Floating Ink - Odessa Branch
DESCRIPTION:Ages 19+: Learn the ancient art of Suminagashi by creating your own marbled paper masterpiece.
URL:https://www.trailslibrary.org/event/the-art-of-floating-ink-odessa-branch/
LOCATION:Odessa Branch\, 107 W. Mason\, Odessa\, MO\, 64076\, United States
CATEGORIES:Adult,Adults,Crafts,senior,Seniors
END:VEVENT
BEGIN:VEVENT
DTSTART;TZID=America/New_York:20250730T130000
DTEND;TZID=America/New_York:20250730T130000
DTSTAMP:20260423T004929
CREATED:20250509T142254Z
LAST-MODIFIED:20250509T142254Z
UID:10009180-1753880400-1753880400@www.trailslibrary.org
SUMMARY:Snack Attack: Easy Eats for Kids - Warrensburg Branch
DESCRIPTION:Ages 6-12 REGISTRATION REQUIRED: Hands-on cooking fun where kids create easy recipes like salsa\, mug cakes\, and French bread pizzas using appliances like the stovetop\, air fryer\, and microwave—building kitchen skills along the way.
URL:https://www.trailslibrary.org/event/snack-attack-easy-eats-for-kids-warrensburg-branch-4/
LOCATION:Warrensburg Branch\, 432 N. Holden\, Warrensburg\, Missouri\, 64093\, United States
CATEGORIES:Children,Crafts,Kids
END:VEVENT
BEGIN:VEVENT
DTSTART;TZID=America/New_York:20250730T150000
DTEND;TZID=America/New_York:20250730T150000
DTSTAMP:20260423T004929
CREATED:20250509T142642Z
LAST-MODIFIED:20250509T142642Z
UID:10009232-1753887600-1753887600@www.trailslibrary.org
SUMMARY:Wind Chimes - Waverly Branch
DESCRIPTION:Ages 13-18: Come and make a wind chime out of buttons and plastic lids.
URL:https://www.trailslibrary.org/event/wind-chimes-waverly-branch/
LOCATION:Waverly Branch\, 203 E. Kelling\, Waverly\, MO\, 64096\, United States
CATEGORIES:Crafts,Teen,Teens
END:VEVENT
BEGIN:VEVENT
DTSTART;TZID=America/New_York:20250730T170000
DTEND;TZID=America/New_York:20250730T170000
DTSTAMP:20260423T004929
CREATED:20250509T142115Z
LAST-MODIFIED:20250509T142115Z
UID:10009142-1753894800-1753894800@www.trailslibrary.org
SUMMARY:Literary Antics - Warrensburg Branch
DESCRIPTION:Ages 19+ REGISTRATION REQUIRED: Transform retired books into one-of-a-kind crafts in this creative program!\nFor flyer: Turn a well-loved hardcover book into a charming trinket box—no crafting experience needed\, all materials provided!
URL:https://www.trailslibrary.org/event/literary-antics-warrensburg-branch-5/
LOCATION:Warrensburg Branch\, 432 N. Holden\, Warrensburg\, Missouri\, 64093\, United States
CATEGORIES:Adult,Adults,Crafts,senior,Seniors
END:VEVENT
BEGIN:VEVENT
DTSTART;TZID=America/New_York:20250801T130000
DTEND;TZID=America/New_York:20250801T130000
DTSTAMP:20260423T004929
CREATED:20250509T135514Z
LAST-MODIFIED:20250509T135514Z
UID:10009021-1754053200-1754053200@www.trailslibrary.org
SUMMARY:Sundown on Canvas - Knob Noster Branch
DESCRIPTION:Ages 19+: Follow along step-by-step to paint a beautiful sunset scene on canvas. No experience is needed!
URL:https://www.trailslibrary.org/event/sundown-on-canvas-knob-noster-branch/
LOCATION:Knob Noster Branch\, 202 N. Adams\, Knob Noster\, MO\, 65336\, United States
CATEGORIES:Adult,Adults,Crafts,senior,Seniors
END:VEVENT
BEGIN:VEVENT
DTSTART;TZID=America/New_York:20250807T140000
DTEND;TZID=America/New_York:20250807T140000
DTSTAMP:20260423T004929
CREATED:20250509T141225Z
LAST-MODIFIED:20250509T141225Z
UID:10009117-1754575200-1754575200@www.trailslibrary.org
SUMMARY:Crafternoon - Warrensburg Branch
DESCRIPTION:Ages 19+: Join us for Crafternoon—a perfect blend of crafting and conversation! Bring a project you’re working on or enjoy our adult coloring supplies while you chat\, relax\, and connect with fellow crafters. Whether you’re here to craft or just socialize\, everyone is welcome!
URL:https://www.trailslibrary.org/event/crafternoon-warrensburg-branch-8/
LOCATION:Warrensburg Branch\, 432 N. Holden\, Warrensburg\, Missouri\, 64093\, United States
CATEGORIES:Adult,Adults,Crafts,senior,Seniors
END:VEVENT
BEGIN:VEVENT
DTSTART;TZID=America/New_York:20250823T100000
DTEND;TZID=America/New_York:20250823T100000
DTSTAMP:20260423T004929
CREATED:20250509T141624Z
LAST-MODIFIED:20250509T141624Z
UID:10009125-1755943200-1755943200@www.trailslibrary.org
SUMMARY:Crafty Family Fun - Warrensburg Branch
DESCRIPTION:All Ages: Bring the whole family to create a fun craft together!
URL:https://www.trailslibrary.org/event/crafty-family-fun-warrensburg-branch-7/
LOCATION:Warrensburg Branch\, 432 N. Holden\, Warrensburg\, Missouri\, 64093\, United States
CATEGORIES:Adult,Adults,All Ages,Children,Crafts,Family,Kids,preteens,senior,Seniors,Teen,Teens,Youth
END:VEVENT
BEGIN:VEVENT
DTSTART;TZID=America/New_York:20250904T110000
DTEND;TZID=America/New_York:20250904T110000
DTSTAMP:20260423T004929
CREATED:20250811T145802Z
LAST-MODIFIED:20250811T145802Z
UID:10009308-1756983600-1756983600@www.trailslibrary.org
SUMMARY:Salt Painting - Knob Noster Branch
DESCRIPTION:Ages 6-12: Join us for a hands-on craft using glue\, salt\, and vibrant colors to create magical\, textured art!
URL:https://www.trailslibrary.org/event/salt-painting-knob-noster-branch/
LOCATION:Knob Noster Branch\, 202 N. Adams\, Knob Noster\, MO\, 65336\, United States
CATEGORIES:Children,Crafts,Kids
END:VEVENT
BEGIN:VEVENT
DTSTART;TZID=America/New_York:20250904T140000
DTEND;TZID=America/New_York:20250904T140000
DTSTAMP:20260423T004929
CREATED:20250811T150058Z
LAST-MODIFIED:20250811T150058Z
UID:10009353-1756994400-1756994400@www.trailslibrary.org
SUMMARY:Crafternoon - Warrensburg Branch
DESCRIPTION:Ages 19+: Join us for Crafternoon—a perfect blend of crafting and conversation! Bring a project you’re working on or enjoy our adult coloring supplies while you chat\, relax\, and connect with fellow crafters. Whether you’re here to craft or just socialize\, everyone is welcome!
URL:https://www.trailslibrary.org/event/crafternoon-warrensburg-branch-9/
LOCATION:Warrensburg Branch\, 432 N. Holden\, Warrensburg\, Missouri\, 64093\, United States
CATEGORIES:Adult,Adults,Crafts,senior,Seniors
END:VEVENT
BEGIN:VEVENT
DTSTART;TZID=America/New_York:20250908T160000
DTEND;TZID=America/New_York:20250908T160000
DTSTAMP:20260423T004929
CREATED:20250811T150006Z
LAST-MODIFIED:20250811T150006Z
UID:10009341-1757347200-1757347200@www.trailslibrary.org
SUMMARY:Moon Dough Glow Up! - Odessa Branch
DESCRIPTION:Ages 5-8: Join the fun making glow-in-the-dark moon dough—a soft\, squishy\, and cool experience that is perfect for curious hands and creative minds.
URL:https://www.trailslibrary.org/event/moon-dough-glow-up-odessa-branch/
LOCATION:Odessa Branch\, 107 W. Mason\, Odessa\, MO\, 64076\, United States
CATEGORIES:Children,Crafts,Kids
END:VEVENT
BEGIN:VEVENT
DTSTART;TZID=America/New_York:20250909T150000
DTEND;TZID=America/New_York:20250909T150000
DTSTAMP:20260423T004929
CREATED:20250811T145726Z
LAST-MODIFIED:20250811T145726Z
UID:10009297-1757430000-1757430000@www.trailslibrary.org
SUMMARY:Craft and Chill - Holden Branch
DESCRIPTION:Ages 19+ REGISTRATION REQUIRED: Unleash your creativity at our twice monthly crafting program. Each session will feature a new art project. All supplies provided\, no experience necessary.
URL:https://www.trailslibrary.org/event/craft-and-chill-holden-branch/
LOCATION:Holden Branch\, 207 S. Main\, Holden\, MO\, 64040\, United States
CATEGORIES:Adult,Adults,Crafts,senior,Seniors
END:VEVENT
BEGIN:VEVENT
DTSTART;TZID=America/New_York:20250909T150000
DTEND;TZID=America/New_York:20250909T150000
DTSTAMP:20260423T004929
CREATED:20250811T145817Z
LAST-MODIFIED:20250811T145817Z
UID:10009310-1757430000-1757430000@www.trailslibrary.org
SUMMARY:Art That Sticks - Knob Noster Branch
DESCRIPTION:Ages 19+: Try a variety of techniques to turn flat marbles into unique magnets!
URL:https://www.trailslibrary.org/event/art-that-sticks-knob-noster-branch/
LOCATION:Knob Noster Branch\, 202 N. Adams\, Knob Noster\, MO\, 65336\, United States
CATEGORIES:Adult,Adults,Crafts,senior,Seniors
END:VEVENT
BEGIN:VEVENT
DTSTART;TZID=America/New_York:20250911T153000
DTEND;TZID=America/New_York:20250911T153000
DTSTAMP:20260423T004929
CREATED:20250811T145910Z
LAST-MODIFIED:20250811T145910Z
UID:10009322-1757604600-1757604600@www.trailslibrary.org
SUMMARY:Kids Club - Lexington Branch
DESCRIPTION:Ages 6-12: If you like crafts\, games and fun science activites (STEAM) then this club is for you. Bring a friend for more FUN!
URL:https://www.trailslibrary.org/event/kids-club-lexington-branch-7/
LOCATION:Lexington Branch\, 1008 Main Street\, Lexington\, MO\, 64067\, United States
CATEGORIES:Children,Crafts,Kids
END:VEVENT
BEGIN:VEVENT
DTSTART;TZID=America/New_York:20250911T160000
DTEND;TZID=America/New_York:20250911T160000
DTSTAMP:20260423T004929
CREATED:20250811T150056Z
LAST-MODIFIED:20250811T150056Z
UID:10009346-1757606400-1757606400@www.trailslibrary.org
SUMMARY:12 Days of Kindness - Warrensburg Branch
DESCRIPTION:Ages 6-12: Join a creative craft series where kids can make heartfelt gifts for family/friends. Join us for hands on fun and take home a wrapped gift for each session.
URL:https://www.trailslibrary.org/event/12-days-of-kindness-warrensburg-branch/
LOCATION:Warrensburg Branch\, 432 N. Holden\, Warrensburg\, Missouri\, 64093\, United States
CATEGORIES:Children,Crafts,Kids
END:VEVENT
BEGIN:VEVENT
DTSTART;TZID=America/New_York:20250912T150000
DTEND;TZID=America/New_York:20250912T150000
DTSTAMP:20260423T004929
CREATED:20250811T145613Z
LAST-MODIFIED:20250811T145613Z
UID:10009290-1757689200-1757689200@www.trailslibrary.org
SUMMARY:Book Chat and Crafts - Corder Branch
DESCRIPTION:Ages 6-12: Join us for a kids’ book club\, where we’ll chat about books we are reading while working on fun crafts!
URL:https://www.trailslibrary.org/event/book-chat-and-crafts-corder-branch-7/
LOCATION:Corder Branch\, 221 N. Lafayette\, Corder\, MO\, 64021\, United States
CATEGORIES:Book Club,Children,Crafts,Kids
END:VEVENT
END:VCALENDAR