BEGIN:VCALENDAR
VERSION:2.0
PRODID:-//Trails Regional Library - ECPv6.15.20//NONSGML v1.0//EN
CALSCALE:GREGORIAN
METHOD:PUBLISH
X-ORIGINAL-URL:https://www.trailslibrary.org
X-WR-CALDESC:Events for Trails Regional Library
REFRESH-INTERVAL;VALUE=DURATION:PT1H
X-Robots-Tag:noindex
X-PUBLISHED-TTL:PT1H
BEGIN:VTIMEZONE
TZID:America/New_York
BEGIN:DAYLIGHT
TZOFFSETFROM:-0500
TZOFFSETTO:-0400
TZNAME:EDT
DTSTART:20250309T070000
END:DAYLIGHT
BEGIN:STANDARD
TZOFFSETFROM:-0400
TZOFFSETTO:-0500
TZNAME:EST
DTSTART:20251102T060000
END:STANDARD
BEGIN:DAYLIGHT
TZOFFSETFROM:-0500
TZOFFSETTO:-0400
TZNAME:EDT
DTSTART:20260308T070000
END:DAYLIGHT
BEGIN:STANDARD
TZOFFSETFROM:-0400
TZOFFSETTO:-0500
TZNAME:EST
DTSTART:20261101T060000
END:STANDARD
BEGIN:DAYLIGHT
TZOFFSETFROM:-0500
TZOFFSETTO:-0400
TZNAME:EDT
DTSTART:20270314T070000
END:DAYLIGHT
BEGIN:STANDARD
TZOFFSETFROM:-0400
TZOFFSETTO:-0500
TZNAME:EST
DTSTART:20271107T060000
END:STANDARD
END:VTIMEZONE
BEGIN:VEVENT
DTSTART;TZID=America/New_York:20260108T153000
DTEND;TZID=America/New_York:20260108T153000
DTSTAMP:20260422T173618
CREATED:20251215T202354Z
LAST-MODIFIED:20251215T202354Z
UID:10009902-1767886200-1767886200@www.trailslibrary.org
SUMMARY:Kids Club - Lexington Branch
DESCRIPTION:Ages 6-12: If you like crafts\, games and fun science activites (STEAM)\, then this club is for you. Bring a friend for more FUN!
URL:https://www.trailslibrary.org/event/kids-club-lexington-branch-11/
LOCATION:Lexington Branch\, 1008 Main Street\, Lexington\, MO\, 64067\, United States
CATEGORIES:Children,Crafts,Kids,STEAM
END:VEVENT
BEGIN:VEVENT
DTSTART;TZID=America/New_York:20260108T154500
DTEND;TZID=America/New_York:20260108T154500
DTSTAMP:20260422T173618
CREATED:20251215T202307Z
LAST-MODIFIED:20251215T202307Z
UID:10009891-1767887100-1767887100@www.trailslibrary.org
SUMMARY:Trading Card Club - Leeton Express Branch
DESCRIPTION:Ages 6-12: Join Mrs. Schuler for a meeting of the Trading Card Club. We will talk about different trading cards\, create our own trading cards. as well as play and trade.
URL:https://www.trailslibrary.org/event/trading-card-club-leeton-express-branch-6/
LOCATION:Leeton Express Branch\, 500 N. Main\, Leeton\, MO\, 64761\, United States
CATEGORIES:Children,Crafts,Kids
END:VEVENT
BEGIN:VEVENT
DTSTART;TZID=America/New_York:20260112T160000
DTEND;TZID=America/New_York:20260112T160000
DTSTAMP:20260422T173618
CREATED:20251215T203847Z
LAST-MODIFIED:20251215T203847Z
UID:10009976-1768233600-1768233600@www.trailslibrary.org
SUMMARY:Snowy Owl Adventure - Odessa Branch
DESCRIPTION:Ages 5-8: Learn about the Snowy Owls and do a texture fork owl painting.
URL:https://www.trailslibrary.org/event/snowy-owl-adventure-odessa-branch/
LOCATION:Odessa Branch\, 107 W. Mason\, Odessa\, MO\, 64076\, United States
CATEGORIES:Children,Crafts,Kids
END:VEVENT
BEGIN:VEVENT
DTSTART;TZID=America/New_York:20260112T170000
DTEND;TZID=America/New_York:20260112T170000
DTSTAMP:20260422T173618
CREATED:20251215T204815Z
LAST-MODIFIED:20251215T204815Z
UID:10010019-1768237200-1768237200@www.trailslibrary.org
SUMMARY:Craftastic - Warrensburg Branch
DESCRIPTION:All Ages REGISTRATION REQUIRED: Join fellow crafters at Trails for a fun and creative DIY project! All materials will be provided\, so bring your creativity and enjoy crafting with others.
URL:https://www.trailslibrary.org/event/craftastic-warrensburg-branch-11/
LOCATION:Warrensburg Branch\, 432 N. Holden\, Warrensburg\, Missouri\, 64093\, United States
CATEGORIES:Adult,Adults,All Ages,Children,Crafts,Family,Kids,preteens,senior,Seniors,Teen,Teens,Youth
END:VEVENT
BEGIN:VEVENT
DTSTART;TZID=America/New_York:20260115T153000
DTEND;TZID=America/New_York:20260115T153000
DTSTAMP:20260422T173618
CREATED:20251215T202911Z
LAST-MODIFIED:20251215T202911Z
UID:10009926-1768491000-1768491000@www.trailslibrary.org
SUMMARY:Tween Time - Lexington Branch
DESCRIPTION:Ages 13-18: Come hang out with friends for an afternoon of fun! Whether you like crafting\, playing games\, or science experiments\, there’s something for everyone!
URL:https://www.trailslibrary.org/event/tween-time-lexington-branch-11/
LOCATION:Lexington Branch\, 1008 Main Street\, Lexington\, MO\, 64067\, United States
CATEGORIES:Crafts,Pre-Teen,Pre-Teens,Teen,Teens
END:VEVENT
BEGIN:VEVENT
DTSTART;TZID=America/New_York:20260117T100000
DTEND;TZID=America/New_York:20260117T100000
DTSTAMP:20260422T173618
CREATED:20251215T200811Z
LAST-MODIFIED:20251215T200811Z
UID:10009754-1768644000-1768644000@www.trailslibrary.org
SUMMARY:Book Folding Creations - Corder Branch
DESCRIPTION:Ages 19+: Learn how to do book folding art!
URL:https://www.trailslibrary.org/event/book-folding-creations-corder-branch-4/
LOCATION:Corder Branch\, 221 N. Lafayette\, Corder\, MO\, 64021\, United States
CATEGORIES:Adult,Adults,Crafts,senior,Seniors
END:VEVENT
BEGIN:VEVENT
DTSTART;TZID=America/New_York:20260120T150000
DTEND;TZID=America/New_York:20260120T150000
DTSTAMP:20260422T173618
CREATED:20251215T201223Z
LAST-MODIFIED:20251215T201223Z
UID:10009815-1768921200-1768921200@www.trailslibrary.org
SUMMARY:Makers Gonna Make - Holden Branch
DESCRIPTION:Ages 19+: Unleash your creativity every other week with a new craft project designed for all experience levels. All materials are provided at no cost.
URL:https://www.trailslibrary.org/event/makers-gonna-make-holden-branch/
LOCATION:Holden Branch\, 207 S. Main\, Holden\, MO\, 64040\, United States
CATEGORIES:Adult,Adults,Crafts,senior,Seniors
END:VEVENT
BEGIN:VEVENT
DTSTART;TZID=America/New_York:20260122T140000
DTEND;TZID=America/New_York:20260122T140000
DTSTAMP:20260422T173618
CREATED:20251215T205143Z
LAST-MODIFIED:20251215T205143Z
UID:10010051-1769090400-1769090400@www.trailslibrary.org
SUMMARY:Neurographic Art - Warrensburg Branch
DESCRIPTION:Ages 19+: A simple yet powerful drawing technique that transforms stress into calm through flowing lines\, shapes\, and colors. No artistic experience required—just an open mind and a willingness to explore.
URL:https://www.trailslibrary.org/event/neurographic-art-warrensburg-branch-2/
LOCATION:Warrensburg Branch\, 432 N. Holden\, Warrensburg\, Missouri\, 64093\, United States
CATEGORIES:Adult,Adults,Crafts,senior,Seniors
END:VEVENT
BEGIN:VEVENT
DTSTART;TZID=America/New_York:20260124T100000
DTEND;TZID=America/New_York:20260124T100000
DTSTAMP:20260422T173618
CREATED:20251215T210307Z
LAST-MODIFIED:20251215T210307Z
UID:10010153-1769248800-1769248800@www.trailslibrary.org
SUMMARY:Winter Painting - Waverly Branch
DESCRIPTION:All Ages: Paint a beautiful sparking snow scene using paint and epsom salt.
URL:https://www.trailslibrary.org/event/winter-painting-waverly-branch/
LOCATION:Waverly Branch\, 203 E. Kelling\, Waverly\, MO\, 64096\, United States
CATEGORIES:Adult,Adults,All Ages,Children,Crafts,Family,Kids,preteens,senior,Seniors,Teen,Teens,Youth
END:VEVENT
BEGIN:VEVENT
DTSTART;TZID=America/New_York:20260124T100000
DTEND;TZID=America/New_York:20260124T100000
DTSTAMP:20260422T173618
CREATED:20251222T152304Z
LAST-MODIFIED:20251222T152304Z
UID:10010158-1769248800-1769248800@www.trailslibrary.org
SUMMARY:Crafty Family Fun - Warrensburg Branch
DESCRIPTION:All Ages: Join us for hands-on fun where kids can get creative using recycled\, repurposed\, and budget-friendly materials.
URL:https://www.trailslibrary.org/event/crafty-family-fun-warrensburg-branch-14/
LOCATION:Warrensburg Branch\, 432 N. Holden\, Warrensburg\, Missouri\, 64093\, United States
CATEGORIES:Adult,Adults,All Ages,Children,Crafts,Family,Kids,preteens,senior,Seniors,Teen,Teens,Youth
END:VEVENT
BEGIN:VEVENT
DTSTART;TZID=America/New_York:20260127T110000
DTEND;TZID=America/New_York:20260127T110000
DTSTAMP:20260422T173618
CREATED:20251215T202142Z
LAST-MODIFIED:20251215T202142Z
UID:10009890-1769511600-1769511600@www.trailslibrary.org
SUMMARY:There's Snow Way You Made That! - Knob Noster Branch
DESCRIPTION:Ages 6-12: Create a cool winter masterpiece using tape and paint to reveal a hidden snowflake design!
URL:https://www.trailslibrary.org/event/theres-snow-way-you-made-that-knob-noster-branch/
LOCATION:Knob Noster Branch\, 202 N. Adams\, Knob Noster\, MO\, 65336\, United States
CATEGORIES:Children,Crafts,Kids
END:VEVENT
BEGIN:VEVENT
DTSTART;TZID=America/New_York:20260127T170000
DTEND;TZID=America/New_York:20260127T170000
DTSTAMP:20260422T173618
CREATED:20251215T201957Z
LAST-MODIFIED:20251215T201957Z
UID:10009855-1769533200-1769533200@www.trailslibrary.org
SUMMARY:Hygge Night - Knob Noster Branch
DESCRIPTION:Ages 19+: Join us for a relaxing night at the library! Sip something warm\, make a comforting craft\, and unwind with a good book.
URL:https://www.trailslibrary.org/event/hygge-night-knob-noster-branch/
LOCATION:Knob Noster Branch\, 202 N. Adams\, Knob Noster\, MO\, 65336\, United States
CATEGORIES:Adult,Adults,Crafts,senior,Seniors
END:VEVENT
BEGIN:VEVENT
DTSTART;TZID=America/New_York:20260127T170000
DTEND;TZID=America/New_York:20260127T170000
DTSTAMP:20260422T173618
CREATED:20251215T204846Z
LAST-MODIFIED:20251215T204846Z
UID:10010031-1769533200-1769533200@www.trailslibrary.org
SUMMARY:Literary Antics - Warrensburg Branch
DESCRIPTION:Ages 19+ REGISTRATION REQUIRED: Transform retired books into one-of-a-kind crafts in this creative program!
URL:https://www.trailslibrary.org/event/literary-antics-warrensburg-branch-7/
LOCATION:Warrensburg Branch\, 432 N. Holden\, Warrensburg\, Missouri\, 64093\, United States
CATEGORIES:Adult,Adults,Crafts,senior,Seniors
END:VEVENT
BEGIN:VEVENT
DTSTART;TZID=America/New_York:20260131T120000
DTEND;TZID=America/New_York:20260131T120000
DTSTAMP:20260422T173618
CREATED:20251215T203020Z
LAST-MODIFIED:20251215T203020Z
UID:10009948-1769860800-1769860800@www.trailslibrary.org
SUMMARY:Here to Skein\, Yarn Tomorrow - Odessa Branch
DESCRIPTION:Ages 19+: Bring an independent fiber art or small craft project to work on while you socialize\, and trade tips and tricks with others!
URL:https://www.trailslibrary.org/event/here-to-skein-yarn-tomorrow-odessa-branch/
LOCATION:Odessa Branch\, 107 W. Mason\, Odessa\, MO\, 64076\, United States
CATEGORIES:Adult,Adults,Crafts,senior,Seniors
END:VEVENT
BEGIN:VEVENT
DTSTART;TZID=America/New_York:20260203T150000
DTEND;TZID=America/New_York:20260203T150000
DTSTAMP:20260422T173618
CREATED:20251215T201239Z
LAST-MODIFIED:20251215T201239Z
UID:10009822-1770130800-1770130800@www.trailslibrary.org
SUMMARY:Makers Gonna Make - Holden Branch
DESCRIPTION:Ages 19+: Unleash your creativity every other week with a new craft project designed for all experience levels. All materials are provided at no cost.
URL:https://www.trailslibrary.org/event/makers-gonna-make-holden-branch-2/
LOCATION:Holden Branch\, 207 S. Main\, Holden\, MO\, 64040\, United States
CATEGORIES:Adult,Adults,Crafts,senior,Seniors
END:VEVENT
BEGIN:VEVENT
DTSTART;TZID=America/New_York:20260204T143000
DTEND;TZID=America/New_York:20260204T143000
DTSTAMP:20260422T173618
CREATED:20251215T204801Z
LAST-MODIFIED:20251215T204801Z
UID:10010016-1770215400-1770215400@www.trailslibrary.org
SUMMARY:Cardmaking - Warrensburg Branch
DESCRIPTION:Ages 19+ REGISTRATION REQUIRED: Get creative with your friends at Trails and make a trio of handcrafted cards for the spring season.
URL:https://www.trailslibrary.org/event/cardmaking-warrensburg-branch-4/
LOCATION:Warrensburg Branch\, 432 N. Holden\, Warrensburg\, Missouri\, 64093\, United States
CATEGORIES:Adult,Adults,Crafts,senior,Seniors
END:VEVENT
BEGIN:VEVENT
DTSTART;TZID=America/New_York:20260205T153000
DTEND;TZID=America/New_York:20260205T153000
DTSTAMP:20260422T173618
CREATED:20251215T203744Z
LAST-MODIFIED:20251215T203744Z
UID:10009969-1770305400-1770305400@www.trailslibrary.org
SUMMARY:Scribble Squad - Odessa Branch
DESCRIPTION:Ages 13-18: Let your creativity loose for an afternoon. Sketch\, draw\, paint\, or work on an original project!
URL:https://www.trailslibrary.org/event/scribble-squad-odessa-branch/
LOCATION:Odessa Branch\, 107 W. Mason\, Odessa\, MO\, 64076\, United States
CATEGORIES:Crafts,Pre-Teen,Pre-Teens,Teen,Teens
END:VEVENT
BEGIN:VEVENT
DTSTART;TZID=America/New_York:20260207T100000
DTEND;TZID=America/New_York:20260207T100000
DTSTAMP:20260422T173618
CREATED:20251215T205631Z
LAST-MODIFIED:20251215T205631Z
UID:10010080-1770458400-1770458400@www.trailslibrary.org
SUMMARY:Paint and Stamp - Warrensburg Branch
DESCRIPTION:Ages 19+ REGISTRATION REQUIRED: Join us for a fun\, hands-on painting session! Start with a blank canvas and acrylic paints to create your own vibrant base artwork—let your imagination run wild with colors\, shapes\, and textures. Then\, explore our collection of stamps to add layered details and surprises to your piece.
URL:https://www.trailslibrary.org/event/paint-and-stamp-warrensburg-branch/
LOCATION:Warrensburg Branch\, 432 N. Holden\, Warrensburg\, Missouri\, 64093\, United States
CATEGORIES:Adult,Adults,Crafts,senior,Seniors
END:VEVENT
BEGIN:VEVENT
DTSTART;TZID=America/New_York:20260209T140000
DTEND;TZID=America/New_York:20260209T140000
DTSTAMP:20260422T173618
CREATED:20251215T210204Z
LAST-MODIFIED:20251215T210204Z
UID:10010128-1770645600-1770645600@www.trailslibrary.org
SUMMARY:Crafty Cupids - Waverly Branch
DESCRIPTION:Ages 6-12: Drop in and create a sweet Valentine’s Day craft!
URL:https://www.trailslibrary.org/event/crafty-cupids-waverly-branch/
LOCATION:Waverly Branch\, 203 E. Kelling\, Waverly\, MO\, 64096\, United States
CATEGORIES:Children,Crafts,Kids
END:VEVENT
BEGIN:VEVENT
DTSTART;TZID=America/New_York:20260209T160000
DTEND;TZID=America/New_York:20260209T160000
DTSTAMP:20260422T173618
CREATED:20251215T203744Z
LAST-MODIFIED:20251215T203744Z
UID:10009966-1770652800-1770652800@www.trailslibrary.org
SUMMARY:Rock Your Art! - Odessa Branch
DESCRIPTION:Ages 9-12: Unleash your creativity and turn ordinary rocks into colorful works of art!
URL:https://www.trailslibrary.org/event/rock-your-art-odessa-branch/
LOCATION:Odessa Branch\, 107 W. Mason\, Odessa\, MO\, 64076\, United States
CATEGORIES:Children,Crafts,Kids
END:VEVENT
BEGIN:VEVENT
DTSTART;TZID=America/New_York:20260212T153000
DTEND;TZID=America/New_York:20260212T153000
DTSTAMP:20260422T173618
CREATED:20251215T202354Z
LAST-MODIFIED:20251215T202354Z
UID:10009903-1770910200-1770910200@www.trailslibrary.org
SUMMARY:Kids Club - Lexington Branch
DESCRIPTION:Ages 6-12: If you like crafts\, games and fun science activites (STEAM) then this club is for you. Bring a friend for more FUN!
URL:https://www.trailslibrary.org/event/kids-club-lexington-branch-12/
LOCATION:Lexington Branch\, 1008 Main Street\, Lexington\, MO\, 64067\, United States
CATEGORIES:Children,Crafts,Kids,STEAM
END:VEVENT
BEGIN:VEVENT
DTSTART;TZID=America/New_York:20260212T153000
DTEND;TZID=America/New_York:20260212T153000
DTSTAMP:20260422T173618
CREATED:20251215T205631Z
LAST-MODIFIED:20251215T205631Z
UID:10010081-1770910200-1770910200@www.trailslibrary.org
SUMMARY:Paint and Stamp: Teen Edition - Warrensburg Branch
DESCRIPTION:Ages 13-18 REGISTRATION REQUIRED: Grab a canvas and get ready to create! Kick off with acrylic paints to build your own bold base—splash colors\, blend vibes\, or go full abstract. Then level up with our stash of cool stamps. Layer\, overlap\, and make it yours. Bring your crew\, and your creativity. Walk out with art that slaps.
URL:https://www.trailslibrary.org/event/paint-and-stamp-teen-edition-warrensburg-branch/
LOCATION:Warrensburg Branch\, 432 N. Holden\, Warrensburg\, Missouri\, 64093\, United States
CATEGORIES:Crafts,Pre-Teen,Pre-Teens,Teen,Teens
END:VEVENT
BEGIN:VEVENT
DTSTART;TZID=America/New_York:20260212T154500
DTEND;TZID=America/New_York:20260212T154500
DTSTAMP:20260422T173618
CREATED:20251215T202307Z
LAST-MODIFIED:20251215T202307Z
UID:10009892-1770911100-1770911100@www.trailslibrary.org
SUMMARY:Trading Card Club - Leeton Express Branch
DESCRIPTION:Ages 6-12: Join Mrs. Schuler for a meeting of the Trading Card Club. We will talk about different trading cards\, create our own trading cards. as well as play and trade.
URL:https://www.trailslibrary.org/event/trading-card-club-leeton-express-branch-7/
LOCATION:Leeton Express Branch\, 500 N. Main\, Leeton\, MO\, 64761\, United States
CATEGORIES:Children,Crafts,Kids
END:VEVENT
BEGIN:VEVENT
DTSTART;TZID=America/New_York:20260217T150000
DTEND;TZID=America/New_York:20260217T150000
DTSTAMP:20260422T173618
CREATED:20251215T201240Z
LAST-MODIFIED:20251215T201240Z
UID:10009823-1771340400-1771340400@www.trailslibrary.org
SUMMARY:Makers Gonna Make - Holden Branch
DESCRIPTION:Ages 19+: Unleash your creativity every other week with a new craft project designed for all experience levels. All materials are provided at no cost.
URL:https://www.trailslibrary.org/event/makers-gonna-make-holden-branch-3/
LOCATION:Holden Branch\, 207 S. Main\, Holden\, MO\, 64040\, United States
CATEGORIES:Adult,Adults,Crafts,senior,Seniors
END:VEVENT
BEGIN:VEVENT
DTSTART;TZID=America/New_York:20260219T153000
DTEND;TZID=America/New_York:20260219T153000
DTSTAMP:20260422T173618
CREATED:20251215T202911Z
LAST-MODIFIED:20251215T202911Z
UID:10009927-1771515000-1771515000@www.trailslibrary.org
SUMMARY:Tween Time - Lexington Branch
DESCRIPTION:Ages 13-18: Come hang out with friends for an afternoon of fun! Whether you like crafting\, playing games\, or science experiments\, there’s something for everyone!
URL:https://www.trailslibrary.org/event/tween-time-lexington-branch-12/
LOCATION:Lexington Branch\, 1008 Main Street\, Lexington\, MO\, 64067\, United States
CATEGORIES:Crafts,Pre-Teen,Pre-Teens,Teen,Teens
END:VEVENT
BEGIN:VEVENT
DTSTART;TZID=America/New_York:20260219T173000
DTEND;TZID=America/New_York:20260219T173000
DTSTAMP:20260422T173618
CREATED:20251215T202128Z
LAST-MODIFIED:20251215T202128Z
UID:10009885-1771522200-1771522200@www.trailslibrary.org
SUMMARY:Swipe Painting - Knob Noster Branch
DESCRIPTION:Ages 19+: Try a new style of art using blobs of paint and a squeegee. Every swipe makes a surprise design!
URL:https://www.trailslibrary.org/event/swipe-painting-knob-noster-branch/
LOCATION:Knob Noster Branch\, 202 N. Adams\, Knob Noster\, MO\, 65336\, United States
CATEGORIES:Adult,Adults,Crafts,senior,Seniors
END:VEVENT
BEGIN:VEVENT
DTSTART;TZID=America/New_York:20260221T100000
DTEND;TZID=America/New_York:20260221T100000
DTSTAMP:20260422T173618
CREATED:20251215T200811Z
LAST-MODIFIED:20251215T200811Z
UID:10009755-1771668000-1771668000@www.trailslibrary.org
SUMMARY:Book Folding Creations - Corder Branch
DESCRIPTION:Ages 19+: Learn how to do book folding art!
URL:https://www.trailslibrary.org/event/book-folding-creations-corder-branch-5/
LOCATION:Corder Branch\, 221 N. Lafayette\, Corder\, MO\, 64021\, United States
CATEGORIES:Adult,Adults,Crafts,senior,Seniors
END:VEVENT
BEGIN:VEVENT
DTSTART;TZID=America/New_York:20260224T153000
DTEND;TZID=America/New_York:20260224T153000
DTSTAMP:20260422T173618
CREATED:20251215T202028Z
LAST-MODIFIED:20251215T202028Z
UID:10009865-1771947000-1771947000@www.trailslibrary.org
SUMMARY:Pipette Painting - Knob Noster Branch
DESCRIPTION:Ages 6-12: Experiment with color and creativity! Use droppers to make fun designs on white felt.
URL:https://www.trailslibrary.org/event/pipette-painting-knob-noster-branch/
LOCATION:Knob Noster Branch\, 202 N. Adams\, Knob Noster\, MO\, 65336\, United States
CATEGORIES:Children,Crafts,Kids
END:VEVENT
BEGIN:VEVENT
DTSTART;TZID=America/New_York:20260224T170000
DTEND;TZID=America/New_York:20260224T170000
DTSTAMP:20260422T173618
CREATED:20251215T204846Z
LAST-MODIFIED:20251215T204846Z
UID:10010032-1771952400-1771952400@www.trailslibrary.org
SUMMARY:Literary Antics - Warrensburg Branch
DESCRIPTION:Ages 19+ REGISTRATION REQUIRED: Transform retired books into one-of-a-kind crafts in this creative program!
URL:https://www.trailslibrary.org/event/literary-antics-warrensburg-branch-8/
LOCATION:Warrensburg Branch\, 432 N. Holden\, Warrensburg\, Missouri\, 64093\, United States
CATEGORIES:Adult,Adults,Crafts,senior,Seniors
END:VEVENT
BEGIN:VEVENT
DTSTART;TZID=America/New_York:20260228T100000
DTEND;TZID=America/New_York:20260228T100000
DTSTAMP:20260422T173618
CREATED:20251215T204816Z
LAST-MODIFIED:20251215T204816Z
UID:10010023-1772272800-1772272800@www.trailslibrary.org
SUMMARY:Crafty Family Fun - Warrensburg Branch
DESCRIPTION:All Ages: Join us for hands-on fun where kids can get creative using recycled\, repurposed\, and budget-friendly materials.
URL:https://www.trailslibrary.org/event/crafty-family-fun-warrensburg-branch-11/
LOCATION:Warrensburg Branch\, 432 N. Holden\, Warrensburg\, Missouri\, 64093\, United States
CATEGORIES:Adult,Adults,All Ages,Children,Crafts,Family,Kids,preteens,senior,Seniors,Teen,Teens,Youth
END:VEVENT
END:VCALENDAR