BEGIN:VCALENDAR
VERSION:2.0
PRODID:-//Trails Regional Library - ECPv6.15.20//NONSGML v1.0//EN
CALSCALE:GREGORIAN
METHOD:PUBLISH
X-ORIGINAL-URL:https://www.trailslibrary.org
X-WR-CALDESC:Events for Trails Regional Library
REFRESH-INTERVAL;VALUE=DURATION:PT1H
X-Robots-Tag:noindex
X-PUBLISHED-TTL:PT1H
BEGIN:VTIMEZONE
TZID:America/New_York
BEGIN:DAYLIGHT
TZOFFSETFROM:-0500
TZOFFSETTO:-0400
TZNAME:EDT
DTSTART:20230312T070000
END:DAYLIGHT
BEGIN:STANDARD
TZOFFSETFROM:-0400
TZOFFSETTO:-0500
TZNAME:EST
DTSTART:20231105T060000
END:STANDARD
BEGIN:DAYLIGHT
TZOFFSETFROM:-0500
TZOFFSETTO:-0400
TZNAME:EDT
DTSTART:20240310T070000
END:DAYLIGHT
BEGIN:STANDARD
TZOFFSETFROM:-0400
TZOFFSETTO:-0500
TZNAME:EST
DTSTART:20241103T060000
END:STANDARD
BEGIN:DAYLIGHT
TZOFFSETFROM:-0500
TZOFFSETTO:-0400
TZNAME:EDT
DTSTART:20250309T070000
END:DAYLIGHT
BEGIN:STANDARD
TZOFFSETFROM:-0400
TZOFFSETTO:-0500
TZNAME:EST
DTSTART:20251102T060000
END:STANDARD
END:VTIMEZONE
BEGIN:VEVENT
DTSTART;TZID=America/New_York:20240404T140000
DTEND;TZID=America/New_York:20240404T160000
DTSTAMP:20260425T063100
CREATED:20231215T181500Z
LAST-MODIFIED:20231215T181500Z
UID:10007193-1712239200-1712246400@www.trailslibrary.org
SUMMARY:Artistic Endeavors-Knob Noster
DESCRIPTION:Ages 19+ REGISTRATION required: Calling all beginner crafters! Join us for an easy fun craft the first Thursday of every month! All supplies are provided! Register for your space quickly as spaces are limited!
URL:https://www.trailslibrary.org/event/artistic-endeavors-knob-noster-3/
LOCATION:Knob Noster Branch\, 202 N. Adams\, Knob Noster\, MO\, 65336\, United States
CATEGORIES:Adult,Adults,Crafts,senior,Seniors
END:VEVENT
BEGIN:VEVENT
DTSTART;TZID=America/New_York:20240405T100000
DTEND;TZID=America/New_York:20240405T110000
DTSTAMP:20260425T063100
CREATED:20231215T190551Z
LAST-MODIFIED:20231215T210139Z
UID:10006338-1712311200-1712314800@www.trailslibrary.org
SUMMARY:Get Hooked-Warrensburg
DESCRIPTION:All Ages: Get Hooked! Come join us for tips and tricks\, learn how to crochet or knit.
URL:https://www.trailslibrary.org/event/get-hooked-warrensburg-27/
LOCATION:Warrensburg Branch\, 432 N. Holden\, Warrensburg\, Missouri\, 64093\, United States
CATEGORIES:Adult,Adults,All Ages,Children,Crafts,Family,Kids,preteens,senior,Seniors,Teen,Teens,Youth
END:VEVENT
BEGIN:VEVENT
DTSTART;TZID=America/New_York:20240405T153000
DTEND;TZID=America/New_York:20240405T163000
DTSTAMP:20260425T063100
CREATED:20231215T184029Z
LAST-MODIFIED:20231215T184029Z
UID:10007288-1712331000-1712334600@www.trailslibrary.org
SUMMARY:Teen Blackout Poetry-Odessa
DESCRIPTION:Ages 13-18: Celebrate National Poetry Month by making some blackout poetry compositions!
URL:https://www.trailslibrary.org/event/teen-blackout-poetry-odessa/
LOCATION:Odessa Branch\, 107 W. Mason\, Odessa\, MO\, 64076\, United States
CATEGORIES:Crafts,Teen,Teens
END:VEVENT
BEGIN:VEVENT
DTSTART;TZID=America/New_York:20240411T110000
DTEND;TZID=America/New_York:20240411T123000
DTSTAMP:20260425T063100
CREATED:20231215T181500Z
LAST-MODIFIED:20231215T181500Z
UID:10007196-1712833200-1712838600@www.trailslibrary.org
SUMMARY:Seed balls for Monarchs-Knob Noster
DESCRIPTION:Ages 19+ REGISTRATION required: Monarch butterflies and other pollinators are declining. Learn some simple ways that you can help pollinators in your own yard and make a few seed balls to take home.
URL:https://www.trailslibrary.org/event/seed-balls-for-monarchs-knob-noster/
LOCATION:Knob Noster Branch\, 202 N. Adams\, Knob Noster\, MO\, 65336\, United States
CATEGORIES:Adult,Adults,Crafts,senior,Seniors
END:VEVENT
BEGIN:VEVENT
DTSTART;TZID=America/New_York:20240412T100000
DTEND;TZID=America/New_York:20240412T120000
DTSTAMP:20260425T063100
CREATED:20231215T190120Z
LAST-MODIFIED:20240208T162645Z
UID:10007372-1712916000-1712923200@www.trailslibrary.org
SUMMARY:Slice of Art-Warrensburg
DESCRIPTION:Ages 13+ REGISTRATION required: Come and create an art piece with the help of an art tutorial at your Library. 
URL:https://www.trailslibrary.org/event/slice-of-art-warrensburg-2/
LOCATION:Warrensburg Branch\, 432 N. Holden\, Warrensburg\, Missouri\, 64093\, United States
CATEGORIES:Adult,Adults,Crafts,preteens,Teen,Teens,Youth
END:VEVENT
BEGIN:VEVENT
DTSTART;TZID=America/New_York:20240415T173000
DTEND;TZID=America/New_York:20240415T183000
DTSTAMP:20260425T063100
CREATED:20231215T190150Z
LAST-MODIFIED:20231215T190150Z
UID:10007382-1713202200-1713205800@www.trailslibrary.org
SUMMARY:Craftastic-Warrensburg
DESCRIPTION:Ages 19+ REGISTRATION required: Come join us to make a faux Barn Quilt using foam board and fabric.
URL:https://www.trailslibrary.org/event/craftastic-warrensburg-11/
LOCATION:Warrensburg Branch\, 432 N. Holden\, Warrensburg\, Missouri\, 64093\, United States
CATEGORIES:Adult,Adults,Crafts,senior,Seniors
END:VEVENT
BEGIN:VEVENT
DTSTART;TZID=America/New_York:20240416T150000
DTEND;TZID=America/New_York:20240416T170000
DTSTAMP:20260425T063100
CREATED:20231215T180956Z
LAST-MODIFIED:20231215T180956Z
UID:10007147-1713279600-1713286800@www.trailslibrary.org
SUMMARY:Art and Craft Club-Holden
DESCRIPTION:All Ages: Art and Craft Club will be doing a jewelrey making program.
URL:https://www.trailslibrary.org/event/art-and-craft-club-holden-6/
LOCATION:Holden Branch\, 207 S. Main\, Holden\, MO\, 64040\, United States
CATEGORIES:Adult,Adults,All Ages,Children,Crafts,Family,Kids,preteens,senior,Seniors,Teen,Teens,Youth
END:VEVENT
BEGIN:VEVENT
DTSTART;TZID=America/New_York:20240417T153000
DTEND;TZID=America/New_York:20240417T163000
DTSTAMP:20260425T063100
CREATED:20231215T190405Z
LAST-MODIFIED:20231215T190405Z
UID:10006318-1713367800-1713371400@www.trailslibrary.org
SUMMARY:This or That-Warrensburg
DESCRIPTION:Ages 6-12 REGISTRATION required: Make a tasty treat\, discover which is best\, homemade or store bought. Calculate and analyze cost per serving.
URL:https://www.trailslibrary.org/event/this-or-that-warrensburg-3/
LOCATION:Warrensburg Branch\, 432 N. Holden\, Warrensburg\, Missouri\, 64093\, United States
CATEGORIES:Children,Crafts,Kids,Pre-Teen,Pre-Teens,Teen,Teens
END:VEVENT
BEGIN:VEVENT
DTSTART;TZID=America/New_York:20240418T154500
DTEND;TZID=America/New_York:20240418T170000
DTSTAMP:20260425T063100
CREATED:20231215T182303Z
LAST-MODIFIED:20231215T182303Z
UID:10006112-1713455100-1713459600@www.trailslibrary.org
SUMMARY:Third Thursday Fun & Games-Leeton
DESCRIPTION:Ages 6-12: Join Mrs. Schuler and the Boys & Girls Club the 3rd Thursday Fun & Games!
URL:https://www.trailslibrary.org/event/third-thursday-fun-games-leeton-3/
LOCATION:Leeton Express Branch\, 500 N. Main\, Leeton\, MO\, 64761\, United States
CATEGORIES:Children,Crafts,Kids
END:VEVENT
BEGIN:VEVENT
DTSTART;TZID=America/New_York:20240419T100000
DTEND;TZID=America/New_York:20240419T110000
DTSTAMP:20260425T063100
CREATED:20231215T190551Z
LAST-MODIFIED:20231215T210040Z
UID:10006340-1713520800-1713524400@www.trailslibrary.org
SUMMARY:Get Hooked-Warrensburg
DESCRIPTION:All Ages: Get Hooked! Come join us for tips and tricks\, learn how to crochet or knit.
URL:https://www.trailslibrary.org/event/get-hooked-warrensburg-28/
LOCATION:Warrensburg Branch\, 432 N. Holden\, Warrensburg\, Missouri\, 64093\, United States
CATEGORIES:Adult,Adults,All Ages,Children,Crafts,Family,Kids,preteens,senior,Seniors,Teen,Teens,Youth
END:VEVENT
BEGIN:VEVENT
DTSTART;TZID=America/New_York:20240420T110000
DTEND;TZID=America/New_York:20240420T130000
DTSTAMP:20260425T063100
CREATED:20231215T180956Z
LAST-MODIFIED:20231215T180956Z
UID:10007145-1713610800-1713618000@www.trailslibrary.org
SUMMARY:Super Saturdays-Holden
DESCRIPTION:Ages 6-12: Super Saturdays are tons of Fun for Children Ages 6-12\, come enjoy crafts\, card games and fun galore!
URL:https://www.trailslibrary.org/event/super-saturdays-holden-9/
LOCATION:Holden Branch\, 207 S. Main\, Holden\, MO\, 64040\, United States
CATEGORIES:Children,Crafts,Kids
END:VEVENT
BEGIN:VEVENT
DTSTART;TZID=America/New_York:20240422T160000
DTEND;TZID=America/New_York:20240422T170000
DTSTAMP:20260425T063100
CREATED:20231215T190351Z
LAST-MODIFIED:20231215T190351Z
UID:10006312-1713801600-1713805200@www.trailslibrary.org
SUMMARY:Camp Create-Warrensburg
DESCRIPTION:Ages 6-12 REGISTRATION required: Join us to create a camp inspired craft
URL:https://www.trailslibrary.org/event/camp-create-warrensburg-2/
LOCATION:Warrensburg Branch\, 432 N. Holden\, Warrensburg\, Missouri\, 64093\, United States
CATEGORIES:Children,Crafts,Kids
END:VEVENT
BEGIN:VEVENT
DTSTART;TZID=America/New_York:20240423T173000
DTEND;TZID=America/New_York:20240423T183000
DTSTAMP:20260425T063100
CREATED:20231215T190051Z
LAST-MODIFIED:20231215T190051Z
UID:10007364-1713893400-1713897000@www.trailslibrary.org
SUMMARY:Enchanted Book Garden-Warrensburg
DESCRIPTION:Ages 13+ REGISTRATION required: Join us to turn an old book into an enchanted garden.
URL:https://www.trailslibrary.org/event/enchanted-book-garden-warrensburg/
LOCATION:Warrensburg Branch\, 432 N. Holden\, Warrensburg\, Missouri\, 64093\, United States
CATEGORIES:Adult,Adults,Crafts,preteens,senior,Seniors,Teen,Teens,Youth
END:VEVENT
BEGIN:VEVENT
DTSTART;TZID=America/New_York:20240424T103000
DTEND;TZID=America/New_York:20240424T110000
DTSTAMP:20260425T063100
CREATED:20231215T180826Z
LAST-MODIFIED:20231215T180826Z
UID:10007128-1713954600-1713956400@www.trailslibrary.org
SUMMARY:Mother's Day Wind Chimes-Holden
DESCRIPTION:Ages 0-5: Come make a special wind chime craft with us for Mother’s Day.
URL:https://www.trailslibrary.org/event/mothers-day-wind-chimes-holden-2/
LOCATION:Holden Branch\, 207 S. Main\, Holden\, MO\, 64040\, United States
CATEGORIES:Children,Crafts,Kids
END:VEVENT
BEGIN:VEVENT
DTSTART;TZID=America/New_York:20240424T160000
DTEND;TZID=America/New_York:20240424T170000
DTSTAMP:20260425T063100
CREATED:20231215T174608Z
LAST-MODIFIED:20240308T182838Z
UID:10007089-1713974400-1713978000@www.trailslibrary.org
SUMMARY:Cardboard Carnival-Concordia
DESCRIPTION:Ages 5-8: Let’s build some fun games using recycled cardboard\, then it’s play time!
URL:https://www.trailslibrary.org/event/carboard-carnival-concordia/
LOCATION:Concordia Branch\, 813 S Main\, Concordia\, MO\, 64020\, United States
CATEGORIES:Children,Crafts,Kids
END:VEVENT
BEGIN:VEVENT
DTSTART;TZID=America/New_York:20240425T140000
DTEND;TZID=America/New_York:20240425T160000
DTSTAMP:20260425T063100
CREATED:20231215T181430Z
LAST-MODIFIED:20231215T181430Z
UID:10006091-1714053600-1714060800@www.trailslibrary.org
SUMMARY:Faux Stained Glass-Knob Noster
DESCRIPTION:Ages 13-18 REGISTRATION required: Turn an ordinary picture frame into a work of art! . We’ll provide ready-made templates. Just bring your creativity and come ready to paint!
URL:https://www.trailslibrary.org/event/faux-stained-glass-knob-noster/
LOCATION:Knob Noster Branch\, 202 N. Adams\, Knob Noster\, MO\, 65336\, United States
CATEGORIES:Crafts,Pre-Teen,Pre-Teens,Teen,Teens
END:VEVENT
BEGIN:VEVENT
DTSTART;TZID=America/New_York:20240425T153000
DTEND;TZID=America/New_York:20240425T163000
DTSTAMP:20260425T063100
CREATED:20231215T183626Z
LAST-MODIFIED:20231215T183626Z
UID:10007270-1714059000-1714062600@www.trailslibrary.org
SUMMARY:Kids Club-Lexington
DESCRIPTION:Ages 6-12: If you like crafts\, games and fun science activites (STEAM) then this club if for you. Snack provided. Bring a friend for more FUN!
URL:https://www.trailslibrary.org/event/kids-club-lexington-8/
LOCATION:Lexington Branch\, 1008 Main Street\, Lexington\, MO\, 64067\, United States
CATEGORIES:Children,Crafts,Kids,STEAM
END:VEVENT
BEGIN:VEVENT
DTSTART;TZID=America/New_York:20240425T154500
DTEND;TZID=America/New_York:20240425T170000
DTSTAMP:20260425T063100
CREATED:20231215T182334Z
LAST-MODIFIED:20231215T182334Z
UID:10007226-1714059900-1714064400@www.trailslibrary.org
SUMMARY:Trading Card Club-Leeton
DESCRIPTION:Ages 6-12: Trading card fans\, join Mrs. Schuler for trading card fun to include: playing\, chatting\, trading\, and drawing\,
URL:https://www.trailslibrary.org/event/trading-card-club-leeton-2/
LOCATION:Leeton Express Branch\, 500 N. Main\, Leeton\, MO\, 64761\, United States
CATEGORIES:Children,Crafts,Kids
END:VEVENT
BEGIN:VEVENT
DTSTART;TZID=America/New_York:20240426T100000
DTEND;TZID=America/New_York:20240426T110000
DTSTAMP:20260425T063100
CREATED:20231215T175739Z
LAST-MODIFIED:20231215T175739Z
UID:10005997-1714125600-1714129200@www.trailslibrary.org
SUMMARY:Needle Stories-Corder
DESCRIPTION:Ages 19+: Bring your project (crochet\, knitting\, sewing\, etc.) and spend an hour with fellow hobbiest.  We will have soemone on hand to teach crochet if you would like to learn.
URL:https://www.trailslibrary.org/event/needle-stories-corder-12/
LOCATION:Corder Branch\, 221 N. Lafayette\, Corder\, MO\, 64021\, United States
CATEGORIES:Adult,Adults,Crafts,senior,Seniors
END:VEVENT
BEGIN:VEVENT
DTSTART;TZID=America/New_York:20240427T100000
DTEND;TZID=America/New_York:20240427T110000
DTSTAMP:20260425T063100
CREATED:20231215T190406Z
LAST-MODIFIED:20231215T190406Z
UID:10006322-1714212000-1714215600@www.trailslibrary.org
SUMMARY:Crafty Family Fun-Warrensburg
DESCRIPTION:All Ages REGISTRATION required: Come join us to make a craft
URL:https://www.trailslibrary.org/event/crafty-family-fun-warrensburg/
LOCATION:Warrensburg Branch\, 432 N. Holden\, Warrensburg\, Missouri\, 64093\, United States
CATEGORIES:Adult,Adults,All Ages,Children,Crafts,Family,Kids,preteens,senior,Seniors,Teen,Teens,Youth
END:VEVENT
BEGIN:VEVENT
DTSTART;TZID=America/New_York:20240509T110000
DTEND;TZID=America/New_York:20240509T120000
DTSTAMP:20260425T063100
CREATED:20231215T181500Z
LAST-MODIFIED:20231215T181500Z
UID:10007194-1715252400-1715256000@www.trailslibrary.org
SUMMARY:Tasty Tree Treats-Knob Noster
DESCRIPTION:Ages 19+ REGISTRATION required: Come taste nature’s forest bounty! We will learn how to find\, identify\, harvest and prepare forest wild edibles\, including pawpaws\, persimmons\, wild plums\, and pecans.
URL:https://www.trailslibrary.org/event/tasty-tree-treats-knob-noster/
LOCATION:Knob Noster Branch\, 202 N. Adams\, Knob Noster\, MO\, 65336\, United States
CATEGORIES:Adult,Adults,Crafts,senior,Seniors
END:VEVENT
BEGIN:VEVENT
DTSTART;TZID=America/New_York:20240516T154500
DTEND;TZID=America/New_York:20240516T170000
DTSTAMP:20260425T063100
CREATED:20231215T182303Z
LAST-MODIFIED:20231215T182303Z
UID:10006114-1715874300-1715878800@www.trailslibrary.org
SUMMARY:Third Thursday Fun & Games-Leeton
DESCRIPTION:Ages 6-12: Join Mrs. Schuler and the Boys & Girls Club the 3rd Thursday Fun & Games!
URL:https://www.trailslibrary.org/event/third-thursday-fun-games-leeton-4/
LOCATION:Leeton Express Branch\, 500 N. Main\, Leeton\, MO\, 64761\, United States
CATEGORIES:Children,Crafts,Kids
END:VEVENT
BEGIN:VEVENT
DTSTART;TZID=America/New_York:20240524T100000
DTEND;TZID=America/New_York:20240524T110000
DTSTAMP:20260425T063100
CREATED:20231215T175739Z
LAST-MODIFIED:20231215T175739Z
UID:10005998-1716544800-1716548400@www.trailslibrary.org
SUMMARY:Needle Stories-Corder
DESCRIPTION:Ages 19+: Bring your project (crochet\, knitting\, sewing\, etc.) and spend an hour with fellow hobbiest.  We will have soemone on hand to teach crochet if you would like to learn.
URL:https://www.trailslibrary.org/event/needle-stories-corder-13/
LOCATION:Corder Branch\, 221 N. Lafayette\, Corder\, MO\, 64021\, United States
CATEGORIES:Adult,Adults,Crafts,senior,Seniors
END:VEVENT
BEGIN:VEVENT
DTSTART;TZID=America/New_York:20240603T160000
DTEND;TZID=America/New_York:20240603T170000
DTSTAMP:20260425T063100
CREATED:20240520T193709Z
LAST-MODIFIED:20240520T193709Z
UID:10007561-1717430400-1717434000@www.trailslibrary.org
SUMMARY:Tweet\, Tweet! - Odessa
DESCRIPTION:Ages 5-8: Join us as we learn about ornithology and make a field notebook.
URL:https://www.trailslibrary.org/event/tweet-tweet-odessa/
LOCATION:Odessa Branch\, 107 W. Mason\, Odessa\, MO\, 64076\, United States
CATEGORIES:Children,Crafts,Kids,STEAM
END:VEVENT
BEGIN:VEVENT
DTSTART;TZID=America/New_York:20240605T100000
DTEND;TZID=America/New_York:20240605T100000
DTSTAMP:20260425T063100
CREATED:20240520T192214Z
LAST-MODIFIED:20240520T192214Z
UID:10007482-1717581600-1717581600@www.trailslibrary.org
SUMMARY:Special Father's Day Craft and Storytime - Holden
DESCRIPTION:Ages 0-5 REGISTRATION Required: Make a Special Father’s Day Craft Gift for Dad and enjoy Storytime.
URL:https://www.trailslibrary.org/event/special-fathers-day-craft-and-storytime-holden/
LOCATION:Holden Branch\, 207 S. Main\, Holden\, MO\, 64040\, United States
CATEGORIES:Children,Crafts,Kids,Preschool,Storytime
END:VEVENT
BEGIN:VEVENT
DTSTART;TZID=America/New_York:20240605T140000
DTEND;TZID=America/New_York:20240605T140000
DTSTAMP:20260425T063100
CREATED:20240520T194222Z
LAST-MODIFIED:20240520T194222Z
UID:10007598-1717596000-1717596000@www.trailslibrary.org
SUMMARY:Adventures in Crafting
DESCRIPTION:Ages 5-8: Craft and create at the library. We provide the material\, you provide the Imagination!
URL:https://www.trailslibrary.org/event/adventures-in-crafting/
LOCATION:Waverly Branch\, 203 E. Kelling\, Waverly\, MO\, 64096\, United States
CATEGORIES:Children,Crafts,Kids
END:VEVENT
BEGIN:VEVENT
DTSTART;TZID=America/New_York:20240605T160000
DTEND;TZID=America/New_York:20240605T170000
DTSTAMP:20260425T063100
CREATED:20240520T193851Z
LAST-MODIFIED:20240520T193851Z
UID:10007570-1717603200-1717606800@www.trailslibrary.org
SUMMARY:Rocked It! - Odessa
DESCRIPTION:Ages 9-12 REGISTRATION Required: No baking necessary\, just bring your decorating magic.
URL:https://www.trailslibrary.org/event/rocked-it-odessa/
LOCATION:Odessa Branch\, 107 W. Mason\, Odessa\, MO\, 64076\, United States
CATEGORIES:Children,Crafts,Kids
END:VEVENT
BEGIN:VEVENT
DTSTART;TZID=America/New_York:20240606T140000
DTEND;TZID=America/New_York:20240606T160000
DTSTAMP:20260425T063100
CREATED:20240521T143715Z
LAST-MODIFIED:20240521T143715Z
UID:10007782-1717682400-1717689600@www.trailslibrary.org
SUMMARY:Trading Card Club - Leeton
DESCRIPTION:Ages 6-12 REGISTRATION Required: Trading card fans\, join Mrs. Schuler for trading card fun to include: playing\, chatting\, trading\, and more!
URL:https://www.trailslibrary.org/event/trading-card-club-leeton-3/
LOCATION:Leeton Express Branch\, 500 N. Main\, Leeton\, MO\, 64761\, United States
CATEGORIES:Children,Crafts,Kids
END:VEVENT
BEGIN:VEVENT
DTSTART;TZID=America/New_York:20240606T150000
DTEND;TZID=America/New_York:20240606T150000
DTSTAMP:20260425T063100
CREATED:20240520T193624Z
LAST-MODIFIED:20240520T193624Z
UID:10007544-1717686000-1717686000@www.trailslibrary.org
SUMMARY:Culture Shock! - Odessa
DESCRIPTION:Ages 13-18: Journey through the mythologies and histories of different cultures around the world by making crafts or playing games at the library. This week’s theme is Indian Mythology!
URL:https://www.trailslibrary.org/event/culture-shock-odessa-3/
LOCATION:Odessa Branch\, 107 W. Mason\, Odessa\, MO\, 64076\, United States
CATEGORIES:Crafts,Pre-Teen,Pre-Teens,Teen,Teens
END:VEVENT
BEGIN:VEVENT
DTSTART;TZID=America/New_York:20240607T100000
DTEND;TZID=America/New_York:20240607T100000
DTSTAMP:20260425T063100
CREATED:20240521T143316Z
LAST-MODIFIED:20240521T143316Z
UID:10007762-1717754400-1717754400@www.trailslibrary.org
SUMMARY:Adventure Storytime - Leeton
DESCRIPTION:Ages 6-12: Storytimes are for building reading skills\, making friends and having fun!  Our Summer Reading series will include crafts and activities related to our theme “Adventure Begins at the Library.”
URL:https://www.trailslibrary.org/event/adventure-storytime-leeton/
LOCATION:Leeton Express Branch\, 500 N. Main\, Leeton\, MO\, 64761\, United States
CATEGORIES:Children,Crafts,Kids,Storytime
END:VEVENT
END:VCALENDAR