BEGIN:VCALENDAR
VERSION:2.0
PRODID:-//Trails Regional Library - ECPv6.15.20//NONSGML v1.0//EN
CALSCALE:GREGORIAN
METHOD:PUBLISH
X-WR-CALNAME:Trails Regional Library
X-ORIGINAL-URL:https://www.trailslibrary.org
X-WR-CALDESC:Events for Trails Regional Library
REFRESH-INTERVAL;VALUE=DURATION:PT1H
X-Robots-Tag:noindex
X-PUBLISHED-TTL:PT1H
BEGIN:VTIMEZONE
TZID:America/New_York
BEGIN:DAYLIGHT
TZOFFSETFROM:-0500
TZOFFSETTO:-0400
TZNAME:EDT
DTSTART:20220313T070000
END:DAYLIGHT
BEGIN:STANDARD
TZOFFSETFROM:-0400
TZOFFSETTO:-0500
TZNAME:EST
DTSTART:20221106T060000
END:STANDARD
BEGIN:DAYLIGHT
TZOFFSETFROM:-0500
TZOFFSETTO:-0400
TZNAME:EDT
DTSTART:20230312T070000
END:DAYLIGHT
BEGIN:STANDARD
TZOFFSETFROM:-0400
TZOFFSETTO:-0500
TZNAME:EST
DTSTART:20231105T060000
END:STANDARD
BEGIN:DAYLIGHT
TZOFFSETFROM:-0500
TZOFFSETTO:-0400
TZNAME:EDT
DTSTART:20240310T070000
END:DAYLIGHT
BEGIN:STANDARD
TZOFFSETFROM:-0400
TZOFFSETTO:-0500
TZNAME:EST
DTSTART:20241103T060000
END:STANDARD
END:VTIMEZONE
BEGIN:VEVENT
DTSTART;TZID=America/New_York:20230503T163000
DTEND;TZID=America/New_York:20230503T183000
DTSTAMP:20260425T215730
CREATED:20230303T212919Z
LAST-MODIFIED:20230303T212919Z
UID:10006355-1683131400-1683138600@www.trailslibrary.org
SUMMARY:Libraries Got Game! - Warrensburg
DESCRIPTION:Get BOARD at the library with your family and friends! Fun and exciting board and XL games.
URL:https://www.trailslibrary.org/event/libraries-got-game-warrensburg-16/
LOCATION:Warrensburg Branch\, 432 N. Holden\, Warrensburg\, Missouri\, 64093\, United States
CATEGORIES:All Ages,Family
END:VEVENT
BEGIN:VEVENT
DTSTART;TZID=America/New_York:20230506T113000
DTEND;TZID=America/New_York:20230506T123000
DTSTAMP:20260425T215730
CREATED:20230303T211806Z
LAST-MODIFIED:20230303T211806Z
UID:10006147-1683372600-1683376200@www.trailslibrary.org
SUMMARY:Cinema Saturday - Knob Noster
DESCRIPTION:Bring the kids and enjoy a family friendly flick with us every first Saturday of the month!
URL:https://www.trailslibrary.org/event/cinema-saturday-knob-noster-9/
LOCATION:Knob Noster Branch\, 202 N. Adams\, Knob Noster\, MO\, 65336\, United States
CATEGORIES:All Ages,Family
END:VEVENT
BEGIN:VEVENT
DTSTART;TZID=America/New_York:20230509T173000
DTEND;TZID=America/New_York:20230509T183000
DTSTAMP:20260425T215730
CREATED:20230303T212444Z
LAST-MODIFIED:20230303T212444Z
UID:10005186-1683653400-1683657000@www.trailslibrary.org
SUMMARY:Craftastic - Warrensburg
DESCRIPTION:Ages 12 years old & up – Registration required. Join us this afternoon to create your very special Mother’s Day Pine cone bouquet!
URL:https://www.trailslibrary.org/event/craftastic-warrensburg-4/
LOCATION:Warrensburg Branch\, 432 N. Holden\, Warrensburg\, Missouri\, 64093\, United States
CATEGORIES:All Ages,Family
END:VEVENT
BEGIN:VEVENT
DTSTART;TZID=America/New_York:20230510T163000
DTEND;TZID=America/New_York:20230510T183000
DTSTAMP:20260425T215730
CREATED:20230303T212919Z
LAST-MODIFIED:20230303T212919Z
UID:10006356-1683736200-1683743400@www.trailslibrary.org
SUMMARY:Libraries Got Game! - Warrensburg
DESCRIPTION:Get BOARD at the library with your family and friends! Fun and exciting board and XL games.
URL:https://www.trailslibrary.org/event/libraries-got-game-warrensburg-17/
LOCATION:Warrensburg Branch\, 432 N. Holden\, Warrensburg\, Missouri\, 64093\, United States
CATEGORIES:All Ages,Family
END:VEVENT
BEGIN:VEVENT
DTSTART;TZID=America/New_York:20230511T154500
DTEND;TZID=America/New_York:20230511T164500
DTSTAMP:20260425T215730
CREATED:20230303T212155Z
LAST-MODIFIED:20230303T212155Z
UID:10005162-1683819900-1683823500@www.trailslibrary.org
SUMMARY:Theater Thursday - Lexington
DESCRIPTION:Come and enjoy a free family movie. Bring a blanket to get cozy & a drink with a lid. We’ll pop the popcorn!
URL:https://www.trailslibrary.org/event/theater-thursday-lexington-7/
LOCATION:Lexington Branch\, 1008 Main Street\, Lexington\, MO\, 64067\, United States
CATEGORIES:All Ages,Family
END:VEVENT
BEGIN:VEVENT
DTSTART;TZID=America/New_York:20230512T160000
DTEND;TZID=America/New_York:20230512T170000
DTSTAMP:20260425T215730
CREATED:20230303T211807Z
LAST-MODIFIED:20230303T211807Z
UID:10006150-1683907200-1683910800@www.trailslibrary.org
SUMMARY:Family LEGO Club - Knob Noster
DESCRIPTION:Bring the whole family for fun building challenges!
URL:https://www.trailslibrary.org/event/family-lego-club-knob-noster-4/
LOCATION:Knob Noster Branch\, 202 N. Adams\, Knob Noster\, MO\, 65336\, United States
CATEGORIES:All Ages,Family
END:VEVENT
BEGIN:VEVENT
DTSTART;TZID=America/New_York:20230513T100000
DTEND;TZID=America/New_York:20230513T110000
DTSTAMP:20260425T215730
CREATED:20230303T184510Z
LAST-MODIFIED:20230303T210738Z
UID:10006025-1683972000-1683975600@www.trailslibrary.org
SUMMARY:Second Saturdays: Cartoons & Pancakes - Concordia
DESCRIPTION:Join us for an old-fashioned Saturday morning. We will make pancakes and watch cartoons!
URL:https://www.trailslibrary.org/event/second-saturdays-cartoons-pancakes-concordia-4/
LOCATION:Concordia Branch\, 813 S Main\, Concordia\, MO\, 64020\, United States
CATEGORIES:All Ages,Family
END:VEVENT
BEGIN:VEVENT
DTSTART;TZID=America/New_York:20230513T110000
DTEND;TZID=America/New_York:20230513T123000
DTSTAMP:20260425T215730
CREATED:20230303T211925Z
LAST-MODIFIED:20230303T211925Z
UID:10005136-1683975600-1683981000@www.trailslibrary.org
SUMMARY:Saturday Cinema - Leeton Express
DESCRIPTION:Join us for our monthly family movie. We will provide popcorn\, you supply your favorite drink (with a lid). Bring a friend for more fun!
URL:https://www.trailslibrary.org/event/saturday-cinema-leeton-express-4/
LOCATION:Leeton Express Branch\, 500 N. Main\, Leeton\, MO\, 64761\, United States
CATEGORIES:All Ages,Family
END:VEVENT
BEGIN:VEVENT
DTSTART;TZID=America/New_York:20230513T110000
DTEND;TZID=America/New_York:20230513T130000
DTSTAMP:20260425T215730
CREATED:20230303T195218Z
LAST-MODIFIED:20230303T211644Z
UID:10006101-1683975600-1683982800@www.trailslibrary.org
SUMMARY:Matinee at the Library - Holden
DESCRIPTION:Come enjoy a matinee with us!
URL:https://www.trailslibrary.org/event/matinee-at-the-library-holden-5/
LOCATION:Holden Branch\, 207 S. Main\, Holden\, MO\, 64040\, United States
CATEGORIES:Family,Kids
END:VEVENT
BEGIN:VEVENT
DTSTART;TZID=America/New_York:20230517T163000
DTEND;TZID=America/New_York:20230517T183000
DTSTAMP:20260425T215730
CREATED:20230303T212919Z
LAST-MODIFIED:20230303T212919Z
UID:10006357-1684341000-1684348200@www.trailslibrary.org
SUMMARY:Libraries Got Game! - Warrensburg
DESCRIPTION:Get BOARD at the library with your family and friends! Fun and exciting board and XL games.
URL:https://www.trailslibrary.org/event/libraries-got-game-warrensburg-18/
LOCATION:Warrensburg Branch\, 432 N. Holden\, Warrensburg\, Missouri\, 64093\, United States
CATEGORIES:All Ages,Family
END:VEVENT
BEGIN:VEVENT
DTSTART;TZID=America/New_York:20230519T150000
DTEND;TZID=America/New_York:20230519T170000
DTSTAMP:20260425T215730
CREATED:20230303T184309Z
LAST-MODIFIED:20230303T210722Z
UID:10006023-1684508400-1684515600@www.trailslibrary.org
SUMMARY:Family Film Friday - Concordia
DESCRIPTION:Join us for our monthly Family Film Friday movie selection.
URL:https://www.trailslibrary.org/event/family-film-friday-concordia-10/
LOCATION:Concordia Branch\, 813 S Main\, Concordia\, MO\, 64020\, United States
CATEGORIES:All Ages,Family
END:VEVENT
BEGIN:VEVENT
DTSTART;TZID=America/New_York:20230520T100000
DTEND;TZID=America/New_York:20230520T113000
DTSTAMP:20260425T215730
CREATED:20230303T185510Z
LAST-MODIFIED:20230303T211424Z
UID:10005058-1684576800-1684582200@www.trailslibrary.org
SUMMARY:Saturday Matinee - Corder
DESCRIPTION:Bring a snack and come join us for our family friendly Saturday Matinee.
URL:https://www.trailslibrary.org/event/saturday-matinee-corder-9/
LOCATION:Corder Branch\, 221 N. Lafayette\, Corder\, MO\, 64021\, United States
CATEGORIES:All Ages,Family
END:VEVENT
BEGIN:VEVENT
DTSTART;TZID=America/New_York:20230520T140000
DTEND;TZID=America/New_York:20230520T170000
DTSTAMP:20260425T215730
CREATED:20230303T212517Z
LAST-MODIFIED:20230504T212116Z
UID:10006259-1684591200-1684602000@www.trailslibrary.org
SUMMARY:Cinema Saturday - Warrensburg
DESCRIPTION:Come and enjoy a movie at the Library!
URL:https://www.trailslibrary.org/event/cinema-saturday-warrensburg-5/
LOCATION:Warrensburg Branch\, 432 N. Holden\, Warrensburg\, Missouri\, 64093\, United States
CATEGORIES:All Ages,Family
END:VEVENT
BEGIN:VEVENT
DTSTART;TZID=America/New_York:20230524T163000
DTEND;TZID=America/New_York:20230524T183000
DTSTAMP:20260425T215730
CREATED:20230303T212933Z
LAST-MODIFIED:20230303T212933Z
UID:10006358-1684945800-1684953000@www.trailslibrary.org
SUMMARY:Libraries Got Game! - Warrensburg
DESCRIPTION:Get BOARD at the library with your family and friends! Fun and exciting board and XL games.
URL:https://www.trailslibrary.org/event/libraries-got-game-warrensburg-19/
LOCATION:Warrensburg Branch\, 432 N. Holden\, Warrensburg\, Missouri\, 64093\, United States
CATEGORIES:All Ages,Family
END:VEVENT
BEGIN:VEVENT
DTSTART;TZID=America/New_York:20230526T140000
DTEND;TZID=America/New_York:20230526T150000
DTSTAMP:20260425T215730
CREATED:20230303T212517Z
LAST-MODIFIED:20230303T212517Z
UID:10006261-1685109600-1685113200@www.trailslibrary.org
SUMMARY:Summer Reading Kick-Off Party: Chalk-the-Lot - Warrensburg
DESCRIPTION:Join us to beautify our parking lot. Pick a square or reserve one in advance. All designs should incorporate our Summer Reading Theme “All Together Now.”
URL:https://www.trailslibrary.org/event/summer-reading-kick-off-party-chalk-the-lot-warrensburg/
LOCATION:Warrensburg Branch\, 432 N. Holden\, Warrensburg\, Missouri\, 64093\, United States
CATEGORIES:All Ages,Family
END:VEVENT
BEGIN:VEVENT
DTSTART;TZID=America/New_York:20230530T100000
DTEND;TZID=America/New_York:20230530T110000
DTSTAMP:20260425T215730
CREATED:20230516T212511Z
LAST-MODIFIED:20230526T172002Z
UID:10005269-1685440800-1685444400@www.trailslibrary.org
SUMMARY:Chef Bananas - Odessa Branch
DESCRIPTION:All Ages – Chef Bananas brings a show that’s perfect for adults and kids alike. After all – we are all either young or young at heart – and Chef Bananas’ humor and magic tricks will mesmerize you and make you laugh. It’s the ultimate bonding experience for families. This show is proven to create lasting memories for the entire family.
URL:https://www.trailslibrary.org/event/chef-bananas/
LOCATION:Odessa Branch\, 107 W. Mason\, Odessa\, MO\, 64076\, United States
CATEGORIES:Adult,Adults,All Ages,Children,Family,Guest Speakers,Kids,Music,Performers,Pre-Teen,Pre-Teens,Preschool,Preteen,preteens,senior,Seniors,Teen,Teens,Youth
END:VEVENT
BEGIN:VEVENT
DTSTART;TZID=America/New_York:20230530T130000
DTEND;TZID=America/New_York:20230530T140000
DTSTAMP:20260425T215730
CREATED:20230516T213154Z
LAST-MODIFIED:20230526T171906Z
UID:10005271-1685451600-1685455200@www.trailslibrary.org
SUMMARY:Chef Bananas - Holden Branch
DESCRIPTION:All Ages – Chef Bananas brings a show that’s perfect for adults and kids alike. After all – we are all either young or young at heart – and Chef Bananas’ humor and magic tricks will mesmerize you and make you laugh. It’s the ultimate bonding experience for families. This show is proven to create lasting memories for the entire family.
URL:https://www.trailslibrary.org/event/chef-bananas-2/
LOCATION:Holden Branch\, 207 S. Main\, Holden\, MO\, 64040\, United States
CATEGORIES:Adult,Adults,All Ages,Children,Family,Guest Speakers,Kids,Music,Performers,Pre-Teen,Pre-Teens,Preschool,Preteen,preteens,senior,Seniors,Teen,Teens,Youth
END:VEVENT
BEGIN:VEVENT
DTSTART;TZID=America/New_York:20230530T160000
DTEND;TZID=America/New_York:20230530T170000
DTSTAMP:20260425T215730
CREATED:20230516T214616Z
LAST-MODIFIED:20230526T171801Z
UID:10005273-1685462400-1685466000@www.trailslibrary.org
SUMMARY:Chef Bananas-Warrensburg Branch
DESCRIPTION:All Ages – Chef Bananas brings a show that’s perfect for adults and kids alike. After all – we are all either young or young at heart – and Chef Bananas’ humor and magic tricks will mesmerize you and make you laugh. It’s the ultimate bonding experience for families. This show is proven to create lasting memories for the entire family.
URL:https://www.trailslibrary.org/event/chef-bananas-3/
LOCATION:Warrensburg Branch\, 432 N. Holden\, Warrensburg\, Missouri\, 64093\, United States
CATEGORIES:Adult,Adults,All Ages,Children,Family,Guest Speakers,Kids,Music,Performers,Pre-Teen,Pre-Teens,Preschool,Preteen,preteens,senior,Seniors,Teen,Teens,Youth
END:VEVENT
BEGIN:VEVENT
DTSTART;TZID=America/New_York:20230531T100000
DTEND;TZID=America/New_York:20230531T110000
DTSTAMP:20260425T215730
CREATED:20230516T214740Z
LAST-MODIFIED:20230526T171703Z
UID:10006370-1685527200-1685530800@www.trailslibrary.org
SUMMARY:Chef Bananas - Lexington Branch
DESCRIPTION:All Ages – Chef Bananas brings a show that’s perfect for adults and kids alike. After all – we are all either young or young at heart – and Chef Bananas’ humor and magic tricks will mesmerize you and make you laugh. It’s the ultimate bonding experience for families. This show is proven to create lasting memories for the entire family.
URL:https://www.trailslibrary.org/event/chef-bananas-4/
LOCATION:Lexington Branch\, 1008 Main Street\, Lexington\, MO\, 64067\, United States
CATEGORIES:Adult,Adults,All Ages,Children,Family,Guest Speakers,Kids,Performers,Pre-Teen,Pre-Teens,Preschool,Preteen,preteens,senior,Seniors,Teen,Teens,Youth
END:VEVENT
BEGIN:VEVENT
DTSTART;TZID=America/New_York:20230531T130000
DTEND;TZID=America/New_York:20230531T140000
DTSTAMP:20260425T215730
CREATED:20230516T215115Z
LAST-MODIFIED:20230526T171610Z
UID:10006371-1685538000-1685541600@www.trailslibrary.org
SUMMARY:Chef Bananas - Corder Branch
DESCRIPTION:All Ages – Chef Bananas brings a show that’s perfect for adults and kids alike. After all – we are all either young or young at heart – and Chef Bananas’ humor and magic tricks will mesmerize you and make you laugh. It’s the ultimate bonding experience for families. This show is proven to create lasting memories for the entire family.
URL:https://www.trailslibrary.org/event/chef-bananas-5/
LOCATION:Corder Branch\, 221 N. Lafayette\, Corder\, MO\, 64021\, United States
CATEGORIES:Adult,Adults,All Ages,Children,Family,Guest Speakers,Kids,Music,Performers,Pre-Teen,Pre-Teens,Preschool,Preteen,preteens,senior,Seniors,Teen,Teens,Youth
END:VEVENT
BEGIN:VEVENT
DTSTART;TZID=America/New_York:20230531T150000
DTEND;TZID=America/New_York:20230531T160000
DTSTAMP:20260425T215730
CREATED:20230516T215210Z
LAST-MODIFIED:20230526T171121Z
UID:10006372-1685545200-1685548800@www.trailslibrary.org
SUMMARY:Chef Bananas - Waverly Branch
DESCRIPTION:All Ages – Chef Bananas brings a show that’s perfect for adults and kids alike. After all – we are all either young or young at heart – and Chef Bananas’ humor and magic tricks will mesmerize you and make you laugh. It’s the ultimate bonding experience for families. This show is proven to create lasting memories for the entire family.
URL:https://www.trailslibrary.org/event/chef-bananas-6/
LOCATION:Waverly Branch\, 203 E. Kelling\, Waverly\, MO\, 64096\, United States
CATEGORIES:Adult,Adults,All Ages,Children,Family,Guest Speakers,Kids,Music,Performers,Pre-Teen,Pre-Teens,Preschool,Preteen,preteens,senior,Seniors,Teen,Teens,Youth
END:VEVENT
BEGIN:VEVENT
DTSTART;TZID=America/New_York:20230531T163000
DTEND;TZID=America/New_York:20230531T183000
DTSTAMP:20260425T215730
CREATED:20230303T212933Z
LAST-MODIFIED:20230303T212933Z
UID:10006359-1685550600-1685557800@www.trailslibrary.org
SUMMARY:Libraries Got Game! - Warrensburg
DESCRIPTION:Get BOARD at the library with your family and friends! Fun and exciting board and XL games.
URL:https://www.trailslibrary.org/event/libraries-got-game-warrensburg-20/
LOCATION:Warrensburg Branch\, 432 N. Holden\, Warrensburg\, Missouri\, 64093\, United States
CATEGORIES:All Ages,Family
END:VEVENT
END:VCALENDAR