BEGIN:VCALENDAR
VERSION:2.0
PRODID:-//Trails Regional Library - ECPv6.15.20//NONSGML v1.0//EN
CALSCALE:GREGORIAN
METHOD:PUBLISH
X-WR-CALNAME:Trails Regional Library
X-ORIGINAL-URL:https://www.trailslibrary.org
X-WR-CALDESC:Events for Trails Regional Library
REFRESH-INTERVAL;VALUE=DURATION:PT1H
X-Robots-Tag:noindex
X-PUBLISHED-TTL:PT1H
BEGIN:VTIMEZONE
TZID:America/New_York
BEGIN:DAYLIGHT
TZOFFSETFROM:-0500
TZOFFSETTO:-0400
TZNAME:EDT
DTSTART:20220313T070000
END:DAYLIGHT
BEGIN:STANDARD
TZOFFSETFROM:-0400
TZOFFSETTO:-0500
TZNAME:EST
DTSTART:20221106T060000
END:STANDARD
BEGIN:DAYLIGHT
TZOFFSETFROM:-0500
TZOFFSETTO:-0400
TZNAME:EDT
DTSTART:20230312T070000
END:DAYLIGHT
BEGIN:STANDARD
TZOFFSETFROM:-0400
TZOFFSETTO:-0500
TZNAME:EST
DTSTART:20231105T060000
END:STANDARD
BEGIN:DAYLIGHT
TZOFFSETFROM:-0500
TZOFFSETTO:-0400
TZNAME:EDT
DTSTART:20240310T070000
END:DAYLIGHT
BEGIN:STANDARD
TZOFFSETFROM:-0400
TZOFFSETTO:-0500
TZNAME:EST
DTSTART:20241103T060000
END:STANDARD
END:VTIMEZONE
BEGIN:VEVENT
DTSTART;TZID=America/New_York:20230802T163000
DTEND;TZID=America/New_York:20230802T180000
DTSTAMP:20260425T162244
CREATED:20230622T162541Z
LAST-MODIFIED:20230622T162541Z
UID:10006582-1690993800-1690999200@www.trailslibrary.org
SUMMARY:Libraries Got Game - Warrensburg
DESCRIPTION:All Ages – Get BOARD at the library with your family and friends! Fun and exciting board and XL games.
URL:https://www.trailslibrary.org/event/libraries-got-game-warrensburg-21/
CATEGORIES:All Ages,Family
END:VEVENT
BEGIN:VEVENT
DTSTART;TZID=America/New_York:20230804T130000
DTEND;TZID=America/New_York:20230804T140000
DTSTAMP:20260425T162244
CREATED:20230622T161938Z
LAST-MODIFIED:20230622T161938Z
UID:10005466-1691154000-1691157600@www.trailslibrary.org
SUMMARY:Puddle Jumper's Spelling Bee - Odessa
DESCRIPTION:All Ages – Calling all S-P-E-L-L-E-R-S join the Odessa branch for our traditional Puddle Jumper Spelling Bee. Prizes are given to our top spellers. If you are between the ages of 6 to 115 come see if you meet the challenge while cooling off in the library or cheer on the spellers.
URL:https://www.trailslibrary.org/event/puddle-jumpers-spelling-bee-odessa-2/
CATEGORIES:All Ages,Family
END:VEVENT
BEGIN:VEVENT
DTSTART;TZID=America/New_York:20230805T100000
DTEND;TZID=America/New_York:20230805T103000
DTSTAMP:20260425T162245
CREATED:20230622T162742Z
LAST-MODIFIED:20230622T162742Z
UID:10006588-1691229600-1691231400@www.trailslibrary.org
SUMMARY:Scales And Tails - Warrensburg
DESCRIPTION:All Ages – Come join us at the Library to learn all about Snakes and experience first hand what they look and feel like.
URL:https://www.trailslibrary.org/event/scales-and-tails-warrensburg/
CATEGORIES:All Ages,Family,Guest Speaker
END:VEVENT
BEGIN:VEVENT
DTSTART;TZID=America/New_York:20230805T113000
DTEND;TZID=America/New_York:20230805T130000
DTSTAMP:20260425T162245
CREATED:20230622T161329Z
LAST-MODIFIED:20230622T161329Z
UID:10005436-1691235000-1691240400@www.trailslibrary.org
SUMMARY:Cinema Saturday - Knob Noster
DESCRIPTION:All Ages – Come watch “Where the Wild Things Are” with us\, based off of the book series by Maurice Sendak!
URL:https://www.trailslibrary.org/event/cinema-saturday-knob-noster-11/
CATEGORIES:All Ages,Family,Movies
END:VEVENT
BEGIN:VEVENT
DTSTART;TZID=America/New_York:20230807T140000
DTEND;TZID=America/New_York:20230807T160000
DTSTAMP:20260425T162245
CREATED:20230622T162943Z
LAST-MODIFIED:20230622T162943Z
UID:10006592-1691416800-1691424000@www.trailslibrary.org
SUMMARY:Monday Movie - Waverly
DESCRIPTION:All Ages – Come in out of the heat and enjoy a movie & popcorn.
URL:https://www.trailslibrary.org/event/monday-movie-waverly/
CATEGORIES:All Ages,Family,Movies
END:VEVENT
BEGIN:VEVENT
DTSTART;TZID=America/New_York:20230808T090000
DTEND;TZID=America/New_York:20230808T100000
DTSTAMP:20260425T162245
CREATED:20230622T162340Z
LAST-MODIFIED:20230622T162340Z
UID:10006578-1691485200-1691488800@www.trailslibrary.org
SUMMARY:Get Hooked - Warrensburg
DESCRIPTION:All Ages – An intro to crochet where every month we will start on a previously chosen project
URL:https://www.trailslibrary.org/event/get-hooked-warrensburg-10/
CATEGORIES:All Ages,Crafts,Family
END:VEVENT
BEGIN:VEVENT
DTSTART;TZID=America/New_York:20230808T170000
DTEND;TZID=America/New_York:20230808T180000
DTSTAMP:20260425T162245
CREATED:20230622T162540Z
LAST-MODIFIED:20230622T162540Z
UID:10006579-1691514000-1691517600@www.trailslibrary.org
SUMMARY:Get Hooked - Warrensburg
DESCRIPTION:All Ages – An intro to crochet where every month we will start on a previously chosen project
URL:https://www.trailslibrary.org/event/get-hooked-warrensburg-11/
CATEGORIES:All Ages,Crafts,Family
END:VEVENT
BEGIN:VEVENT
DTSTART;TZID=America/New_York:20230809T163000
DTEND;TZID=America/New_York:20230809T173000
DTSTAMP:20260425T162245
CREATED:20230622T162541Z
LAST-MODIFIED:20230622T162541Z
UID:10006583-1691598600-1691602200@www.trailslibrary.org
SUMMARY:Libraries Got Game - Warrensburg
DESCRIPTION:All Ages – Get BOARD at the library with your family and friends! Fun and exciting board and XL games.
URL:https://www.trailslibrary.org/event/libraries-got-game-warrensburg-22/
CATEGORIES:All Ages,Family
END:VEVENT
BEGIN:VEVENT
DTSTART;TZID=America/New_York:20230811T110000
DTEND;TZID=America/New_York:20230811T120000
DTSTAMP:20260425T162245
CREATED:20230622T161344Z
LAST-MODIFIED:20230622T161344Z
UID:10005441-1691751600-1691755200@www.trailslibrary.org
SUMMARY:Family Lego Club - Knob Noster
DESCRIPTION:All Ages – Bring the whole family for fun building challenges!
URL:https://www.trailslibrary.org/event/family-lego-club-knob-noster-6/
CATEGORIES:All Ages,Family
END:VEVENT
BEGIN:VEVENT
DTSTART;TZID=America/New_York:20230811T150000
DTEND;TZID=America/New_York:20230811T170000
DTSTAMP:20260425T162245
CREATED:20230622T161938Z
LAST-MODIFIED:20230622T161938Z
UID:10005464-1691766000-1691773200@www.trailslibrary.org
SUMMARY:Feature Friday - Odessa
DESCRIPTION:All Ages – Join us for our family movie. We provide the popcorn\, you supply your favorite drink.
URL:https://www.trailslibrary.org/event/feature-friday-odessa-4/
CATEGORIES:All Ages,Family,Movies
END:VEVENT
BEGIN:VEVENT
DTSTART;TZID=America/New_York:20230812T100000
DTEND;TZID=America/New_York:20230812T120000
DTSTAMP:20260425T162245
CREATED:20230622T161329Z
LAST-MODIFIED:20230622T161329Z
UID:10006549-1691834400-1691841600@www.trailslibrary.org
SUMMARY:Saturday Matinee - Corder
DESCRIPTION:All Ages – Bring a snack and come join us for our family friendly Saturday Mattinee at Trails Regional Library in Corder.
URL:https://www.trailslibrary.org/event/saturday-matinee-corder-11/
CATEGORIES:All Ages,Family,Movies
END:VEVENT
BEGIN:VEVENT
DTSTART;TZID=America/New_York:20230812T110000
DTEND;TZID=America/New_York:20230812T130000
DTSTAMP:20260425T162245
CREATED:20230622T161736Z
LAST-MODIFIED:20230622T161736Z
UID:10006560-1691838000-1691845200@www.trailslibrary.org
SUMMARY:Saturday Cinema - Leeton
DESCRIPTION:All Ages – Join us for a movie that is sure to get you back in the groove for school! We will provide popcorn\, you supply your favorite drink ( with a lid). Bring a friend for more fun!
URL:https://www.trailslibrary.org/event/saturday-cinema-leeton-2/
CATEGORIES:All Ages,Family,Movies
END:VEVENT
BEGIN:VEVENT
DTSTART;TZID=America/New_York:20230817T000000
DTEND;TZID=America/New_York:20230817T235959
DTSTAMP:20260425T162245
CREATED:20230622T161736Z
LAST-MODIFIED:20230622T161736Z
UID:10006559-1692230400-1692316799@www.trailslibrary.org
SUMMARY:Third Thursday Fun & Games /Open House - Leeton
DESCRIPTION:All Ages – Be sure to stop by the library at Back to School Open House Night. This is the first 3rd Thursday of the year and we want to celebrate the new school year!
URL:https://www.trailslibrary.org/event/third-thursday-fun-games-open-house-leeton/
CATEGORIES:All Ages,Family
END:VEVENT
BEGIN:VEVENT
DTSTART;TZID=America/New_York:20230817T170000
DTEND;TZID=America/New_York:20230817T190000
DTSTAMP:20260425T162245
CREATED:20230622T161344Z
LAST-MODIFIED:20230622T161344Z
UID:10005439-1692291600-1692298800@www.trailslibrary.org
SUMMARY:Family Game Night - Knob Noster
DESCRIPTION:All Ages – Bring out the whole family and enjoy time together playing board games!
URL:https://www.trailslibrary.org/event/family-game-night-knob-noster-2/
CATEGORIES:All Ages,Family
END:VEVENT
BEGIN:VEVENT
DTSTART;TZID=America/New_York:20230818T153000
DTEND;TZID=America/New_York:20230818T173000
DTSTAMP:20260425T162245
CREATED:20230622T161314Z
LAST-MODIFIED:20230725T140719Z
UID:10006545-1692372600-1692379800@www.trailslibrary.org
SUMMARY:Friday Family Film - Concordia
DESCRIPTION:All Ages – Join us for our monthly Family Film Friday movie selection.
URL:https://www.trailslibrary.org/event/friday-family-film-concordia-2/
LOCATION:Concordia Branch\, 813 S Main\, Concordia\, MO\, 64020\, United States
CATEGORIES:All Ages,Family,Movies
END:VEVENT
BEGIN:VEVENT
DTSTART;TZID=America/New_York:20230819T140000
DTEND;TZID=America/New_York:20230819T160000
DTSTAMP:20260425T162245
CREATED:20230622T162139Z
LAST-MODIFIED:20230622T162139Z
UID:10005472-1692453600-1692460800@www.trailslibrary.org
SUMMARY:Cinema Saturday - Warrensburg
DESCRIPTION:All Ages – Come and enjoy a movie at the Library!
URL:https://www.trailslibrary.org/event/cinema-saturday-warrensburg-6/
CATEGORIES:All Ages,Family,Movies
END:VEVENT
BEGIN:VEVENT
DTSTART;TZID=America/New_York:20230822T090000
DTEND;TZID=America/New_York:20230822T100000
DTSTAMP:20260425T162245
CREATED:20230622T162541Z
LAST-MODIFIED:20230622T162541Z
UID:10006580-1692694800-1692698400@www.trailslibrary.org
SUMMARY:Get Hooked - Warrensburg
DESCRIPTION:All Ages – An intro to crochet where every month we will start on a previously chosen project
URL:https://www.trailslibrary.org/event/get-hooked-warrensburg-12/
CATEGORIES:All Ages,Crafts,Family
END:VEVENT
BEGIN:VEVENT
DTSTART;TZID=America/New_York:20230822T170000
DTEND;TZID=America/New_York:20230822T180000
DTSTAMP:20260425T162245
CREATED:20230622T162541Z
LAST-MODIFIED:20230622T162541Z
UID:10006581-1692723600-1692727200@www.trailslibrary.org
SUMMARY:Get Hooked - Warrensburg
DESCRIPTION:All Ages – An intro to crochet where every month we will start on a previously chosen project
URL:https://www.trailslibrary.org/event/get-hooked-warrensburg-13/
CATEGORIES:All Ages,Crafts,Family
END:VEVENT
BEGIN:VEVENT
DTSTART;TZID=America/New_York:20230823T163000
DTEND;TZID=America/New_York:20230823T180000
DTSTAMP:20260425T162245
CREATED:20230622T162741Z
LAST-MODIFIED:20230622T162741Z
UID:10006584-1692808200-1692813600@www.trailslibrary.org
SUMMARY:Libraries Got Game - Warrensburg
DESCRIPTION:All Ages – Get BOARD at the library with your family and friends! Fun and exciting board and XL games.
URL:https://www.trailslibrary.org/event/libraries-got-game-warrensburg-23/
CATEGORIES:All Ages,Family
END:VEVENT
BEGIN:VEVENT
DTSTART;TZID=America/New_York:20230826T100000
DTEND;TZID=America/New_York:20230826T120000
DTSTAMP:20260425T162245
CREATED:20230622T161908Z
LAST-MODIFIED:20230622T161908Z
UID:10006568-1693044000-1693051200@www.trailslibrary.org
SUMMARY:Cinema Saturdays - Lexington
DESCRIPTION:All Ages – Come hungy to watch a movie and enjoy pancakes and juice. PJs\, blankets and pillow are welcome.
URL:https://www.trailslibrary.org/event/cinema-saturdays-lexington/
CATEGORIES:All Ages,Family,Movies
END:VEVENT
BEGIN:VEVENT
DTSTART;TZID=America/New_York:20230830T163000
DTEND;TZID=America/New_York:20230830T173000
DTSTAMP:20260425T162245
CREATED:20230622T162741Z
LAST-MODIFIED:20230622T162741Z
UID:10006585-1693413000-1693416600@www.trailslibrary.org
SUMMARY:Libraries Got Game - Warrensburg
DESCRIPTION:All Ages – Get BOARD at the library with your family and friends! Fun and exciting board and XL games.
URL:https://www.trailslibrary.org/event/libraries-got-game-warrensburg-24/
CATEGORIES:All Ages,Family
END:VEVENT
END:VCALENDAR