BEGIN:VCALENDAR
VERSION:2.0
PRODID:-//Trails Regional Library - ECPv6.15.20//NONSGML v1.0//EN
CALSCALE:GREGORIAN
METHOD:PUBLISH
X-WR-CALNAME:Trails Regional Library
X-ORIGINAL-URL:https://www.trailslibrary.org
X-WR-CALDESC:Events for Trails Regional Library
REFRESH-INTERVAL;VALUE=DURATION:PT1H
X-Robots-Tag:noindex
X-PUBLISHED-TTL:PT1H
BEGIN:VTIMEZONE
TZID:America/New_York
BEGIN:DAYLIGHT
TZOFFSETFROM:-0500
TZOFFSETTO:-0400
TZNAME:EDT
DTSTART:20220313T070000
END:DAYLIGHT
BEGIN:STANDARD
TZOFFSETFROM:-0400
TZOFFSETTO:-0500
TZNAME:EST
DTSTART:20221106T060000
END:STANDARD
BEGIN:DAYLIGHT
TZOFFSETFROM:-0500
TZOFFSETTO:-0400
TZNAME:EDT
DTSTART:20230312T070000
END:DAYLIGHT
BEGIN:STANDARD
TZOFFSETFROM:-0400
TZOFFSETTO:-0500
TZNAME:EST
DTSTART:20231105T060000
END:STANDARD
BEGIN:DAYLIGHT
TZOFFSETFROM:-0500
TZOFFSETTO:-0400
TZNAME:EDT
DTSTART:20240310T070000
END:DAYLIGHT
BEGIN:STANDARD
TZOFFSETFROM:-0400
TZOFFSETTO:-0500
TZNAME:EST
DTSTART:20241103T060000
END:STANDARD
END:VTIMEZONE
BEGIN:VEVENT
DTSTART;TZID=America/New_York:20231109T160000
DTEND;TZID=America/New_York:20231109T160000
DTSTAMP:20260425T113903
CREATED:20230820T045414Z
LAST-MODIFIED:20230820T055017Z
UID:10006874-1699545600-1699545600@www.trailslibrary.org
SUMMARY:Lego Club - Knob Noster
DESCRIPTION:All Ages: Bring the whole family for fun building challenges!
URL:https://www.trailslibrary.org/event/lego-club-knob-noster-3/
LOCATION:Knob Noster Branch\, 202 N. Adams\, Knob Noster\, MO\, 65336\, United States
CATEGORIES:Adult,Adults,All Ages,Children,Family,Kids,senior,Seniors,Teen,Teens
END:VEVENT
BEGIN:VEVENT
DTSTART;TZID=America/New_York:20231114T150000
DTEND;TZID=America/New_York:20231114T170000
DTSTAMP:20260425T113903
CREATED:20230818T200653Z
LAST-MODIFIED:20230820T064641Z
UID:10006680-1699974000-1699981200@www.trailslibrary.org
SUMMARY:Art and Craft Club -Holden
DESCRIPTION:All Ages: REGISTRATION REQUIRED– Art & Craft Club is a social hour for Patrons to bring Art & Craft projects they are currently working on and get assistance and guidance from each other and the program staff.
URL:https://www.trailslibrary.org/event/art-and-craft-club-holden-3/
LOCATION:Holden Branch\, 207 S. Main\, Holden\, MO\, 64040\, United States
CATEGORIES:Adult,Adults,All Ages,Children,Crafts,Family,Kids,senior,Seniors,Teen,Teens
END:VEVENT
BEGIN:VEVENT
DTSTART;TZID=America/New_York:20231114T153000
DTEND;TZID=America/New_York:20231114T170000
DTSTAMP:20260425T113903
CREATED:20230818T201013Z
LAST-MODIFIED:20230820T042457Z
UID:10006727-1699975800-1699981200@www.trailslibrary.org
SUMMARY:Friends\, Flicks and FUN ! - Lexington
DESCRIPTION:All Ages: Come to the library and watch a fun movie. We’ll provide the popcorn and you can bring a friend along for more FUN! * Bring a drink with a lid!
URL:https://www.trailslibrary.org/event/friends-flicks-and-fun-lexington-3/
LOCATION:Lexington Branch\, 1008 Main Street\, Lexington\, MO\, 64067\, United States
CATEGORIES:Adult,Adults,All Ages,Children,Family,Kids,Movie,Teens
END:VEVENT
BEGIN:VEVENT
DTSTART;TZID=America/New_York:20231115T163000
DTEND;TZID=America/New_York:20231115T180000
DTSTAMP:20260425T113903
CREATED:20230820T063845Z
LAST-MODIFIED:20230820T063845Z
UID:10005814-1700065800-1700071200@www.trailslibrary.org
SUMMARY:Libraries Got Game - Warrensburg
DESCRIPTION:All Ages: Get BOARD at the library with your family and friends! Fun and exciting board and XL games.
URL:https://www.trailslibrary.org/event/libraries-got-game-warrensburg-35/
LOCATION:Warrensburg Branch\, 432 N. Holden\, Warrensburg\, Missouri\, 64093\, United States
CATEGORIES:Adult,Adults,All Ages,Children,Family,Kids,preteens,senior,Seniors,Teen,Teens,Youth
END:VEVENT
BEGIN:VEVENT
DTSTART;TZID=America/New_York:20231117T160000
DTEND;TZID=America/New_York:20231117T170000
DTSTAMP:20260425T113903
CREATED:20230818T201209Z
LAST-MODIFIED:20230818T212537Z
UID:10006752-1700236800-1700240400@www.trailslibrary.org
SUMMARY:Feature Friday - Odessa
DESCRIPTION:All Ages: Join us for our family movie. We provide the popcorn\, you supply your favorite drink
URL:https://www.trailslibrary.org/event/feature-friday-odessa-7/
LOCATION:Odessa Branch\, 107 W. Mason\, Odessa\, MO\, 64076\, United States
CATEGORIES:Adult,Adults,All Ages,Children,Family,Kids,Movie,Teens
END:VEVENT
BEGIN:VEVENT
DTSTART;TZID=America/New_York:20231118T100000
DTEND;TZID=America/New_York:20231118T113000
DTSTAMP:20260425T113903
CREATED:20230818T155307Z
LAST-MODIFIED:20230818T155501Z
UID:10006652-1700301600-1700307000@www.trailslibrary.org
SUMMARY:Morning Movie - Concordia
DESCRIPTION:All Ages: Join us on Saturday morning for a family friendly fim
URL:https://www.trailslibrary.org/event/morning-movie-2/
LOCATION:Concordia Branch\, 813 S Main\, Concordia\, MO\, 64020\, United States
CATEGORIES:Adult,Adults,All Ages,Children,Family,Kids,Movie,senior,Seniors,Teen,Teens
END:VEVENT
BEGIN:VEVENT
DTSTART;TZID=America/New_York:20231118T100000
DTEND;TZID=America/New_York:20231118T113000
DTSTAMP:20260425T113903
CREATED:20230820T065508Z
LAST-MODIFIED:20230820T065508Z
UID:10007025-1700301600-1700307000@www.trailslibrary.org
SUMMARY:Morning Movie
DESCRIPTION:All Ages: Join us on Saturday morning for a family friendly fim
URL:https://www.trailslibrary.org/event/morning-movie-4/
LOCATION:Concordia Branch\, 813 S Main\, Concordia\, MO\, 64020\, United States
CATEGORIES:Adult,Adults,All Ages,Children,Family,Kids,Movie,senior,Seniors,Teen,Teens
END:VEVENT
BEGIN:VEVENT
DTSTART;TZID=America/New_York:20231118T100000
DTEND;TZID=America/New_York:20231118T120000
DTSTAMP:20260425T113903
CREATED:20230818T200434Z
LAST-MODIFIED:20230818T200434Z
UID:10006674-1700301600-1700308800@www.trailslibrary.org
SUMMARY:Saturday Matinne - Corder
DESCRIPTION:All Ages: Bring a snack and come join us for our family friendly Saturday Mattinee at Trails Regional Library in Corder.
URL:https://www.trailslibrary.org/event/saturday-matinne-corder-3/
LOCATION:Corder Branch\, 221 N. Lafayette\, Corder\, MO\, 64021\, United States
CATEGORIES:Adult,Adults,All Ages,Children,Family,Kids,Movie,Teens
END:VEVENT
BEGIN:VEVENT
DTSTART;TZID=America/New_York:20231120T100000
DTEND;TZID=America/New_York:20231120T120000
DTSTAMP:20260425T113903
CREATED:20230820T045414Z
LAST-MODIFIED:20230820T055017Z
UID:10006875-1700474400-1700481600@www.trailslibrary.org
SUMMARY:Lego Hangout
DESCRIPTION:All Ages: Bring the whole family for fun building challenges!
URL:https://www.trailslibrary.org/event/lego-hangout/
LOCATION:Knob Noster Branch\, 202 N. Adams\, Knob Noster\, MO\, 65336\, United States
CATEGORIES:Adult,Adults,All Ages,Children,Family,Kids,senior,Seniors,Teen,Teens
END:VEVENT
BEGIN:VEVENT
DTSTART;TZID=America/New_York:20231121T170000
DTEND;TZID=America/New_York:20231121T180000
DTSTAMP:20260425T113903
CREATED:20230820T063745Z
LAST-MODIFIED:20230820T063745Z
UID:10006907-1700586000-1700589600@www.trailslibrary.org
SUMMARY:Get Hooked - Warrensburg
DESCRIPTION:All Ages: Get Hooked! Come join us for tips and tricks\, learn how to crochet or knit.
URL:https://www.trailslibrary.org/event/get-hooked-warrensburg-19/
LOCATION:Warrensburg Branch\, 432 N. Holden\, Warrensburg\, Missouri\, 64093\, United States
CATEGORIES:Adult,Adults,All Ages,Children,Crafts,Family,Kids,preteens,senior,Seniors,Teen,Teens,Youth
END:VEVENT
BEGIN:VEVENT
DTSTART;TZID=America/New_York:20231122T163000
DTEND;TZID=America/New_York:20231122T180000
DTSTAMP:20260425T113903
CREATED:20230820T063846Z
LAST-MODIFIED:20230820T063846Z
UID:10005815-1700670600-1700676000@www.trailslibrary.org
SUMMARY:Libraries Got Game - Warrensburg
DESCRIPTION:All Ages: Get BOARD at the library with your family and friends! Fun and exciting board and XL games.
URL:https://www.trailslibrary.org/event/libraries-got-game-warrensburg-36/
LOCATION:Warrensburg Branch\, 432 N. Holden\, Warrensburg\, Missouri\, 64093\, United States
CATEGORIES:Adult,Adults,All Ages,Children,Family,Kids,preteens,senior,Seniors,Teen,Teens,Youth
END:VEVENT
BEGIN:VEVENT
DTSTART;TZID=America/New_York:20231122T170000
DTEND;TZID=America/New_York:20231122T180000
DTSTAMP:20260425T113903
CREATED:20230820T064343Z
LAST-MODIFIED:20230820T064343Z
UID:10006983-1700672400-1700676000@www.trailslibrary.org
SUMMARY:Yoga for All - Warrensburg
DESCRIPTION:All Ages: Discover inner calm and build strength during this relaxing program led by a certified instructor. Please wear comfortable clothing and bring a mat or towel.
URL:https://www.trailslibrary.org/event/yoga-for-all-warrensburg-6/
LOCATION:Warrensburg Branch\, 432 N. Holden\, Warrensburg\, Missouri\, 64093\, United States
CATEGORIES:Adult,Adults,All Ages,Children,Family,Kids,preteens,senior,Seniors,Teen,Teens,Youth
END:VEVENT
BEGIN:VEVENT
DTSTART;TZID=America/New_York:20231129T163000
DTEND;TZID=America/New_York:20231129T180000
DTSTAMP:20260425T113903
CREATED:20230820T063846Z
LAST-MODIFIED:20230820T063846Z
UID:10005816-1701275400-1701280800@www.trailslibrary.org
SUMMARY:Libraries Got Game - Warrensburg
DESCRIPTION:All Ages: Get BOARD at the library with your family and friends! Fun and exciting board and XL games.
URL:https://www.trailslibrary.org/event/libraries-got-game-warrensburg-37/
LOCATION:Warrensburg Branch\, 432 N. Holden\, Warrensburg\, Missouri\, 64093\, United States
CATEGORIES:Adult,Adults,All Ages,Children,Family,Kids,preteens,senior,Seniors,Teen,Teens,Youth
END:VEVENT
BEGIN:VEVENT
DTSTART;TZID=America/New_York:20231202T100000
DTEND;TZID=America/New_York:20231202T110000
DTSTAMP:20260425T113903
CREATED:20230818T201433Z
LAST-MODIFIED:20230820T063715Z
UID:10005685-1701511200-1701514800@www.trailslibrary.org
SUMMARY:Flapjacks and Funnies - Warrensburg
DESCRIPTION:All Ages: Come join us for classic cartoons and a bite of breakfast.
URL:https://www.trailslibrary.org/event/flapjacks-and-funnies-warrensburg-4/
LOCATION:Warrensburg Branch\, 432 N. Holden\, Warrensburg\, Missouri\, 64093\, United States
CATEGORIES:Adult,Adults,All Ages,Children,Family,Kids,preteens,senior,Seniors,Teen,Teens,Youth
END:VEVENT
BEGIN:VEVENT
DTSTART;TZID=America/New_York:20231202T110000
DTEND;TZID=America/New_York:20231202T130000
DTSTAMP:20260425T113903
CREATED:20230818T201059Z
LAST-MODIFIED:20230818T201059Z
UID:10006745-1701514800-1701522000@www.trailslibrary.org
SUMMARY:Saturday Cinema - Leeton Express Branch
DESCRIPTION:All Ages: Join us on the 1st Saturday of the month at 11 AM for a family friendly movie. Bring a friend and a drink with a lid. We will provide the popcorn!
URL:https://www.trailslibrary.org/event/saturday-cinema-leeton-express-branch-4/
LOCATION:Leeton Express Branch\, 500 N. Main\, Leeton\, MO\, 64761\, United States
CATEGORIES:Adult,Adults,All Ages,Children,Family,Kids,Movie,Teens
END:VEVENT
BEGIN:VEVENT
DTSTART;TZID=America/New_York:20231202T113000
DTEND;TZID=America/New_York:20231202T130000
DTSTAMP:20260425T113903
CREATED:20230818T200729Z
LAST-MODIFIED:20230820T054813Z
UID:10005592-1701516600-1701522000@www.trailslibrary.org
SUMMARY:Cinema Saturday - Knob Noster
DESCRIPTION:All Ages: Come watch “The Grinch” with us\, based off of the book by Dr. Seuss!
URL:https://www.trailslibrary.org/event/cinema-saturday-knob-noster-15/
LOCATION:Knob Noster Branch\, 202 N. Adams\, Knob Noster\, MO\, 65336\, United States
CATEGORIES:All Ages,Family,Movies
END:VEVENT
BEGIN:VEVENT
DTSTART;TZID=America/New_York:20231204T150000
DTEND;TZID=America/New_York:20231204T160000
DTSTAMP:20260425T113903
CREATED:20230820T064201Z
LAST-MODIFIED:20230820T064201Z
UID:10006969-1701702000-1701705600@www.trailslibrary.org
SUMMARY:Show Me Sound Chorus - Warrensburg
DESCRIPTION:All Ages: Enjoy Autumn and Winter songs at your loacal Library with the Show me Sound Chorous\, a registered Sweet Adeline International chorus.
URL:https://www.trailslibrary.org/event/show-me-sound-chorus-warrensburg/
LOCATION:Warrensburg Branch\, 432 N. Holden\, Warrensburg\, Missouri\, 64093\, United States
CATEGORIES:Adult,Adults,All Ages,Children,Family,Guest Presenter,Kids,preteens,senior,Seniors,Teen,Teens,Youth
END:VEVENT
BEGIN:VEVENT
DTSTART;TZID=America/New_York:20231204T173000
DTEND;TZID=America/New_York:20231204T183000
DTSTAMP:20260425T113903
CREATED:20230818T201418Z
LAST-MODIFIED:20230820T063700Z
UID:10006794-1701711000-1701714600@www.trailslibrary.org
SUMMARY:DIY Spa Series - Warrensburg
DESCRIPTION:All Ages: Join us to make a wintery body scrub.
URL:https://www.trailslibrary.org/event/diy-spa-series-warrensburg-9/
LOCATION:Warrensburg Branch\, 432 N. Holden\, Warrensburg\, Missouri\, 64093\, United States
CATEGORIES:Adult,Adults,All Ages,Children,Crafts,Family,Kids,preteens,senior,Seniors,Teen,Teens,Youth
END:VEVENT
BEGIN:VEVENT
DTSTART;TZID=America/New_York:20231205T090000
DTEND;TZID=America/New_York:20231205T100000
DTSTAMP:20260425T113903
CREATED:20230820T063745Z
LAST-MODIFIED:20230820T063745Z
UID:10006908-1701766800-1701770400@www.trailslibrary.org
SUMMARY:Get Hooked - Warrensburg
DESCRIPTION:All Ages: Come join us for tips and tricks\, learn how to crochet or knit.
URL:https://www.trailslibrary.org/event/get-hooked-warrensburg-20/
LOCATION:Warrensburg Branch\, 432 N. Holden\, Warrensburg\, Missouri\, 64093\, United States
CATEGORIES:Adult,Adults,All Ages,Children,Craft,Crafts,Family,Kids,preteens,senior,Seniors,Teen,Teens,Youth
END:VEVENT
BEGIN:VEVENT
DTSTART;TZID=America/New_York:20231206T164000
DTEND;TZID=America/New_York:20231206T180000
DTSTAMP:20260425T113903
CREATED:20230820T063846Z
LAST-MODIFIED:20230820T063846Z
UID:10005818-1701880800-1701885600@www.trailslibrary.org
SUMMARY:Libraries Got Game - Warrensburg
DESCRIPTION:All Ages: Get BOARD at the library with your family and friends! Fun and exciting board and XL games.
URL:https://www.trailslibrary.org/event/libraries-got-game-warrensburg-38/
LOCATION:Warrensburg Branch\, 432 N. Holden\, Warrensburg\, Missouri\, 64093\, United States
CATEGORIES:Adult,Adults,All Ages,Children,Family,Kids,preteens,senior,Seniors,Teen,Teens,Youth
END:VEVENT
BEGIN:VEVENT
DTSTART;TZID=America/New_York:20231207T170000
DTEND;TZID=America/New_York:20231207T200000
DTSTAMP:20260425T113903
CREATED:20230818T201224Z
LAST-MODIFIED:20230818T212552Z
UID:10006756-1701968400-1701979200@www.trailslibrary.org
SUMMARY:Heritage Realty Santa Program - Odessa
DESCRIPTION:All Ages: Join in the fun with Santa\, hear a story\, and receive a book from Trails Regional Library
URL:https://www.trailslibrary.org/event/heritage-realty-santa-program-odessa/
LOCATION:Odessa Branch\, 107 W. Mason\, Odessa\, MO\, 64076\, United States
CATEGORIES:Adult,Adults,All Ages,Children,Family,Kids,preteens,senior,Seniors,Teen,Teens,Youth
END:VEVENT
BEGIN:VEVENT
DTSTART;TZID=America/New_York:20231209T100000
DTEND;TZID=America/New_York:20231209T110000
DTSTAMP:20260425T113903
CREATED:20230818T155322Z
LAST-MODIFIED:20230818T155424Z
UID:10006659-1702116000-1702119600@www.trailslibrary.org
SUMMARY:Cartoons & Pancakes - Concordia
DESCRIPTION:All Ages: Join us for an old-fashioned Saturday morning. We eat pancakes and watch cartoons with friends!
URL:https://www.trailslibrary.org/event/cartoons-pancakes-2/
LOCATION:Concordia Branch\, 813 S Main\, Concordia\, MO\, 64020\, United States
CATEGORIES:Adult,Adults,All Ages,Children,Family,Kids,senior,Seniors,Teen,Teens
END:VEVENT
BEGIN:VEVENT
DTSTART;TZID=America/New_York:20231209T110000
DTEND;TZID=America/New_York:20231209T120000
DTSTAMP:20260425T113903
CREATED:20230820T064202Z
LAST-MODIFIED:20230820T064202Z
UID:10006970-1702119600-1702123200@www.trailslibrary.org
SUMMARY:Slice of Art - Warrensburg
DESCRIPTION:All Ages: Come and enjoy a holiday themed Art turtorial at your Library.
URL:https://www.trailslibrary.org/event/slice-of-art-warrensburg/
LOCATION:Warrensburg Branch\, 432 N. Holden\, Warrensburg\, Missouri\, 64093\, United States
CATEGORIES:Adult,Adults,All Ages,Children,Crafts,Family,Kids,preteens,senior,Seniors,Teen,Teens,Youth
END:VEVENT
BEGIN:VEVENT
DTSTART;TZID=America/New_York:20231209T110000
DTEND;TZID=America/New_York:20231209T130000
DTSTAMP:20260425T113903
CREATED:20230818T200711Z
LAST-MODIFIED:20230820T064658Z
UID:10006690-1702119600-1702126800@www.trailslibrary.org
SUMMARY:Cookies with Santa - Holden
DESCRIPTION:All Ages: Have a Cookie with Santa!
URL:https://www.trailslibrary.org/event/cookies-with-santa-holden/
LOCATION:Holden Branch\, 207 S. Main\, Holden\, MO\, 64040\, United States
CATEGORIES:Adult,Adults,All Ages,Children,Family,Kids,senior,Seniors,Teen,Teens
END:VEVENT
BEGIN:VEVENT
DTSTART;TZID=America/New_York:20231209T110000
DTEND;TZID=America/New_York:20231209T130000
DTSTAMP:20260425T113903
CREATED:20230818T201154Z
LAST-MODIFIED:20230818T212522Z
UID:10005648-1702119600-1702126800@www.trailslibrary.org
SUMMARY:Cookies with Santa - Odessa
DESCRIPTION:All Ages: Join the Odessa Branch for cookies with Santa. Bring your own device to take pictures and enjoy activities.
URL:https://www.trailslibrary.org/event/cookies-with-santa-odessa/
LOCATION:Odessa Branch\, 107 W. Mason\, Odessa\, MO\, 64076\, United States
CATEGORIES:Adult,Adults,All Ages,Children,Family,Kids,preteens,senior,Seniors,Teen,Teens,Youth
END:VEVENT
BEGIN:VEVENT
DTSTART;TZID=America/New_York:20231212T153000
DTEND;TZID=America/New_York:20231212T170000
DTSTAMP:20260425T113903
CREATED:20230818T201014Z
LAST-MODIFIED:20230820T042457Z
UID:10006728-1702395000-1702400400@www.trailslibrary.org
SUMMARY:Friends\, Flicks and FUN ! - Lexington
DESCRIPTION:All Ages: Come to the library and watch a fun movie. We’ll provide the popcorn and you can bring a friend along for more FUN! * Bring a drink with a lid!
URL:https://www.trailslibrary.org/event/friends-flicks-and-fun-lexington-4/
LOCATION:Lexington Branch\, 1008 Main Street\, Lexington\, MO\, 64067\, United States
CATEGORIES:Adult,Adults,All Ages,Children,Family,Kids,Movie,Teens
END:VEVENT
BEGIN:VEVENT
DTSTART;TZID=America/New_York:20231213T164000
DTEND;TZID=America/New_York:20231213T180000
DTSTAMP:20260425T113903
CREATED:20230820T063901Z
LAST-MODIFIED:20230820T063901Z
UID:10005819-1702485600-1702490400@www.trailslibrary.org
SUMMARY:Libraries Got Game - Warrensburg
DESCRIPTION:All Ages: Get BOARD at the library with your family and friends! Fun and exciting board and XL games.
URL:https://www.trailslibrary.org/event/libraries-got-game-warrensburg-39/
LOCATION:Warrensburg Branch\, 432 N. Holden\, Warrensburg\, Missouri\, 64093\, United States
CATEGORIES:Adult,Adults,All Ages,Children,Family,Kids,preteens,senior,Seniors,Teen,Teens,Youth
END:VEVENT
BEGIN:VEVENT
DTSTART;TZID=America/New_York:20231213T170000
DTEND;TZID=America/New_York:20231213T180000
DTSTAMP:20260425T113903
CREATED:20230820T064350Z
LAST-MODIFIED:20230820T064350Z
UID:10006984-1702486800-1702490400@www.trailslibrary.org
SUMMARY:Yoga for All - Warrensburg
DESCRIPTION:All Ages: Discover inner calm and build strength during this relaxing program led by a certified instructor. Please wear comfortable clothing and bring a mat or towel.
URL:https://www.trailslibrary.org/event/yoga-for-all-warrensburg-7/
LOCATION:Warrensburg Branch\, 432 N. Holden\, Warrensburg\, Missouri\, 64093\, United States
CATEGORIES:Adult,Adults,All Ages,Children,Family,Kids,preteens,senior,Seniors,Teen,Teens,Youth
END:VEVENT
BEGIN:VEVENT
DTSTART;TZID=America/New_York:20231216T100000
DTEND;TZID=America/New_York:20231216T120000
DTSTAMP:20260425T113903
CREATED:20230818T200435Z
LAST-MODIFIED:20230818T200435Z
UID:10005558-1702720800-1702728000@www.trailslibrary.org
SUMMARY:Saturday Matinne - Corder
DESCRIPTION:All Ages: Bring a snack and come join us for our family friendly Saturday Mattinee at Trails Regional Library in Corder.
URL:https://www.trailslibrary.org/event/saturday-matinne-corder-4/
LOCATION:Corder Branch\, 221 N. Lafayette\, Corder\, MO\, 64021\, United States
CATEGORIES:Adult,Adults,All Ages,Children,Family,Kids,Movie,Teens
END:VEVENT
BEGIN:VEVENT
DTSTART;TZID=America/New_York:20231219T100000
DTEND;TZID=America/New_York:20231219T113000
DTSTAMP:20260425T113903
CREATED:20230820T063801Z
LAST-MODIFIED:20230820T063801Z
UID:10006916-1702980000-1702985400@www.trailslibrary.org
SUMMARY:Kinship Care - Warrensburg
DESCRIPTION:Ages 19+: Practical information for your daily role as a grandparent or relative raising a child.
URL:https://www.trailslibrary.org/event/kinship-care-warrensburg-4/
LOCATION:Warrensburg Branch\, 432 N. Holden\, Warrensburg\, Missouri\, 64093\, United States
CATEGORIES:Adult,Adults,All Ages,Children,Family,Guest Presenter,Kids,preteens,senior,Seniors,Teen,Teens,Youth
END:VEVENT
END:VCALENDAR