BEGIN:VCALENDAR
VERSION:2.0
PRODID:-//Trails Regional Library - ECPv6.15.20//NONSGML v1.0//EN
CALSCALE:GREGORIAN
METHOD:PUBLISH
X-ORIGINAL-URL:https://www.trailslibrary.org
X-WR-CALDESC:Events for Trails Regional Library
REFRESH-INTERVAL;VALUE=DURATION:PT1H
X-Robots-Tag:noindex
X-PUBLISHED-TTL:PT1H
BEGIN:VTIMEZONE
TZID:America/New_York
BEGIN:DAYLIGHT
TZOFFSETFROM:-0500
TZOFFSETTO:-0400
TZNAME:EDT
DTSTART:20220313T070000
END:DAYLIGHT
BEGIN:STANDARD
TZOFFSETFROM:-0400
TZOFFSETTO:-0500
TZNAME:EST
DTSTART:20221106T060000
END:STANDARD
BEGIN:DAYLIGHT
TZOFFSETFROM:-0500
TZOFFSETTO:-0400
TZNAME:EDT
DTSTART:20230312T070000
END:DAYLIGHT
BEGIN:STANDARD
TZOFFSETFROM:-0400
TZOFFSETTO:-0500
TZNAME:EST
DTSTART:20231105T060000
END:STANDARD
BEGIN:DAYLIGHT
TZOFFSETFROM:-0500
TZOFFSETTO:-0400
TZNAME:EDT
DTSTART:20240310T070000
END:DAYLIGHT
BEGIN:STANDARD
TZOFFSETFROM:-0400
TZOFFSETTO:-0500
TZNAME:EST
DTSTART:20241103T060000
END:STANDARD
END:VTIMEZONE
BEGIN:VEVENT
DTSTART;TZID=America/New_York:20231014T100000
DTEND;TZID=America/New_York:20231014T110000
DTSTAMP:20260425T164103
CREATED:20230818T201433Z
LAST-MODIFIED:20230820T063715Z
UID:10005681-1697277600-1697281200@www.trailslibrary.org
SUMMARY:Flapjacks and Funnies - Warrensburg
DESCRIPTION:All Ages: Come join us for classic cartoons and a bite of breakfast.
URL:https://www.trailslibrary.org/event/flapjacks-and-funnies-warrensburg-2/
LOCATION:Warrensburg Branch\, 432 N. Holden\, Warrensburg\, Missouri\, 64093\, United States
CATEGORIES:Adult,Adults,All Ages,Children,Family,Kids,preteens,senior,Seniors,Teen,Teens,Youth
END:VEVENT
BEGIN:VEVENT
DTSTART;TZID=America/New_York:20231014T100000
DTEND;TZID=America/New_York:20231014T113000
DTSTAMP:20260425T164103
CREATED:20230818T155210Z
LAST-MODIFIED:20230818T160934Z
UID:10005534-1697277600-1697283000@www.trailslibrary.org
SUMMARY:Cartoons & Pancakes - Concordia
DESCRIPTION:All Ages: Join us for an old-fashioned Saturday morning. We eat pancakes and watch cartoons with friends!
URL:https://www.trailslibrary.org/event/cartoons-pancakes/
LOCATION:Concordia Branch\, 813 S Main\, Concordia\, MO\, 64020\, United States
CATEGORIES:Adult,Adults,All Ages,Children,Family,Kids,senior,Seniors,Teen,Teens
END:VEVENT
BEGIN:VEVENT
DTSTART;TZID=America/New_York:20231014T100000
DTEND;TZID=America/New_York:20231014T113000
DTSTAMP:20260425T164103
CREATED:20230820T065423Z
LAST-MODIFIED:20230820T065423Z
UID:10007022-1697277600-1697283000@www.trailslibrary.org
SUMMARY:Cartoons & Pancakes
DESCRIPTION:All Ages: Join us for an old-fashioned Saturday morning. We eat pancakes and watch cartoons with friends!
URL:https://www.trailslibrary.org/event/cartoons-pancakes-3/
LOCATION:Concordia Branch\, 813 S Main\, Concordia\, MO\, 64020\, United States
CATEGORIES:Adult,Adults,All Ages,Children,Family,Kids,senior,Seniors,Teen,Teens
END:VEVENT
BEGIN:VEVENT
DTSTART;TZID=America/New_York:20231014T110000
DTEND;TZID=America/New_York:20231014T130000
DTSTAMP:20260425T164103
CREATED:20230818T200725Z
LAST-MODIFIED:20230820T064713Z
UID:10006695-1697281200-1697288400@www.trailslibrary.org
SUMMARY:Family Movie Matinee - Holden
DESCRIPTION:All Ages: Come to the library and enjoy a family friendly movie.
URL:https://www.trailslibrary.org/event/family-movie-matinee-holden-3/
LOCATION:Holden Branch\, 207 S. Main\, Holden\, MO\, 64040\, United States
CATEGORIES:Adult,Adults,All Ages,Children,Family,Kids,senior,Seniors,Teen,Teens
END:VEVENT
BEGIN:VEVENT
DTSTART;TZID=America/New_York:20231016T033000
DTEND;TZID=America/New_York:20231019T073000
DTSTAMP:20260425T164103
CREATED:20230818T201044Z
LAST-MODIFIED:20230818T201044Z
UID:10006739-1697427000-1697700600@www.trailslibrary.org
SUMMARY:Literati Book Fair  - Leeton Express Branch
DESCRIPTION:All Ages: The Literati Book Fair will be in the Leeton Library! Great time to shop for great books for gifts!
URL:https://www.trailslibrary.org/event/literati-book-fair-leeton-express-branch/
LOCATION:Leeton Express Branch\, 500 N. Main\, Leeton\, MO\, 64761\, United States
CATEGORIES:Adult,Adults,All Ages,Children,Family,Kids,Movie,Teens
END:VEVENT
BEGIN:VEVENT
DTSTART;TZID=America/New_York:20231016T183000
DTEND;TZID=America/New_York:20231016T193000
DTSTAMP:20260425T164103
CREATED:20230818T200420Z
LAST-MODIFIED:20230818T200420Z
UID:10006671-1697481000-1697484600@www.trailslibrary.org
SUMMARY:Pumpkin Painting - Corder
DESCRIPTION:All Ages/Registration Required: Join us for some fall fun!  Each participant will enjoy decorating/ painting their own little pumpkin to take home.
URL:https://www.trailslibrary.org/event/pumpkin-painting-corder/
LOCATION:Corder Branch\, 221 N. Lafayette\, Corder\, MO\, 64021\, United States
CATEGORIES:Adults,All Ages,Children,Crafts,Family,Kids,Teen,Teens
END:VEVENT
BEGIN:VEVENT
DTSTART;TZID=America/New_York:20231017T170000
DTEND;TZID=America/New_York:20231017T180000
DTSTAMP:20260425T164103
CREATED:20230818T201448Z
LAST-MODIFIED:20230820T063730Z
UID:10005695-1697562000-1697565600@www.trailslibrary.org
SUMMARY:Get Hooked - Warrensburg
DESCRIPTION:All Ages: Get Hooked! Come join us for tips and tricks\, learn how to crochet or knit.
URL:https://www.trailslibrary.org/event/get-hooked-warrensburg-17/
LOCATION:Warrensburg Branch\, 432 N. Holden\, Warrensburg\, Missouri\, 64093\, United States
CATEGORIES:Adult,Adults,All Ages,Children,Crafts,Family,Kids,preteens,senior,Seniors,Teen,Teens,Youth
END:VEVENT
BEGIN:VEVENT
DTSTART;TZID=America/New_York:20231018T163000
DTEND;TZID=America/New_York:20231018T180000
DTSTAMP:20260425T164103
CREATED:20230820T063831Z
LAST-MODIFIED:20230820T063831Z
UID:10005809-1697646600-1697652000@www.trailslibrary.org
SUMMARY:Libraries Got Game - Warrensburg
DESCRIPTION:All Ages: Get BOARD at the library with your family and friends! Fun and exciting board and XL games.
URL:https://www.trailslibrary.org/event/libraries-got-game-warrensburg-31/
LOCATION:Warrensburg Branch\, 432 N. Holden\, Warrensburg\, Missouri\, 64093\, United States
CATEGORIES:Adult,Adults,All Ages,Children,Family,Kids,preteens,senior,Seniors,Teen,Teens,Youth
END:VEVENT
BEGIN:VEVENT
DTSTART;TZID=America/New_York:20231019T153000
DTEND;TZID=America/New_York:20231019T173000
DTSTAMP:20260425T164103
CREATED:20230818T200726Z
LAST-MODIFIED:20230820T064713Z
UID:10005580-1697729400-1697736600@www.trailslibrary.org
SUMMARY:Learn to Draw - Scary Stuff - Holden
DESCRIPTION:All Ages: REGISTRATION REQUIRED–Come draw bats\, cats\, skulls\, snakes\, et. This is a learn to draw sketch class.
URL:https://www.trailslibrary.org/event/learn-to-draw-scary-stuff-holden/
LOCATION:Holden Branch\, 207 S. Main\, Holden\, MO\, 64040\, United States
CATEGORIES:Adult,Adults,All Ages,Children,Crafts,Family,Kids,senior,Seniors,Teen,Teens
END:VEVENT
BEGIN:VEVENT
DTSTART;TZID=America/New_York:20231021T100000
DTEND;TZID=America/New_York:20231021T120000
DTSTAMP:20260425T164103
CREATED:20230818T200434Z
LAST-MODIFIED:20230818T200434Z
UID:10006673-1697882400-1697889600@www.trailslibrary.org
SUMMARY:Saturday Matinne - Corder
DESCRIPTION:All Ages: Bring a snack and come join us for our family friendly Saturday Mattinee at Trails Regional Library in Corder.
URL:https://www.trailslibrary.org/event/saturday-matinne-corder-2/
LOCATION:Corder Branch\, 221 N. Lafayette\, Corder\, MO\, 64021\, United States
CATEGORIES:Adult,Adults,All Ages,Children,Family,Kids,Movie,Teens
END:VEVENT
BEGIN:VEVENT
DTSTART;TZID=America/New_York:20231021T110000
DTEND;TZID=America/New_York:20231021T130000
DTSTAMP:20260425T164103
CREATED:20230818T200711Z
LAST-MODIFIED:20230820T064658Z
UID:10006693-1697886000-1697893200@www.trailslibrary.org
SUMMARY:Family Friendly Music Concert - Holden
DESCRIPTION:All Ages: Come listen to a concert of traditional and family friendly music at the library.
URL:https://www.trailslibrary.org/event/family-friendly-music-concert-holden/
LOCATION:Holden Branch\, 207 S. Main\, Holden\, MO\, 64040\, United States
CATEGORIES:Adult,Adults,All Ages,Family,Performers,senior,Seniors,Teen,Teens
END:VEVENT
BEGIN:VEVENT
DTSTART;TZID=America/New_York:20231024T150000
DTEND;TZID=America/New_York:20231024T170000
DTSTAMP:20260425T164103
CREATED:20230818T200653Z
LAST-MODIFIED:20230820T064641Z
UID:10006681-1698159600-1698166800@www.trailslibrary.org
SUMMARY:Art and Craft Club - Fall Candle Craft - Holden
DESCRIPTION:All Ages: REGISTRATION REQUIRED–Art & Craft Club is a social hour for Patrons to bring Art & Craft projects. This month we will make a fall craft candle jar where we decoupage on fall leaves.
URL:https://www.trailslibrary.org/event/art-and-craft-club-fall-candle-craft-holden/
LOCATION:Holden Branch\, 207 S. Main\, Holden\, MO\, 64040\, United States
CATEGORIES:Adult,Adults,All Ages,Children,Crafts,Family,Kids,senior,Seniors,Teen,Teens
END:VEVENT
BEGIN:VEVENT
DTSTART;TZID=America/New_York:20231025T163000
DTEND;TZID=America/New_York:20231025T180000
DTSTAMP:20260425T164103
CREATED:20230820T063831Z
LAST-MODIFIED:20230820T063831Z
UID:10005811-1698251400-1698256800@www.trailslibrary.org
SUMMARY:Libraries Got Game - Warrensburg
DESCRIPTION:All Ages: Get BOARD at the library with your family and friends! Fun and exciting board and XL games.
URL:https://www.trailslibrary.org/event/libraries-got-game-warrensburg-32/
LOCATION:Warrensburg Branch\, 432 N. Holden\, Warrensburg\, Missouri\, 64093\, United States
CATEGORIES:Adult,Adults,All Ages,Children,Family,Kids,preteens,senior,Seniors,Teen,Teens,Youth
END:VEVENT
BEGIN:VEVENT
DTSTART;TZID=America/New_York:20231025T170000
DTEND;TZID=America/New_York:20231025T180000
DTSTAMP:20260425T164103
CREATED:20230820T064342Z
LAST-MODIFIED:20230820T064342Z
UID:10005876-1698253200-1698256800@www.trailslibrary.org
SUMMARY:Yoga for All - Warrensburg
DESCRIPTION:All Ages: Discover inner calm and build strength during this relaxing program led by a certified instructor. Please wear comfortable clothing and bring a mat or towel.
URL:https://www.trailslibrary.org/event/yoga-for-all-warrensburg-4/
LOCATION:Warrensburg Branch\, 432 N. Holden\, Warrensburg\, Missouri\, 64093\, United States
CATEGORIES:Adult,Adults,All Ages,Children,Family,Kids,preteens,senior,Seniors,Teen,Teens,Youth
END:VEVENT
BEGIN:VEVENT
DTSTART;TZID=America/New_York:20231027T160000
DTEND;TZID=America/New_York:20231027T170000
DTSTAMP:20260425T164103
CREATED:20230818T201209Z
LAST-MODIFIED:20230818T212537Z
UID:10006751-1698422400-1698426000@www.trailslibrary.org
SUMMARY:Feature Friday - Odessa
DESCRIPTION:All Ages: Join us for our family movie. We provide the popcorn\, you supply your favorite drink.
URL:https://www.trailslibrary.org/event/feature-friday-odessa-6/
LOCATION:Odessa Branch\, 107 W. Mason\, Odessa\, MO\, 64076\, United States
CATEGORIES:Adult,Adults,All Ages,Children,Family,Kids,Movie,Teens
END:VEVENT
BEGIN:VEVENT
DTSTART;TZID=America/New_York:20231028T100000
DTEND;TZID=America/New_York:20231028T110000
DTSTAMP:20260425T164103
CREATED:20230820T064327Z
LAST-MODIFIED:20230820T064327Z
UID:10005871-1698487200-1698490800@www.trailslibrary.org
SUMMARY:Wild Edibles - Warrensburg
DESCRIPTION:All Ages: Paul Landkamer will teach us what plants/insects are edible. Be prepared to sampleand enjoy!
URL:https://www.trailslibrary.org/event/wild-edibles-warrensburg/
LOCATION:Warrensburg Branch\, 432 N. Holden\, Warrensburg\, Missouri\, 64093\, United States
CATEGORIES:Adult,Adults,All Ages,Children,Family,Guest Presenter,Kids,preteens,senior,Seniors,Teen,Teens,Youth
END:VEVENT
BEGIN:VEVENT
DTSTART;TZID=America/New_York:20231031T160000
DTEND;TZID=America/New_York:20231031T180000
DTSTAMP:20260425T164103
CREATED:20230818T155239Z
LAST-MODIFIED:20230818T155530Z
UID:10005548-1698768000-1698775200@www.trailslibrary.org
SUMMARY:Halloween Sports - Concordia
DESCRIPTION:All Ages: Try some pumpkin putt-putt or take a chance at the pumpkin toss while you trick-or-treat downtown
URL:https://www.trailslibrary.org/event/halloween-sports/
LOCATION:Concordia Branch\, 813 S Main\, Concordia\, MO\, 64020\, United States
CATEGORIES:Adult,Adults,All Ages,Children,Family,Kids,senior,Seniors,Teen,Teens
END:VEVENT
BEGIN:VEVENT
DTSTART;TZID=America/New_York:20231031T160000
DTEND;TZID=America/New_York:20231031T180000
DTSTAMP:20260425T164103
CREATED:20230820T065453Z
LAST-MODIFIED:20230820T065453Z
UID:10005921-1698768000-1698775200@www.trailslibrary.org
SUMMARY:Halloween Sports
DESCRIPTION:All Ages: Try some pumpkin putt-putt or take a chance at the pumpkin toss while you trick-or-treat downtown
URL:https://www.trailslibrary.org/event/halloween-sports-2/
LOCATION:Concordia Branch\, 813 S Main\, Concordia\, MO\, 64020\, United States
CATEGORIES:Adult,Adults,All Ages,Children,Family,Kids,senior,Seniors,Teen,Teens
END:VEVENT
BEGIN:VEVENT
DTSTART;TZID=America/New_York:20231101T163000
DTEND;TZID=America/New_York:20231101T180000
DTSTAMP:20260425T164103
CREATED:20230820T063831Z
LAST-MODIFIED:20230820T063831Z
UID:10005812-1698856200-1698861600@www.trailslibrary.org
SUMMARY:Libraries Got Game - Warrensburg
DESCRIPTION:All Ages: Get BOARD at the library with your family and friends! Fun and exciting board and XL games.
URL:https://www.trailslibrary.org/event/libraries-got-game-warrensburg-33/
LOCATION:Warrensburg Branch\, 432 N. Holden\, Warrensburg\, Missouri\, 64093\, United States
CATEGORIES:Adult,Adults,All Ages,Children,Family,Kids,preteens,senior,Seniors,Teen,Teens,Youth
END:VEVENT
BEGIN:VEVENT
DTSTART;TZID=America/New_York:20231104T100000
DTEND;TZID=America/New_York:20231104T110000
DTSTAMP:20260425T164103
CREATED:20230818T201433Z
LAST-MODIFIED:20230820T063715Z
UID:10005683-1699092000-1699095600@www.trailslibrary.org
SUMMARY:Flapjacks and Funnies - Warrensburg
DESCRIPTION:All Ages: Come join us for classic cartoons and a bite of breakfast.
URL:https://www.trailslibrary.org/event/flapjacks-and-funnies-warrensburg-3/
LOCATION:Warrensburg Branch\, 432 N. Holden\, Warrensburg\, Missouri\, 64093\, United States
CATEGORIES:Adult,Adults,All Ages,Children,Family,Kids,preteens,senior,Seniors,Teen,Teens,Youth
END:VEVENT
BEGIN:VEVENT
DTSTART;TZID=America/New_York:20231104T110000
DTEND;TZID=America/New_York:20231104T130000
DTSTAMP:20260425T164103
CREATED:20230818T200726Z
LAST-MODIFIED:20230820T064713Z
UID:10006696-1699095600-1699102800@www.trailslibrary.org
SUMMARY:Family Movie Matinee - Holden
DESCRIPTION:All Ages: Come to the library and enjoy a family friendly movie.
URL:https://www.trailslibrary.org/event/family-movie-matinee-holden-4/
LOCATION:Holden Branch\, 207 S. Main\, Holden\, MO\, 64040\, United States
CATEGORIES:Adult,Adults,All Ages,Children,Family,Kids,senior,Seniors,Teen,Teens
END:VEVENT
BEGIN:VEVENT
DTSTART;TZID=America/New_York:20231104T110000
DTEND;TZID=America/New_York:20231104T130000
DTSTAMP:20260425T164103
CREATED:20230818T201044Z
LAST-MODIFIED:20230818T201044Z
UID:10006742-1699095600-1699102800@www.trailslibrary.org
SUMMARY:Saturday Cinema - Leeton Express Branch
DESCRIPTION:All Ages: Join us on the 1st Saturday of the month at 11 AM for a family friendly movie. Bring a friend and a drink with a lid. We will provide the popcorn!
URL:https://www.trailslibrary.org/event/saturday-cinema-leeton-express-branch-3/
LOCATION:Leeton Express Branch\, 500 N. Main\, Leeton\, MO\, 64761\, United States
CATEGORIES:Adult,Adults,All Ages,Children,Family,Kids,Movie,Teens
END:VEVENT
BEGIN:VEVENT
DTSTART;TZID=America/New_York:20231104T113000
DTEND;TZID=America/New_York:20231104T130000
DTSTAMP:20260425T164103
CREATED:20230818T200729Z
LAST-MODIFIED:20230820T054813Z
UID:10005590-1699097400-1699102800@www.trailslibrary.org
SUMMARY:Cinema Saturday - Knob Noster
DESCRIPTION:All Ages: Come watch “Inkheart” with us\, based off of the book by Cornelia Funke!
URL:https://www.trailslibrary.org/event/cinema-saturday-knob-noster-14/
LOCATION:Knob Noster Branch\, 202 N. Adams\, Knob Noster\, MO\, 65336\, United States
CATEGORIES:All Ages,Family,Movies
END:VEVENT
BEGIN:VEVENT
DTSTART;TZID=America/New_York:20231104T140000
DTEND;TZID=America/New_York:20231104T150000
DTSTAMP:20260425T164103
CREATED:20230818T201403Z
LAST-MODIFIED:20230820T063646Z
UID:10006790-1699106400-1699110000@www.trailslibrary.org
SUMMARY:Crafting around the world - Warrensburg
DESCRIPTION:All Ages: Discover the history and create crafts from varies locations around the world
URL:https://www.trailslibrary.org/event/crafting-around-the-world-warrensburg/
LOCATION:Warrensburg Branch\, 432 N. Holden\, Warrensburg\, Missouri\, 64093\, United States
CATEGORIES:Adult,Adults,All Ages,Children,Crafts,Family,Kids,preteens,senior,Seniors,Teen,Teens,Youth
END:VEVENT
BEGIN:VEVENT
DTSTART;TZID=America/New_York:20231106T140000
DTEND;TZID=America/New_York:20231106T160000
DTSTAMP:20260425T164103
CREATED:20230818T201504Z
LAST-MODIFIED:20230917T051403Z
UID:10006805-1699279200-1699286400@www.trailslibrary.org
SUMMARY:Pinecone Turkey Craft  - Waverly
DESCRIPTION:All Ages: School is out for the day! Come and make a craft!
URL:https://www.trailslibrary.org/event/pinecone-turkey-craft-waverly/
LOCATION:Waverly Branch\, 203 E. Kelling\, Waverly\, MO\, 64096\, United States
CATEGORIES:Adult,Adults,All Ages,Children,Crafts,Family,Kids,preteens,senior,Seniors,Teen,Teens,Youth
END:VEVENT
BEGIN:VEVENT
DTSTART;TZID=America/New_York:20231107T090000
DTEND;TZID=America/New_York:20231107T100000
DTSTAMP:20260425T164103
CREATED:20230818T201448Z
LAST-MODIFIED:20230820T063730Z
UID:10005697-1699347600-1699351200@www.trailslibrary.org
SUMMARY:Get Hooked - Warrensburg
DESCRIPTION:All Ages: Get Hooked! Come join us for tips and tricks\, learn how to crochet or knit.
URL:https://www.trailslibrary.org/event/get-hooked-warrensburg-18/
LOCATION:Warrensburg Branch\, 432 N. Holden\, Warrensburg\, Missouri\, 64093\, United States
CATEGORIES:Adult,Adults,All Ages,Children,Crafts,Family,Kids,preteens,senior,Seniors,Teen,Teens,Youth
END:VEVENT
BEGIN:VEVENT
DTSTART;TZID=America/New_York:20231108T163000
DTEND;TZID=America/New_York:20231108T180000
DTSTAMP:20260425T164103
CREATED:20230820T063845Z
LAST-MODIFIED:20230820T063845Z
UID:10005813-1699461000-1699466400@www.trailslibrary.org
SUMMARY:Libraries Got Game - Warrensburg
DESCRIPTION:All Ages: Get BOARD at the library with your family and friends! Fun and exciting board and XL games.
URL:https://www.trailslibrary.org/event/libraries-got-game-warrensburg-34/
LOCATION:Warrensburg Branch\, 432 N. Holden\, Warrensburg\, Missouri\, 64093\, United States
CATEGORIES:Adult,Adults,All Ages,Children,Family,Kids,preteens,senior,Seniors,Teen,Teens,Youth
END:VEVENT
BEGIN:VEVENT
DTSTART;TZID=America/New_York:20231108T170000
DTEND;TZID=America/New_York:20231108T180000
DTSTAMP:20260425T164103
CREATED:20230820T064342Z
LAST-MODIFIED:20230820T064342Z
UID:10006982-1699462800-1699466400@www.trailslibrary.org
SUMMARY:Yoga for All - Warrensburg
DESCRIPTION:All Ages: Discover inner calm and build strength during this relaxing program led by a certified instructor. Please wear comfortable clothing and bring a mat or towel.
URL:https://www.trailslibrary.org/event/yoga-for-all-warrensburg-5/
LOCATION:Warrensburg Branch\, 432 N. Holden\, Warrensburg\, Missouri\, 64093\, United States
CATEGORIES:Adult,Adults,All Ages,Children,Family,Kids,preteens,senior,Seniors,Teen,Teens,Youth
END:VEVENT
BEGIN:VEVENT
DTSTART;TZID=America/New_York:20231109T160000
DTEND;TZID=America/New_York:20231109T160000
DTSTAMP:20260425T164103
CREATED:20230820T045414Z
LAST-MODIFIED:20230820T055017Z
UID:10006874-1699545600-1699545600@www.trailslibrary.org
SUMMARY:Lego Club - Knob Noster
DESCRIPTION:All Ages: Bring the whole family for fun building challenges!
URL:https://www.trailslibrary.org/event/lego-club-knob-noster-3/
LOCATION:Knob Noster Branch\, 202 N. Adams\, Knob Noster\, MO\, 65336\, United States
CATEGORIES:Adult,Adults,All Ages,Children,Family,Kids,senior,Seniors,Teen,Teens
END:VEVENT
BEGIN:VEVENT
DTSTART;TZID=America/New_York:20231114T150000
DTEND;TZID=America/New_York:20231114T170000
DTSTAMP:20260425T164103
CREATED:20230818T200653Z
LAST-MODIFIED:20230820T064641Z
UID:10006680-1699974000-1699981200@www.trailslibrary.org
SUMMARY:Art and Craft Club -Holden
DESCRIPTION:All Ages: REGISTRATION REQUIRED– Art & Craft Club is a social hour for Patrons to bring Art & Craft projects they are currently working on and get assistance and guidance from each other and the program staff.
URL:https://www.trailslibrary.org/event/art-and-craft-club-holden-3/
LOCATION:Holden Branch\, 207 S. Main\, Holden\, MO\, 64040\, United States
CATEGORIES:Adult,Adults,All Ages,Children,Crafts,Family,Kids,senior,Seniors,Teen,Teens
END:VEVENT
END:VCALENDAR