BEGIN:VCALENDAR
VERSION:2.0
PRODID:-//Trails Regional Library - ECPv6.15.20//NONSGML v1.0//EN
CALSCALE:GREGORIAN
METHOD:PUBLISH
X-WR-CALNAME:Trails Regional Library
X-ORIGINAL-URL:https://www.trailslibrary.org
X-WR-CALDESC:Events for Trails Regional Library
REFRESH-INTERVAL;VALUE=DURATION:PT1H
X-Robots-Tag:noindex
X-PUBLISHED-TTL:PT1H
BEGIN:VTIMEZONE
TZID:America/New_York
BEGIN:DAYLIGHT
TZOFFSETFROM:-0500
TZOFFSETTO:-0400
TZNAME:EDT
DTSTART:20230312T070000
END:DAYLIGHT
BEGIN:STANDARD
TZOFFSETFROM:-0400
TZOFFSETTO:-0500
TZNAME:EST
DTSTART:20231105T060000
END:STANDARD
BEGIN:DAYLIGHT
TZOFFSETFROM:-0500
TZOFFSETTO:-0400
TZNAME:EDT
DTSTART:20240310T070000
END:DAYLIGHT
BEGIN:STANDARD
TZOFFSETFROM:-0400
TZOFFSETTO:-0500
TZNAME:EST
DTSTART:20241103T060000
END:STANDARD
BEGIN:DAYLIGHT
TZOFFSETFROM:-0500
TZOFFSETTO:-0400
TZNAME:EDT
DTSTART:20250309T070000
END:DAYLIGHT
BEGIN:STANDARD
TZOFFSETFROM:-0400
TZOFFSETTO:-0500
TZNAME:EST
DTSTART:20251102T060000
END:STANDARD
BEGIN:DAYLIGHT
TZOFFSETFROM:-0500
TZOFFSETTO:-0400
TZNAME:EDT
DTSTART:20260308T070000
END:DAYLIGHT
BEGIN:STANDARD
TZOFFSETFROM:-0400
TZOFFSETTO:-0500
TZNAME:EST
DTSTART:20261101T060000
END:STANDARD
END:VTIMEZONE
BEGIN:VEVENT
DTSTART;TZID=America/New_York:20241214T100000
DTEND;TZID=America/New_York:20241214T110000
DTSTAMP:20260420T005055
CREATED:20240822T161606Z
LAST-MODIFIED:20240822T161606Z
UID:10007862-1734170400-1734174000@www.trailslibrary.org
SUMMARY:Cartoons & Pancakes - Concordia
DESCRIPTION:All Ages: It’s Second Saturday! Let’s enjoy pancakes and cartoons!
URL:https://www.trailslibrary.org/event/cartoons-pancakes-concordia-8/
LOCATION:Concordia Branch\, 813 S Main\, Concordia\, MO\, 64020\, United States
CATEGORIES:Adult,Adults,All Ages,Children,Family,Kids,Movie,preteens,senior,Seniors,Teen,Teens,Youth
END:VEVENT
BEGIN:VEVENT
DTSTART;TZID=America/New_York:20241214T110000
DTEND;TZID=America/New_York:20241214T130000
DTSTAMP:20260420T005055
CREATED:20240822T211033Z
LAST-MODIFIED:20240822T211033Z
UID:10008383-1734174000-1734181200@www.trailslibrary.org
SUMMARY:Cookies with Santa - Odessa
DESCRIPTION:All Ages: Join the Odessa Branch for cookies with Santa. Bring your own device to take pictures and enjoy activities.
URL:https://www.trailslibrary.org/event/cookies-with-santa-odessa-2/
LOCATION:Odessa Branch\, 107 W. Mason\, Odessa\, MO\, 64076\, United States
CATEGORIES:Adult,Adults,All Ages,Children,Family,Guest Speakers,Kids,preteens,senior,Seniors,Teen,Teens,Youth
END:VEVENT
BEGIN:VEVENT
DTSTART;TZID=America/New_York:20241217T170000
DTEND;TZID=America/New_York:20241217T193000
DTSTAMP:20260420T005055
CREATED:20240822T211303Z
LAST-MODIFIED:20240822T211303Z
UID:10008435-1734454800-1734463800@www.trailslibrary.org
SUMMARY:Santa's Book Drive  - Odessa
DESCRIPTION:All Ages: Enjoy an evening of cookies and stories with Santa and spread some holiday cheer by bringing a book to share! Presented by Odessa High School’s National Honor Society and Trails Regional Library.
URL:https://www.trailslibrary.org/event/santas-book-drive-odessa/
LOCATION:Odessa Branch\, 107 W. Mason\, Odessa\, MO\, 64076\, United States
CATEGORIES:Adult,Adults,All Ages,Children,Family,Guest Speakers,Kids,preteens,senior,Seniors,Teen,Teens,Youth
END:VEVENT
BEGIN:VEVENT
DTSTART;TZID=America/New_York:20241218T150000
DTEND;TZID=America/New_York:20241218T180000
DTSTAMP:20260420T005055
CREATED:20240822T195150Z
LAST-MODIFIED:20240822T195150Z
UID:10008252-1734534000-1734544800@www.trailslibrary.org
SUMMARY:Libraries Got Game - Warrensburg
DESCRIPTION:All Ages: Get BOARD at the library with your family and friends! Fun and exciting board and XL games.
URL:https://www.trailslibrary.org/event/libraries-got-game-warrensburg-90/
LOCATION:Warrensburg Branch\, 432 N. Holden\, Warrensburg\, Missouri\, 64093\, United States
CATEGORIES:Adult,Adults,All Ages,Children,Family,Kids,preteens,senior,Seniors,Teen,Teens,Youth
END:VEVENT
BEGIN:VEVENT
DTSTART;TZID=America/New_York:20241220T153000
DTEND;TZID=America/New_York:20241220T153000
DTSTAMP:20260420T005055
CREATED:20240822T211103Z
LAST-MODIFIED:20240822T211103Z
UID:10008396-1734708600-1734708600@www.trailslibrary.org
SUMMARY:Movie Magic - Odessa
DESCRIPTION:All Ages: Join us for an interactive movie experience!
URL:https://www.trailslibrary.org/event/movie-magic-odessa/
LOCATION:Odessa Branch\, 107 W. Mason\, Odessa\, MO\, 64076\, United States
CATEGORIES:Adult,Adults,All Ages,Children,Family,Kids,Movie,preteens,senior,Seniors,Teen,Teens,Youth
END:VEVENT
BEGIN:VEVENT
DTSTART;TZID=America/New_York:20241230T143000
DTEND;TZID=America/New_York:20241230T160000
DTSTAMP:20260420T005055
CREATED:20240822T185352Z
LAST-MODIFIED:20240822T185352Z
UID:10008074-1735569000-1735574400@www.trailslibrary.org
SUMMARY:Friends\, Flicks\, and Fun - Lexington
DESCRIPTION:All Ages: Come to the library and watch a fun movie. We’ll provide the popcorn and you can bring a friend along for more FUN! *Bring a drink with a lid!
URL:https://www.trailslibrary.org/event/friends-flicks-and-fun-lexington-7/
LOCATION:Lexington Branch\, 1008 Main Street\, Lexington\, MO\, 64067\, United States
CATEGORIES:Adult,Adults,All Ages,Children,Family,Kids,Movie,preteens,senior,Seniors,Teen,Teens,Youth
END:VEVENT
BEGIN:VEVENT
DTSTART;TZID=America/New_York:20250102T140000
DTEND;TZID=America/New_York:20250102T140000
DTSTAMP:20260420T005055
CREATED:20241217T184250Z
LAST-MODIFIED:20241217T184250Z
UID:10008762-1735826400-1735826400@www.trailslibrary.org
SUMMARY:Game On! - Warrensburg Branch
DESCRIPTION:All Ages: Bring a friend or a parent and join us for a fun-filled game day at the library! Enjoy oversized yard games\, plus a variety of board and card games for all ages.
URL:https://www.trailslibrary.org/event/game-on-warrensburg-branch/
LOCATION:Warrensburg Branch\, 432 N. Holden\, Warrensburg\, Missouri\, 64093\, United States
CATEGORIES:Adult,Adults,All Ages,Children,Family,Kids,preteens,senior,Seniors,Teen,Teens,Youth
END:VEVENT
BEGIN:VEVENT
DTSTART;TZID=America/New_York:20250103T140000
DTEND;TZID=America/New_York:20250103T140000
DTSTAMP:20260420T005055
CREATED:20241217T184250Z
LAST-MODIFIED:20241217T184250Z
UID:10008763-1735912800-1735912800@www.trailslibrary.org
SUMMARY:Game On! - Warrensburg Branch
DESCRIPTION:All Ages: Bring a friend or a parent and join us for a fun-filled game day at the library! Enjoy oversized yard games\, plus a variety of board and card games for all ages.
URL:https://www.trailslibrary.org/event/game-on-warrensburg-branch-2/
LOCATION:Warrensburg Branch\, 432 N. Holden\, Warrensburg\, Missouri\, 64093\, United States
CATEGORIES:Adult,Adults,All Ages,Children,Family,Kids,preteens,senior,Seniors,Teen,Teens,Youth
END:VEVENT
BEGIN:VEVENT
DTSTART;TZID=America/New_York:20250103T140000
DTEND;TZID=America/New_York:20250103T140000
DTSTAMP:20260420T005055
CREATED:20241218T174039Z
LAST-MODIFIED:20241218T174039Z
UID:10008835-1735912800-1735912800@www.trailslibrary.org
SUMMARY:Family Movie Matinee - Waverly Branch
DESCRIPTION:All Ages: No reservations needed. Blanket and pillows welcome! Light snacks provided.
URL:https://www.trailslibrary.org/event/family-movie-matinee-waverly-branch/
LOCATION:Waverly Branch\, 203 E. Kelling\, Waverly\, MO\, 64096\, United States
CATEGORIES:Adult,Adults,All Ages,Children,Family,Kids,Movie,preteens,senior,Seniors,Teen,Teens,Youth
END:VEVENT
BEGIN:VEVENT
DTSTART;TZID=America/New_York:20250104T110000
DTEND;TZID=America/New_York:20250104T110000
DTSTAMP:20260420T005055
CREATED:20241217T173058Z
LAST-MODIFIED:20241217T173058Z
UID:10008572-1735988400-1735988400@www.trailslibrary.org
SUMMARY:Family Movie Matinee - Holden Branch
DESCRIPTION:All Ages: Come to the library and enjoy a family friendly movie.
URL:https://www.trailslibrary.org/event/family-movie-matinee-holden-branch/
LOCATION:Holden Branch\, 207 S. Main\, Holden\, MO\, 64040\, United States
CATEGORIES:Adult,Adults,All Ages,Children,Family,Kids,Movie,preteens,senior,Seniors,Teen,Teens,Youth
END:VEVENT
BEGIN:VEVENT
DTSTART;TZID=America/New_York:20250106T140000
DTEND;TZID=America/New_York:20250106T140000
DTSTAMP:20260420T005055
CREATED:20241217T184251Z
LAST-MODIFIED:20241217T184251Z
UID:10008764-1736172000-1736172000@www.trailslibrary.org
SUMMARY:Game On! - Warrensburg Branch
DESCRIPTION:All Ages: Bring a friend or a parent and join us for a fun-filled game day at the library! Enjoy oversized yard games\, plus a variety of board and card games for all ages.
URL:https://www.trailslibrary.org/event/game-on-warrensburg-branch-3/
LOCATION:Warrensburg Branch\, 432 N. Holden\, Warrensburg\, Missouri\, 64093\, United States
CATEGORIES:Adult,Adults,All Ages,Children,Family,Kids,preteens,senior,Seniors,Teen,Teens,Youth
END:VEVENT
BEGIN:VEVENT
DTSTART;TZID=America/New_York:20250111T100000
DTEND;TZID=America/New_York:20250111T100000
DTSTAMP:20260420T005055
CREATED:20241217T164748Z
LAST-MODIFIED:20241217T164748Z
UID:10008459-1736589600-1736589600@www.trailslibrary.org
SUMMARY:Cartoons & Pancakes - Concordia Branch
DESCRIPTION:All Ages: It’s Second Saturday! Let’s enjoy pancakes and cartoons!
URL:https://www.trailslibrary.org/event/cartoons-pancakes-concordia-branch/
LOCATION:Concordia Branch\, 813 S Main\, Concordia\, MO\, 64020\, United States
CATEGORIES:Adult,Adults,All Ages,Children,Family,Kids,Movie,preteens,senior,Seniors,Teen,Teens,Youth
END:VEVENT
BEGIN:VEVENT
DTSTART;TZID=America/New_York:20250122T110000
DTEND;TZID=America/New_York:20250122T110000
DTSTAMP:20260420T005055
CREATED:20241217T184049Z
LAST-MODIFIED:20241217T184049Z
UID:10008757-1737543600-1737543600@www.trailslibrary.org
SUMMARY:DIY Bird Feeder - Warrensburg Branch
DESCRIPTION:All Ages: Join us to craft a simple and fun bird feeder that will attract feathered friends to your yard! All materials are provided\, so bring your creativity and a love for nature.
URL:https://www.trailslibrary.org/event/diy-bird-feeder-warrensburg-branch/
LOCATION:Warrensburg Branch\, 432 N. Holden\, Warrensburg\, Missouri\, 64093\, United States
CATEGORIES:Adult,Adults,All Ages,Children,Crafts,Family,Kids,preteens,senior,Seniors,Teen,Teens,Youth
END:VEVENT
BEGIN:VEVENT
DTSTART;TZID=America/New_York:20250125T100000
DTEND;TZID=America/New_York:20250125T100000
DTSTAMP:20260420T005055
CREATED:20241217T184033Z
LAST-MODIFIED:20241217T184033Z
UID:10008753-1737799200-1737799200@www.trailslibrary.org
SUMMARY:Crafty Family Fun - Warrensburg Branch
DESCRIPTION:All Ages: Bring the whole family to create a fun and festive snowy craft together!
URL:https://www.trailslibrary.org/event/crafty-family-fun-warrensburg-branch/
LOCATION:Warrensburg Branch\, 432 N. Holden\, Warrensburg\, Missouri\, 64093\, United States
CATEGORIES:Adult,Adults,All Ages,Children,Crafts,Family,Kids,preteens,senior,Seniors,Teen,Teens,Youth
END:VEVENT
BEGIN:VEVENT
DTSTART;TZID=America/New_York:20250129T140000
DTEND;TZID=America/New_York:20250129T140000
DTSTAMP:20260420T005055
CREATED:20241217T184251Z
LAST-MODIFIED:20241217T184251Z
UID:10008765-1738159200-1738159200@www.trailslibrary.org
SUMMARY:Game On! - Warrensburg Branch
DESCRIPTION:All Ages: Bring a friend or a parent and join us for a fun-filled game day at the library! Enjoy oversized yard games\, plus a variety of board and card games for all ages.
URL:https://www.trailslibrary.org/event/game-on-warrensburg-branch-4/
LOCATION:Warrensburg Branch\, 432 N. Holden\, Warrensburg\, Missouri\, 64093\, United States
CATEGORIES:Adult,Adults,All Ages,Children,Family,Kids,preteens,senior,Seniors,Teen,Teens,Youth
END:VEVENT
BEGIN:VEVENT
DTSTART;TZID=America/New_York:20250131T153000
DTEND;TZID=America/New_York:20250131T153000
DTSTAMP:20260420T005055
CREATED:20241217T175909Z
LAST-MODIFIED:20241217T175909Z
UID:10008674-1738337400-1738337400@www.trailslibrary.org
SUMMARY:Feature Friday - Odessa Branch
DESCRIPTION:All Ages: Join us for our family movie. We provide the popcorn\, you supply your favorite drink.
URL:https://www.trailslibrary.org/event/feature-friday-odessa-branch-2/
LOCATION:Odessa Branch\, 107 W. Mason\, Odessa\, MO\, 64076\, United States
CATEGORIES:Adult,Adults,All Ages,Children,Family,Kids,Movie,preteens,senior,Seniors,Teen,Teens,Youth
END:VEVENT
BEGIN:VEVENT
DTSTART;TZID=America/New_York:20250201T110000
DTEND;TZID=America/New_York:20250201T110000
DTSTAMP:20260420T005055
CREATED:20241217T173058Z
LAST-MODIFIED:20241217T173058Z
UID:10008573-1738407600-1738407600@www.trailslibrary.org
SUMMARY:Family Movie Matinee - Holden Branch
DESCRIPTION:All Ages: Come to the library and enjoy a family friendly movie.
URL:https://www.trailslibrary.org/event/family-movie-matinee-holden-branch-2/
LOCATION:Holden Branch\, 207 S. Main\, Holden\, MO\, 64040\, United States
CATEGORIES:Adult,Adults,All Ages,Children,Family,Kids,Movie,preteens,senior,Seniors,Teen,Teens,Youth
END:VEVENT
BEGIN:VEVENT
DTSTART;TZID=America/New_York:20250207T100000
DTEND;TZID=America/New_York:20250207T100000
DTSTAMP:20260420T005055
CREATED:20241217T193003Z
LAST-MODIFIED:20241217T193003Z
UID:10008833-1738922400-1738922400@www.trailslibrary.org
SUMMARY:Valentine Crafting - Warrensburg Branch
DESCRIPTION:All Ages: Get creative and make a fun Valentine’s Day craft to share or display!
URL:https://www.trailslibrary.org/event/valentine-crafting-warrensburg-branch/
LOCATION:Warrensburg Branch\, 432 N. Holden\, Warrensburg\, Missouri\, 64093\, United States
CATEGORIES:Adult,Adults,All Ages,Children,Crafts,Family,Kids,preteens,senior,Seniors,Teen,Teens,Youth
END:VEVENT
BEGIN:VEVENT
DTSTART;TZID=America/New_York:20250208T100000
DTEND;TZID=America/New_York:20250208T100000
DTSTAMP:20260420T005055
CREATED:20241217T164749Z
LAST-MODIFIED:20241217T164749Z
UID:10008460-1739008800-1739008800@www.trailslibrary.org
SUMMARY:Cartoons & Pancakes - Concordia Branch
DESCRIPTION:All Ages: It’s Second Saturday! Let’s enjoy pancakes and cartoons!
URL:https://www.trailslibrary.org/event/cartoons-pancakes-concordia-branch-2/
LOCATION:Concordia Branch\, 813 S Main\, Concordia\, MO\, 64020\, United States
CATEGORIES:Adult,Adults,All Ages,Children,Family,Kids,Movie,preteens,senior,Seniors,Teen,Teens,Youth
END:VEVENT
BEGIN:VEVENT
DTSTART;TZID=America/New_York:20250210T140000
DTEND;TZID=America/New_York:20250210T140000
DTSTAMP:20260420T005055
CREATED:20241218T174038Z
LAST-MODIFIED:20241218T174038Z
UID:10008834-1739196000-1739196000@www.trailslibrary.org
SUMMARY:Crafts Galore - Waverly Branch
DESCRIPTION:All Ages: School is out! Join us and get creative with a fun craft!
URL:https://www.trailslibrary.org/event/crafts-galore-waverly-branch/
LOCATION:Waverly Branch\, 203 E. Kelling\, Waverly\, MO\, 64096\, United States
CATEGORIES:Adult,Adults,All Ages,Children,Crafts,Family,Kids,preteens,senior,Seniors,Teen,Teens,Youth
END:VEVENT
BEGIN:VEVENT
DTSTART;TZID=America/New_York:20250213T180000
DTEND;TZID=America/New_York:20250213T180000
DTSTAMP:20260420T005055
CREATED:20241217T171418Z
LAST-MODIFIED:20241217T171418Z
UID:10008529-1739469600-1739469600@www.trailslibrary.org
SUMMARY:Valentine's Bingo - Corder Branch
DESCRIPTION:All Ages: Join us for a fun-filled Valentine themed bingo night at the library! Enjoy a lively evening of games\, prizes\, and community spirit. Whether you’re a seasoned player or new to bingo\, everyone is welcome. Don’t miss out on the chance to connect with friends and neighbors while trying your luck!
URL:https://www.trailslibrary.org/event/valentines-bingo-corder-branch/
LOCATION:Corder Branch\, 221 N. Lafayette\, Corder\, MO\, 64021\, United States
CATEGORIES:Adult,Adults,All Ages,Children,Family,Kids,preteens,senior,Seniors,Teen,Teens,Youth
END:VEVENT
BEGIN:VEVENT
DTSTART;TZID=America/New_York:20250221T140000
DTEND;TZID=America/New_York:20250221T140000
DTSTAMP:20260420T005055
CREATED:20241218T174039Z
LAST-MODIFIED:20241218T174039Z
UID:10008837-1740146400-1740146400@www.trailslibrary.org
SUMMARY:Games Galore - Waverly Branch
DESCRIPTION:All Ages: Come and choose a game to play with your friends!
URL:https://www.trailslibrary.org/event/games-galore-waverly-branch/
LOCATION:Waverly Branch\, 203 E. Kelling\, Waverly\, MO\, 64096\, United States
CATEGORIES:Adult,Adults,All Ages,Children,Family,Kids,preteens,senior,Seniors,Teen,Teens,Youth
END:VEVENT
BEGIN:VEVENT
DTSTART;TZID=America/New_York:20250222T100000
DTEND;TZID=America/New_York:20250222T100000
DTSTAMP:20260420T005055
CREATED:20241217T184034Z
LAST-MODIFIED:20241217T184034Z
UID:10008754-1740218400-1740218400@www.trailslibrary.org
SUMMARY:Crafty Family Fun - Warrensburg Branch
DESCRIPTION:All Ages: Bring the family and create a fun\, festive craft to celebrate the season!
URL:https://www.trailslibrary.org/event/crafty-family-fun-warrensburg-branch-2/
LOCATION:Warrensburg Branch\, 432 N. Holden\, Warrensburg\, Missouri\, 64093\, United States
CATEGORIES:Adult,Adults,All Ages,Children,Crafts,Family,Kids,preteens,senior,Seniors,Teen,Teens,Youth
END:VEVENT
BEGIN:VEVENT
DTSTART;TZID=America/New_York:20250225T150000
DTEND;TZID=America/New_York:20250225T150000
DTSTAMP:20260420T005055
CREATED:20241217T172639Z
LAST-MODIFIED:20241217T172639Z
UID:10008552-1740495600-1740495600@www.trailslibrary.org
SUMMARY:Button Art - Holden Branch
DESCRIPTION:All Ages REGISTRATION REQUIRED: Create imaginary scenes with buttons and paint.
URL:https://www.trailslibrary.org/event/button-art-holden-branch/
LOCATION:Holden Branch\, 207 S. Main\, Holden\, MO\, 64040\, United States
CATEGORIES:Adult,Adults,All Ages,Children,Crafts,Family,Kids,preteens,senior,Seniors,Teen,Teens,Youth
END:VEVENT
BEGIN:VEVENT
DTSTART;TZID=America/New_York:20250226T140000
DTEND;TZID=America/New_York:20250226T140000
DTSTAMP:20260420T005055
CREATED:20241217T184452Z
LAST-MODIFIED:20241217T184452Z
UID:10008766-1740578400-1740578400@www.trailslibrary.org
SUMMARY:Game On! - Warrensburg Branch
DESCRIPTION:All Ages: Bring a friend or a parent and join us for a fun-filled game day at the library! Enjoy oversized yard games\, plus a variety of board and card games for all ages.
URL:https://www.trailslibrary.org/event/game-on-warrensburg-branch-5/
LOCATION:Warrensburg Branch\, 432 N. Holden\, Warrensburg\, Missouri\, 64093\, United States
CATEGORIES:Adult,Adults,All Ages,Children,Family,Kids,preteens,senior,Seniors,Teen,Teens,Youth
END:VEVENT
BEGIN:VEVENT
DTSTART;TZID=America/New_York:20250228T153000
DTEND;TZID=America/New_York:20250228T153000
DTSTAMP:20260420T005055
CREATED:20241217T175909Z
LAST-MODIFIED:20241217T175909Z
UID:10008675-1740756600-1740756600@www.trailslibrary.org
SUMMARY:Feature Friday - Odessa Branch
DESCRIPTION:All Ages: Join us for our family movie. We provide the popcorn\, you supply your favorite drink.
URL:https://www.trailslibrary.org/event/feature-friday-odessa-branch-3/
LOCATION:Odessa Branch\, 107 W. Mason\, Odessa\, MO\, 64076\, United States
CATEGORIES:Adult,Adults,All Ages,Children,Family,Kids,Movie,preteens,senior,Seniors,Teen,Teens,Youth
END:VEVENT
BEGIN:VEVENT
DTSTART;TZID=America/New_York:20250301T110000
DTEND;TZID=America/New_York:20250301T110000
DTSTAMP:20260420T005055
CREATED:20241217T173058Z
LAST-MODIFIED:20241217T173058Z
UID:10008574-1740826800-1740826800@www.trailslibrary.org
SUMMARY:Family Movie Matinee - Holden Branch
DESCRIPTION:All Ages: Come to the library and enjoy a family friendly movie.
URL:https://www.trailslibrary.org/event/family-movie-matinee-holden-branch-3/
LOCATION:Holden Branch\, 207 S. Main\, Holden\, MO\, 64040\, United States
CATEGORIES:Adult,Adults,All Ages,Children,Family,Kids,Movie,preteens,senior,Seniors,Teen,Teens,Youth
END:VEVENT
BEGIN:VEVENT
DTSTART;TZID=America/New_York:20250307T160000
DTEND;TZID=America/New_York:20250307T160000
DTSTAMP:20260420T005055
CREATED:20241217T185404Z
LAST-MODIFIED:20241217T185404Z
UID:10008799-1741363200-1741363200@www.trailslibrary.org
SUMMARY:Snap\, Crackle\, & Pop - Warrensburg Branch
DESCRIPTION:All Ages: Join us for a delicious celebration of National Cereal Day! We will be making crispy rice treats and then the fun begins. Add sprinkles or mini chocolate chips to create your own personalized treat. We’ve got all the fixings for a tasty snack and a great time!
URL:https://www.trailslibrary.org/event/snap-crackle-pop-warrensburg-branch/
LOCATION:Warrensburg Branch\, 432 N. Holden\, Warrensburg\, Missouri\, 64093\, United States
CATEGORIES:Adult,Adults,All Ages,Children,Crafts,Family,Kids,preteens,senior,Seniors,Teen,Teens,Youth
END:VEVENT
BEGIN:VEVENT
DTSTART;TZID=America/New_York:20250308T100000
DTEND;TZID=America/New_York:20250308T100000
DTSTAMP:20260420T005055
CREATED:20241217T164948Z
LAST-MODIFIED:20241217T164948Z
UID:10008461-1741428000-1741428000@www.trailslibrary.org
SUMMARY:Cartoons & Pancakes - Concordia Branch
DESCRIPTION:All Ages: It’s Second Saturday! Let’s enjoy pancakes and cartoons!
URL:https://www.trailslibrary.org/event/cartoons-pancakes-concordia-branch-3/
LOCATION:Concordia Branch\, 813 S Main\, Concordia\, MO\, 64020\, United States
CATEGORIES:Adult,Adults,All Ages,Children,Family,Kids,Movie,preteens,senior,Seniors,Teen,Teens,Youth
END:VEVENT
BEGIN:VEVENT
DTSTART;TZID=America/New_York:20250310T100000
DTEND;TZID=America/New_York:20250310T100000
DTSTAMP:20260420T005055
CREATED:20241217T185404Z
LAST-MODIFIED:20241217T185404Z
UID:10008800-1741600800-1741600800@www.trailslibrary.org
SUMMARY:Spa Day at the Library - Warrensburg Branch
DESCRIPTION:All Ages: Relax and unwind by mixing up your very own handmade spa creations.
URL:https://www.trailslibrary.org/event/spa-day-at-the-library-warrensburg-branch/
LOCATION:Warrensburg Branch\, 432 N. Holden\, Warrensburg\, Missouri\, 64093\, United States
CATEGORIES:Adult,Adults,All Ages,Children,Crafts,Family,Kids,preteens,senior,Seniors,Teen,Teens,Youth
END:VEVENT
END:VCALENDAR