BEGIN:VCALENDAR
VERSION:2.0
PRODID:-//Trails Regional Library - ECPv6.15.20//NONSGML v1.0//EN
CALSCALE:GREGORIAN
METHOD:PUBLISH
X-WR-CALNAME:Trails Regional Library
X-ORIGINAL-URL:https://www.trailslibrary.org
X-WR-CALDESC:Events for Trails Regional Library
REFRESH-INTERVAL;VALUE=DURATION:PT1H
X-Robots-Tag:noindex
X-PUBLISHED-TTL:PT1H
BEGIN:VTIMEZONE
TZID:America/New_York
BEGIN:DAYLIGHT
TZOFFSETFROM:-0500
TZOFFSETTO:-0400
TZNAME:EDT
DTSTART:20230312T070000
END:DAYLIGHT
BEGIN:STANDARD
TZOFFSETFROM:-0400
TZOFFSETTO:-0500
TZNAME:EST
DTSTART:20231105T060000
END:STANDARD
BEGIN:DAYLIGHT
TZOFFSETFROM:-0500
TZOFFSETTO:-0400
TZNAME:EDT
DTSTART:20240310T070000
END:DAYLIGHT
BEGIN:STANDARD
TZOFFSETFROM:-0400
TZOFFSETTO:-0500
TZNAME:EST
DTSTART:20241103T060000
END:STANDARD
BEGIN:DAYLIGHT
TZOFFSETFROM:-0500
TZOFFSETTO:-0400
TZNAME:EDT
DTSTART:20250309T070000
END:DAYLIGHT
BEGIN:STANDARD
TZOFFSETFROM:-0400
TZOFFSETTO:-0500
TZNAME:EST
DTSTART:20251102T060000
END:STANDARD
END:VTIMEZONE
BEGIN:VEVENT
DTSTART;TZID=America/New_York:20240427T100000
DTEND;TZID=America/New_York:20240427T110000
DTSTAMP:20260425T080621
CREATED:20231215T190406Z
LAST-MODIFIED:20231215T190406Z
UID:10006322-1714212000-1714215600@www.trailslibrary.org
SUMMARY:Crafty Family Fun-Warrensburg
DESCRIPTION:All Ages REGISTRATION required: Come join us to make a craft
URL:https://www.trailslibrary.org/event/crafty-family-fun-warrensburg/
LOCATION:Warrensburg Branch\, 432 N. Holden\, Warrensburg\, Missouri\, 64093\, United States
CATEGORIES:Adult,Adults,All Ages,Children,Crafts,Family,Kids,preteens,senior,Seniors,Teen,Teens,Youth
END:VEVENT
BEGIN:VEVENT
DTSTART;TZID=America/New_York:20240501T163000
DTEND;TZID=America/New_York:20240501T183000
DTSTAMP:20260425T080621
CREATED:20231215T190521Z
LAST-MODIFIED:20231215T191747Z
UID:10007433-1714581000-1714588200@www.trailslibrary.org
SUMMARY:Libraries Got Game-Warrensburg
DESCRIPTION:All Ages: Get BOARD at the library with your family and friends! Fun and exciting board and XL games.
URL:https://www.trailslibrary.org/event/libraries-got-game-warrensburg-59/
LOCATION:Warrensburg Branch\, 432 N. Holden\, Warrensburg\, Missouri\, 64093\, United States
CATEGORIES:Adult,Adults,All Ages,Children,Family,Kids,preteens,senior,Seniors,Teen,Teens,Youth
END:VEVENT
BEGIN:VEVENT
DTSTART;TZID=America/New_York:20240504T100000
DTEND;TZID=America/New_York:20240504T110000
DTSTAMP:20260425T080621
CREATED:20231215T182305Z
LAST-MODIFIED:20231215T182305Z
UID:10007219-1714816800-1714820400@www.trailslibrary.org
SUMMARY:Saturday Storytime & Craft-Leeton
DESCRIPTION:All Ages: Join us on the 1st Saturday of the month at 10 AM for Storytime
URL:https://www.trailslibrary.org/event/saturday-storytime-craft-leeton-5/
LOCATION:Leeton Express Branch\, 500 N. Main\, Leeton\, MO\, 64761\, United States
CATEGORIES:Adult,Adults,All Ages,Children,Family,Kids,preteens,senior,Seniors,Storytime,Teen,Teens,Youth
END:VEVENT
BEGIN:VEVENT
DTSTART;TZID=America/New_York:20240504T110000
DTEND;TZID=America/New_York:20240504T130000
DTSTAMP:20260425T080621
CREATED:20231215T182320Z
LAST-MODIFIED:20231215T182320Z
UID:10007224-1714820400-1714827600@www.trailslibrary.org
SUMMARY:Saturday Cinema-Leeton
DESCRIPTION:All Ages: Join us on the 1st Saturday of the month at 11 AM for a family friendly movie. Bring a friend and a drink with a lid. We will provide the popcorn!
URL:https://www.trailslibrary.org/event/saturday-cinema-leeton-7/
LOCATION:Leeton Express Branch\, 500 N. Main\, Leeton\, MO\, 64761\, United States
CATEGORIES:Adult,Adults,All Ages,Children,Family,Kids,Movie,preteens,senior,Seniors,Teen,Teens,Youth
END:VEVENT
BEGIN:VEVENT
DTSTART;TZID=America/New_York:20240504T113000
DTEND;TZID=America/New_York:20240504T130000
DTSTAMP:20260425T080621
CREATED:20231215T181615Z
LAST-MODIFIED:20231215T181615Z
UID:10006106-1714822200-1714827600@www.trailslibrary.org
SUMMARY:Cinema Saturday-Knob Noster
DESCRIPTION:All Ages: Come watch “Pinocchio” with us\, based off of the book by Carlo Collodi!
URL:https://www.trailslibrary.org/event/cinema-saturday-knob-noster-19/
LOCATION:Knob Noster Branch\, 202 N. Adams\, Knob Noster\, MO\, 65336\, United States
CATEGORIES:Adult,Adults,All Ages,Children,Family,Kids,Movie,preteens,senior,Seniors,Teen,Teens,Youth
END:VEVENT
BEGIN:VEVENT
DTSTART;TZID=America/New_York:20240508T163000
DTEND;TZID=America/New_York:20240508T183000
DTSTAMP:20260425T080621
CREATED:20231215T190521Z
LAST-MODIFIED:20231215T191747Z
UID:10007434-1715185800-1715193000@www.trailslibrary.org
SUMMARY:Libraries Got Game-Warrensburg
DESCRIPTION:All Ages: Get BOARD at the library with your family and friends! Fun and exciting board and XL games.
URL:https://www.trailslibrary.org/event/libraries-got-game-warrensburg-60/
LOCATION:Warrensburg Branch\, 432 N. Holden\, Warrensburg\, Missouri\, 64093\, United States
CATEGORIES:Adult,Adults,All Ages,Children,Family,Kids,preteens,senior,Seniors,Teen,Teens,Youth
END:VEVENT
BEGIN:VEVENT
DTSTART;TZID=America/New_York:20240511T100000
DTEND;TZID=America/New_York:20240511T110000
DTSTAMP:20260425T080621
CREATED:20231215T174856Z
LAST-MODIFIED:20231215T174856Z
UID:10007096-1715421600-1715425200@www.trailslibrary.org
SUMMARY:Cartoons and Pancakes-Concordia
DESCRIPTION:All Ages: Join us for an old-fashioned Saturday morning. We eat pancakes and watch cartoons with friends!
URL:https://www.trailslibrary.org/event/cartoons-and-pancakes-concordia-5/
LOCATION:Concordia Branch\, 813 S Main\, Concordia\, MO\, 64020\, United States
CATEGORIES:Adult,Adults,All Ages,Children,Family,Kids,Movie,preteens,senior,Seniors,Teen,Teens,Youth
END:VEVENT
BEGIN:VEVENT
DTSTART;TZID=America/New_York:20240515T163000
DTEND;TZID=America/New_York:20240515T183000
DTSTAMP:20260425T080621
CREATED:20231215T190535Z
LAST-MODIFIED:20231215T191747Z
UID:10007435-1715790600-1715797800@www.trailslibrary.org
SUMMARY:Libraries Got Game-Warrensburg
DESCRIPTION:All Ages: Get BOARD at the library with your family and friends! Fun and exciting board and XL games.
URL:https://www.trailslibrary.org/event/libraries-got-game-warrensburg-61/
LOCATION:Warrensburg Branch\, 432 N. Holden\, Warrensburg\, Missouri\, 64093\, United States
CATEGORIES:Adult,Adults,All Ages,Children,Family,Kids,preteens,senior,Seniors,Teen,Teens,Youth
END:VEVENT
BEGIN:VEVENT
DTSTART;TZID=America/New_York:20240522T163000
DTEND;TZID=America/New_York:20240522T183000
DTSTAMP:20260425T080621
CREATED:20231215T190535Z
LAST-MODIFIED:20231215T191947Z
UID:10007436-1716395400-1716402600@www.trailslibrary.org
SUMMARY:Libraries Got Game-Warrensburg
DESCRIPTION:All Ages: Get BOARD at the library with your family and friends! Fun and exciting board and XL games.
URL:https://www.trailslibrary.org/event/libraries-got-game-warrensburg-62/
LOCATION:Warrensburg Branch\, 432 N. Holden\, Warrensburg\, Missouri\, 64093\, United States
CATEGORIES:Adult,Adults,All Ages,Children,Family,Kids,preteens,senior,Seniors,Teen,Teens,Youth
END:VEVENT
BEGIN:VEVENT
DTSTART;TZID=America/New_York:20240529T103000
DTEND;TZID=America/New_York:20240529T120000
DTSTAMP:20260425T080621
CREATED:20240429T210404Z
LAST-MODIFIED:20240429T210839Z
UID:10007447-1716978600-1716984000@www.trailslibrary.org
SUMMARY:Show-Me Dinosaurs-Lexington Branch
DESCRIPTION:All Ages: Join Trails Regional Library and Show-Me Dinosaurs for a roaring kick-off to Summer Reading! Get ready to uncover dino secrets\, snap pics with our prehistoric pals\, unearth fossils\, and tons of other dino-mite surprises!
URL:https://www.trailslibrary.org/event/show-me-dinosaurs-lexington-branch/
LOCATION:Lexington Branch\, 1008 Main Street\, Lexington\, MO\, 64067\, United States
CATEGORIES:Adult,Adults,All Ages,Children,Everyone,Family,Kids,Performers,Pre-School,Pre-Teen,Pre-Teens,Preschool,Preteen,preteens,senior,Seniors,Storytime,Summer Reading Kick Off Event,Teen,Teens,Toddlers,Youth
ATTACH;FMTTYPE=image/jpeg:https://www.trailslibrary.org/wp-content/uploads/2024/04/Meet-Our-Dinosaurs.jpg
END:VEVENT
BEGIN:VEVENT
DTSTART;TZID=America/New_York:20240529T140000
DTEND;TZID=America/New_York:20240529T153000
DTSTAMP:20260425T080621
CREATED:20240429T210809Z
LAST-MODIFIED:20240429T211441Z
UID:10007448-1716991200-1716996600@www.trailslibrary.org
SUMMARY:Show-Me Dinosaurs-Odessa Branch
DESCRIPTION:All Ages: Join Trails Regional Library and Show-Me Dinosaurs for a roaring kick-off to Summer Reading! Get ready to uncover dino secrets\, snap pics with our prehistoric pals\, unearth fossils\, and tons of other dino-mite surprises!
URL:https://www.trailslibrary.org/event/show-me-dinosaurs-odessa-branch/
LOCATION:Odessa Branch\, 107 W. Mason\, Odessa\, MO\, 64076\, United States
CATEGORIES:Adult,Adults,All Ages,Children,Everyone,Family,Kids,Performers,Pre-School,Pre-Teen,Pre-Teens,Preschool,Preteen,preteens,senior,Seniors,Storytime,Summer Reading Kick Off Event,Teen,Teens,Toddlers,Youth
ATTACH;FMTTYPE=image/jpeg:https://www.trailslibrary.org/wp-content/uploads/2024/04/Meet-Our-Dinosaurs.jpg
END:VEVENT
BEGIN:VEVENT
DTSTART;TZID=America/New_York:20240529T163000
DTEND;TZID=America/New_York:20240529T183000
DTSTAMP:20260425T080621
CREATED:20231215T190536Z
LAST-MODIFIED:20240119T214034Z
UID:10006331-1717000200-1717007400@www.trailslibrary.org
SUMMARY:Libraries Got Game-Warrensburg
DESCRIPTION:All Ages: Get BOARD at the library with your family and friends! Fun and exciting board and XL games.
URL:https://www.trailslibrary.org/event/libraries-got-game-warrensburg-63/
LOCATION:Warrensburg Branch\, 432 N. Holden\, Warrensburg\, Missouri\, 64093\, United States
CATEGORIES:Adult,Adults,All Ages,Children,Family,Kids,preteens,senior,Seniors,Teen,Teens,Youth
END:VEVENT
BEGIN:VEVENT
DTSTART;TZID=America/New_York:20240530T103000
DTEND;TZID=America/New_York:20240530T113000
DTSTAMP:20260425T080621
CREATED:20240429T211222Z
LAST-MODIFIED:20240429T211255Z
UID:10007449-1717065000-1717068600@www.trailslibrary.org
SUMMARY:Show-Me Dinosaurs-Knob Noster Branch
DESCRIPTION:All Ages: Join Trails Regional Library and Show-Me Dinosaurs for a roaring kick-off to Summer Reading! Get ready to uncover dino secrets\, snap pics with our prehistoric pals\, unearth fossils\, and tons of other dino-mite surprises!
URL:https://www.trailslibrary.org/event/show-me-dinosaurs-knob-noster-branch/
LOCATION:Knob Noster Branch\, 202 N. Adams\, Knob Noster\, MO\, 65336\, United States
CATEGORIES:Adult,Adults,All Ages,Children,Everyone,Family,Kids,Performers,Pre-School,Pre-Teen,Pre-Teens,Preschool,Preteen,preteens,senior,Seniors,Storytime,Summer Reading Kick Off Event,Teen,Teens,Toddlers,Youth
ATTACH;FMTTYPE=image/jpeg:https://www.trailslibrary.org/wp-content/uploads/2024/04/Meet-Our-Dinosaurs.jpg
END:VEVENT
BEGIN:VEVENT
DTSTART;TZID=America/New_York:20240530T130000
DTEND;TZID=America/New_York:20240530T140000
DTSTAMP:20260425T080621
CREATED:20240429T211346Z
LAST-MODIFIED:20240429T211347Z
UID:10007450-1717074000-1717077600@www.trailslibrary.org
SUMMARY:Show-Me Dinosaurs-Holden Branch
DESCRIPTION:All Ages: Join Trails Regional Library and Show-Me Dinosaurs for a roaring kick-off to Summer Reading! Get ready to uncover dino secrets\, snap pics with our prehistoric pals\, unearth fossils\, and tons of other dino-mite surprises!
URL:https://www.trailslibrary.org/event/show-me-dinosaurs-holden-branch/
LOCATION:Holden Branch\, 207 S. Main\, Holden\, MO\, 64040\, United States
CATEGORIES:Adult,Adults,All Ages,Children,Everyone,Family,Kids,Performers,Pre-School,Pre-Teen,Pre-Teens,Preschool,Preteen,preteens,senior,Seniors,Storytime,Summer Reading Kick Off Event,Teen,Teens,Toddlers,Youth
ATTACH;FMTTYPE=image/jpeg:https://www.trailslibrary.org/wp-content/uploads/2024/04/Meet-Our-Dinosaurs.jpg
END:VEVENT
BEGIN:VEVENT
DTSTART;TZID=America/New_York:20240530T153000
DTEND;TZID=America/New_York:20240530T163000
DTSTAMP:20260425T080621
CREATED:20240429T211541Z
LAST-MODIFIED:20240429T211542Z
UID:10007451-1717083000-1717086600@www.trailslibrary.org
SUMMARY:Show-Me Dinosaurs-Leeton Express Branch
DESCRIPTION:All Ages: Join Trails Regional Library and Show-Me Dinosaurs for a roaring kick-off to Summer Reading! Get ready to uncover dino secrets\, snap pics with our prehistoric pals\, unearth fossils\, and tons of other dino-mite surprises!
URL:https://www.trailslibrary.org/event/show-me-dinosaurs-leeton-express-branch/
LOCATION:Leeton Express Branch\, 500 N. Main\, Leeton\, MO\, 64761\, United States
CATEGORIES:Adult,Adults,All Ages,Children,Everyone,Family,Kids,Performers,Pre-School,Pre-Teen,Pre-Teens,Preschool,Preteen,preteens,senior,Seniors,Storytime,Summer Reading Kick Off Event,Teen,Teens,Toddlers,Youth
ATTACH;FMTTYPE=image/jpeg:https://www.trailslibrary.org/wp-content/uploads/2024/04/Meet-Our-Dinosaurs.jpg
END:VEVENT
BEGIN:VEVENT
DTSTART;TZID=America/New_York:20240531T103000
DTEND;TZID=America/New_York:20240531T123000
DTSTAMP:20260425T080621
CREATED:20240429T211646Z
LAST-MODIFIED:20240429T211647Z
UID:10007452-1717151400-1717158600@www.trailslibrary.org
SUMMARY:Show-Me Dinosaurs-Warrensburg Branch
DESCRIPTION:All Ages: Join Trails Regional Library and Show-Me Dinosaurs for a roaring kick-off to Summer Reading! Get ready to uncover dino secrets\, snap pics with our prehistoric pals\, unearth fossils\, and tons of other dino-mite surprises!
URL:https://www.trailslibrary.org/event/show-me-dinosaurs-warrensburg-branch/
LOCATION:Warrensburg Branch\, 432 N. Holden\, Warrensburg\, Missouri\, 64093\, United States
CATEGORIES:Adult,Adults,All Ages,Children,Everyone,Family,Kids,Performers,Pre-School,Pre-Teen,Pre-Teens,Preschool,Preteen,preteens,senior,Seniors,Storytime,Summer Reading Kick Off Event,Teen,Teens,Toddlers,Youth
ATTACH;FMTTYPE=image/jpeg:https://www.trailslibrary.org/wp-content/uploads/2024/04/Meet-Our-Dinosaurs.jpg
END:VEVENT
BEGIN:VEVENT
DTSTART;TZID=America/New_York:20240531T160000
DTEND;TZID=America/New_York:20240531T160000
DTSTAMP:20260425T080621
CREATED:20231215T184817Z
LAST-MODIFIED:20240119T213958Z
UID:10006202-1717171200-1717171200@www.trailslibrary.org
SUMMARY:Feature Friday-Odessa
DESCRIPTION:All Ages: Join us for our family movie. We provide the popcorn\, and you supply your favorite drink!
URL:https://www.trailslibrary.org/event/feature-friday-odessa-13/
LOCATION:Odessa Branch\, 107 W. Mason\, Odessa\, MO\, 64076\, United States
CATEGORIES:Adult,Adults,All Ages,Children,Family,Kids,Movie,preteens,senior,Seniors,Teen,Teens,Youth
END:VEVENT
BEGIN:VEVENT
DTSTART;TZID=America/New_York:20240601T000000
DTEND;TZID=America/New_York:20240630T000000
DTSTAMP:20260425T080621
CREATED:20240520T204037Z
LAST-MODIFIED:20240520T204037Z
UID:10007647-1717200000-1719705600@www.trailslibrary.org
SUMMARY:Pop Up - Warrensburg
DESCRIPTION:All Ages: A surprise Program is scheduled!
URL:https://www.trailslibrary.org/event/pop-up-warrensburg-2/
LOCATION:Warrensburg Branch\, 432 N. Holden\, Warrensburg\, Missouri\, 64093\, United States
CATEGORIES:Adult,Adults,All Ages,Children,Family,Kids,preteens,senior,Seniors,Teen,Teens,Youth
END:VEVENT
BEGIN:VEVENT
DTSTART;TZID=America/New_York:20240601T100000
DTEND;TZID=America/New_York:20240601T110000
DTSTAMP:20260425T080621
CREATED:20240521T143334Z
LAST-MODIFIED:20240521T143334Z
UID:10007772-1717236000-1717239600@www.trailslibrary.org
SUMMARY:Saturday Storytime & Craft - Leeton
DESCRIPTION:All Ages: Join us on the 1st Saturday of the month at 10 AM for Storytime.
URL:https://www.trailslibrary.org/event/saturday-storytime-craft-leeton-6/
LOCATION:Leeton Express Branch\, 500 N. Main\, Leeton\, MO\, 64761\, United States
CATEGORIES:Adult,Adults,All Ages,Children,Family,Kids,preteens,senior,Seniors,Storytime,Teen,Teens,Youth
END:VEVENT
BEGIN:VEVENT
DTSTART;TZID=America/New_York:20240601T110000
DTEND;TZID=America/New_York:20240601T130000
DTSTAMP:20260425T080621
CREATED:20240520T192300Z
LAST-MODIFIED:20240520T192300Z
UID:10007501-1717239600-1717246800@www.trailslibrary.org
SUMMARY:Family Movie Matinee - Holden
DESCRIPTION:All Ages: Come to the library and enjoy a family friendly movie.
URL:https://www.trailslibrary.org/event/family-movie-matinee-holden-9/
LOCATION:Holden Branch\, 207 S. Main\, Holden\, MO\, 64040\, United States
CATEGORIES:Adult,Adults,All Ages,Children,Family,Kids,Movie,preteens,senior,Seniors,Teen,Teens,Youth
END:VEVENT
BEGIN:VEVENT
DTSTART;TZID=America/New_York:20240601T110000
DTEND;TZID=America/New_York:20240601T130000
DTSTAMP:20260425T080621
CREATED:20240521T143319Z
LAST-MODIFIED:20240521T143319Z
UID:10007770-1717239600-1717246800@www.trailslibrary.org
SUMMARY:Saturday Cinema - Leeton
DESCRIPTION:All Ages: Join us on the 1st Saturday of the month at 11 AM for a family friendly movie. Bring a friend and a drink with a lid. We will provide the popcorn!
URL:https://www.trailslibrary.org/event/saturday-cinema-leeton-8/
LOCATION:Leeton Express Branch\, 500 N. Main\, Leeton\, MO\, 64761\, United States
CATEGORIES:Adult,Adults,All Ages,Children,Family,Kids,Movie,preteens,senior,Seniors,Teen,Teens,Youth
END:VEVENT
BEGIN:VEVENT
DTSTART;TZID=America/New_York:20240603T093000
DTEND;TZID=America/New_York:20240603T103000
DTSTAMP:20260425T080621
CREATED:20240429T211800Z
LAST-MODIFIED:20240429T211822Z
UID:10007453-1717407000-1717410600@www.trailslibrary.org
SUMMARY:Show-Me Dinosaurs-Waverly Branch
DESCRIPTION:All Ages: Join Trails Regional Library and Show-Me Dinosaurs for a roaring kick-off to Summer Reading! Get ready to uncover dino secrets\, snap pics with our prehistoric pals\, unearth fossils\, and tons of other dino-mite surprises!
URL:https://www.trailslibrary.org/event/show-me-dinosaurs-warrensburg-branch-2/
LOCATION:Waverly Branch\, 203 E. Kelling\, Waverly\, MO\, 64096\, United States
CATEGORIES:Adult,Adults,All Ages,Children,Everyone,Family,Kids,Performers,Pre-School,Pre-Teen,Pre-Teens,Preschool,Preteen,preteens,senior,Seniors,Storytime,Summer Reading Kick Off Event,Teen,Teens,Toddlers,Youth
ATTACH;FMTTYPE=image/jpeg:https://www.trailslibrary.org/wp-content/uploads/2024/04/Meet-Our-Dinosaurs.jpg
END:VEVENT
BEGIN:VEVENT
DTSTART;TZID=America/New_York:20240603T113000
DTEND;TZID=America/New_York:20240603T123000
DTSTAMP:20260425T080621
CREATED:20240429T211905Z
LAST-MODIFIED:20240429T211906Z
UID:10007454-1717414200-1717417800@www.trailslibrary.org
SUMMARY:Show-Me Dinosaurs-Corder Branch
DESCRIPTION:All Ages: Join Trails Regional Library and Show-Me Dinosaurs for a roaring kick-off to Summer Reading! Get ready to uncover dino secrets\, snap pics with our prehistoric pals\, unearth fossils\, and tons of other dino-mite surprises!
URL:https://www.trailslibrary.org/event/show-me-dinosaurs-corder-branch/
LOCATION:Corder Branch\, 221 N. Lafayette\, Corder\, MO\, 64021\, United States
CATEGORIES:Adult,Adults,All Ages,Children,Everyone,Family,Kids,Performers,Pre-School,Pre-Teen,Pre-Teens,Preschool,Preteen,preteens,senior,Seniors,Storytime,Summer Reading Kick Off Event,Teen,Teens,Toddlers,Youth
ATTACH;FMTTYPE=image/jpeg:https://www.trailslibrary.org/wp-content/uploads/2024/04/Meet-Our-Dinosaurs.jpg
END:VEVENT
BEGIN:VEVENT
DTSTART;TZID=America/New_York:20240603T143000
DTEND;TZID=America/New_York:20240603T163000
DTSTAMP:20260425T080621
CREATED:20240429T212513Z
LAST-MODIFIED:20240429T212514Z
UID:10007455-1717425000-1717432200@www.trailslibrary.org
SUMMARY:Show-Me Dinosaurs-Concordia Branch
DESCRIPTION:All Ages: Join Trails Regional Library and Show-Me Dinosaurs for a roaring kick-off to Summer Reading! Get ready to uncover dino secrets\, snap pics with our prehistoric pals\, unearth fossils\, and tons of other dino-mite surprises! \n\n\n\nThis event will be hosted by Trails Regional Library-Concordia at the Concordia Community Center at 802 S. Gordon St.\, Concordia\, Missouri
URL:https://www.trailslibrary.org/event/show-me-dinosaurs-concordia-branch/
LOCATION:Concordia Community Center\, 802 S. Gordon St\, Concordia\, Missouri\, 64020\, United States
CATEGORIES:Adult,Adults,All Ages,Children,Everyone,Family,Kids,Performers,Pre-School,Pre-Teen,Pre-Teens,Preschool,Preteen,preteens,senior,Seniors,Storytime,Summer Reading Kick Off Event,Teen,Teens,Toddlers,Youth
ATTACH;FMTTYPE=image/jpeg:https://www.trailslibrary.org/wp-content/uploads/2024/04/Meet-Our-Dinosaurs.jpg
END:VEVENT
BEGIN:VEVENT
DTSTART;TZID=America/New_York:20240604T130000
DTEND;TZID=America/New_York:20240604T150000
DTSTAMP:20260425T080621
CREATED:20240521T152957Z
LAST-MODIFIED:20240521T152957Z
UID:10007828-1717506000-1717513200@www.trailslibrary.org
SUMMARY:Midday Matinee - Knob Noster
DESCRIPTION:All Ages: Come to the library and watch a classic movie with us. Enjoy some popcorn and a water\, coffee\, or tea on us. Feel free to bring some movie snacks of your own too! This month we’re watching Breakfast at Tiffany’s. “No matter where you run\, you end up running into yourself.”
URL:https://www.trailslibrary.org/event/midday-matinee-knob-noster/
LOCATION:Knob Noster Branch\, 202 N. Adams\, Knob Noster\, MO\, 65336\, United States
CATEGORIES:Adult,Adults,All Ages,Children,Family,Kids,Movie,preteens,senior,Seniors,Teen,Teens,Youth
END:VEVENT
BEGIN:VEVENT
DTSTART;TZID=America/New_York:20240605T100000
DTEND;TZID=America/New_York:20240605T110000
DTSTAMP:20260425T080621
CREATED:20240520T191853Z
LAST-MODIFIED:20240520T191853Z
UID:10007467-1717581600-1717585200@www.trailslibrary.org
SUMMARY:SRP Storytime - Corder
DESCRIPTION:All Ages: Storytimes are for building reading skills\, making friends and having fun!  Our Summer Reading series will include crafts and activities related to our theme “Adventure Begins at the Library.”
URL:https://www.trailslibrary.org/event/srp-storytime-corder/
LOCATION:Corder Branch\, 221 N. Lafayette\, Corder\, MO\, 64021\, United States
CATEGORIES:Adult,Adults,All Ages,Children,Family,Kids,preteens,senior,Seniors,Storytime,Teen,Teens,Youth
END:VEVENT
BEGIN:VEVENT
DTSTART;TZID=America/New_York:20240605T150000
DTEND;TZID=America/New_York:20240605T180000
DTSTAMP:20260425T080621
CREATED:20240520T204040Z
LAST-MODIFIED:20240520T204040Z
UID:10007654-1717599600-1717610400@www.trailslibrary.org
SUMMARY:Libraries Got Game - Warrensburg
DESCRIPTION:All Ages: Get BOARD at the library with your family and friends! Fun and exciting board and XL games.
URL:https://www.trailslibrary.org/event/libraries-got-game-warrensburg-64/
LOCATION:Warrensburg Branch\, 432 N. Holden\, Warrensburg\, Missouri\, 64093\, United States
CATEGORIES:Adult,Adults,All Ages,Children,Family,Kids,preteens,senior,Seniors,Teen,Teens,Youth
END:VEVENT
BEGIN:VEVENT
DTSTART;TZID=America/New_York:20240605T173000
DTEND;TZID=America/New_York:20240605T183000
DTSTAMP:20260425T080621
CREATED:20240520T204039Z
LAST-MODIFIED:20240520T204039Z
UID:10007653-1717608600-1717612200@www.trailslibrary.org
SUMMARY:Pawsome Storytime - a Storytime for our four legged canines and their families! - Warrensburg
DESCRIPTION:All Ages: Come celebrate Old Drum Day early with a Storytime for your four legged canine.
URL:https://www.trailslibrary.org/event/pawsome-storytime-a-storytime-for-our-four-legged-canines-and-their-families-warrensburg/
LOCATION:Warrensburg Branch\, 432 N. Holden\, Warrensburg\, Missouri\, 64093\, United States
CATEGORIES:Adult,Adults,All Ages,Children,Family,Guest Presenter,Kids,preteens,senior,Seniors,Storytime,Teen,Teens,Youth
END:VEVENT
BEGIN:VEVENT
DTSTART;TZID=America/New_York:20240606T150000
DTEND;TZID=America/New_York:20240606T160000
DTSTAMP:20260425T080621
CREATED:20240520T192314Z
LAST-MODIFIED:20240520T192314Z
UID:10007503-1717686000-1717689600@www.trailslibrary.org
SUMMARY:Garden Club - Holden
DESCRIPTION:All Ages: Local Patron speaks about the local garden club. She shares tips and information on growing flowers.
URL:https://www.trailslibrary.org/event/garden-club-holden/
LOCATION:Holden Branch\, 207 S. Main\, Holden\, MO\, 64040\, United States
CATEGORIES:Adult,Adults,All Ages,Children,Family,Guest Speakers,Kids,preteens,senior,Seniors,Teen,Teens,Youth
END:VEVENT
BEGIN:VEVENT
DTSTART;TZID=America/New_York:20240608T100000
DTEND;TZID=America/New_York:20240608T100000
DTSTAMP:20260425T080621
CREATED:20240521T142503Z
LAST-MODIFIED:20240521T142503Z
UID:10007758-1717840800-1717840800@www.trailslibrary.org
SUMMARY:Cartoons & Pancakes - Concordia
DESCRIPTION:All Ages: Join us for an old-fashioned Saturday morning. We eat pancakes and watch cartoons with friends!
URL:https://www.trailslibrary.org/event/cartoons-pancakes-concordia-2/
LOCATION:Concordia Branch\, 813 S Main\, Concordia\, MO\, 64020\, United States
CATEGORIES:Adult,Adults,All Ages,Children,Family,Kids,Movie,preteens,senior,Seniors,Teen,Teens,Youth
END:VEVENT
END:VCALENDAR