BEGIN:VCALENDAR
VERSION:2.0
PRODID:-//Trails Regional Library - ECPv6.15.20//NONSGML v1.0//EN
CALSCALE:GREGORIAN
METHOD:PUBLISH
X-ORIGINAL-URL:https://www.trailslibrary.org
X-WR-CALDESC:Events for Trails Regional Library
REFRESH-INTERVAL;VALUE=DURATION:PT1H
X-Robots-Tag:noindex
X-PUBLISHED-TTL:PT1H
BEGIN:VTIMEZONE
TZID:America/New_York
BEGIN:DAYLIGHT
TZOFFSETFROM:-0500
TZOFFSETTO:-0400
TZNAME:EDT
DTSTART:20230312T070000
END:DAYLIGHT
BEGIN:STANDARD
TZOFFSETFROM:-0400
TZOFFSETTO:-0500
TZNAME:EST
DTSTART:20231105T060000
END:STANDARD
BEGIN:DAYLIGHT
TZOFFSETFROM:-0500
TZOFFSETTO:-0400
TZNAME:EDT
DTSTART:20240310T070000
END:DAYLIGHT
BEGIN:STANDARD
TZOFFSETFROM:-0400
TZOFFSETTO:-0500
TZNAME:EST
DTSTART:20241103T060000
END:STANDARD
BEGIN:DAYLIGHT
TZOFFSETFROM:-0500
TZOFFSETTO:-0400
TZNAME:EDT
DTSTART:20250309T070000
END:DAYLIGHT
BEGIN:STANDARD
TZOFFSETFROM:-0400
TZOFFSETTO:-0500
TZNAME:EST
DTSTART:20251102T060000
END:STANDARD
END:VTIMEZONE
BEGIN:VEVENT
DTSTART;TZID=America/New_York:20240611T180000
DTEND;TZID=America/New_York:20240611T190000
DTSTAMP:20260425T080521
CREATED:20240520T204055Z
LAST-MODIFIED:20240520T204055Z
UID:10007661-1718128800-1718132400@www.trailslibrary.org
SUMMARY:Do You Want to Start Your Own Business or Grow an Existing One? - Warrensburg
DESCRIPTION:Ages 19+: Join us to learn about free resources available through the U.S. Small Business Administration to help you plan\, launch\, manage\, and grow your business. We will also talk about Entrepreneurial Development\, Access to Small Business Funding\, Government Contracting\, Surety Bonding\, Small Business Certifications\, and Disaster Recovery.
URL:https://www.trailslibrary.org/event/do-you-want-to-start-your-own-business-or-grow-an-existing-one-warrensburg/
LOCATION:Warrensburg Branch\, 432 N. Holden\, Warrensburg\, Missouri\, 64093\, United States
CATEGORIES:Adult,Adults,Guest Presenter,senior,Seniors
END:VEVENT
BEGIN:VEVENT
DTSTART;TZID=America/New_York:20240612T100000
DTEND;TZID=America/New_York:20240612T110000
DTSTAMP:20260425T080521
CREATED:20240520T192214Z
LAST-MODIFIED:20240520T192214Z
UID:10007483-1718186400-1718190000@www.trailslibrary.org
SUMMARY:Mammal Mania with Knob Noster State Park - Holden
DESCRIPTION:Ages 0-5: Naturalist Chris Edmonson\, from Knob Noster State Park\, will do a library program entitled Mammal Mania. Discover the wild nature of Missouri and learn all about our famous and sometimes infamous Missouri mammals.
URL:https://www.trailslibrary.org/event/mammal-mania-with-knob-noster-state-park-holden/
LOCATION:Holden Branch\, 207 S. Main\, Holden\, MO\, 64040\, United States
CATEGORIES:Children,Guest Presenter,Kids,Pre-School,Preschool,Toddlers
END:VEVENT
BEGIN:VEVENT
DTSTART;TZID=America/New_York:20240617T150000
DTEND;TZID=America/New_York:20240617T160000
DTSTAMP:20260425T080521
CREATED:20240520T204124Z
LAST-MODIFIED:20240520T204124Z
UID:10007667-1718636400-1718640000@www.trailslibrary.org
SUMMARY:Show Me Sound Chorus - Warrensburg
DESCRIPTION:All Ages: Join us for a unique musical experience to liven up your day!
URL:https://www.trailslibrary.org/event/show-me-sound-chorus-warrensburg-2/
LOCATION:Warrensburg Branch\, 432 N. Holden\, Warrensburg\, Missouri\, 64093\, United States
CATEGORIES:Adult,Adults,All Ages,Children,Family,Guest Presenter,Kids,preteens,senior,Seniors,Teen,Teens,Youth
END:VEVENT
BEGIN:VEVENT
DTSTART;TZID=America/New_York:20240620T133000
DTEND;TZID=America/New_York:20240620T153000
DTSTAMP:20260425T080521
CREATED:20240520T192259Z
LAST-MODIFIED:20240520T192259Z
UID:10007498-1718890200-1718897400@www.trailslibrary.org
SUMMARY:Resume Writing - Holden
DESCRIPTION:Ages 13+ REGISTRATION Required: A Missouri Valley Community Action Agency representative will give a presentation on how to effectively write a resume.
URL:https://www.trailslibrary.org/event/resume-writing-holden/
LOCATION:Holden Branch\, 207 S. Main\, Holden\, MO\, 64040\, United States
CATEGORIES:Adult,Adults,Guest Presenter,preteens,senior,Seniors,Teen,Teens,Youth
END:VEVENT
BEGIN:VEVENT
DTSTART;TZID=America/New_York:20240620T163000
DTEND;TZID=America/New_York:20240620T183000
DTSTAMP:20260425T080521
CREATED:20240520T204140Z
LAST-MODIFIED:20240520T204140Z
UID:10007673-1718901000-1718908200@www.trailslibrary.org
SUMMARY:Scavenger Hunt at UCM - Warrensburg
DESCRIPTION:All Ages: Patrons will meet at the UCM Library and view the exhibit in the archives which is a pictorial history of UCM\, and then patrons will participate in a scavenger hunt on campus. Will meet back at the library for prizes and light refreshments.
URL:https://www.trailslibrary.org/event/scavenger-hunt-at-ucm-warrensburg/
LOCATION:Warrensburg Branch\, 432 N. Holden\, Warrensburg\, Missouri\, 64093\, United States
CATEGORIES:Adult,Adults,All Ages,Children,Family,Guest Presenter,Kids,preteens,senior,Seniors,Teen,Teens,Youth
END:VEVENT
BEGIN:VEVENT
DTSTART;TZID=America/New_York:20240624T100000
DTEND;TZID=America/New_York:20240624T120000
DTSTAMP:20260425T080521
CREATED:20240521T152424Z
LAST-MODIFIED:20240521T152424Z
UID:10007812-1719223200-1719230400@www.trailslibrary.org
SUMMARY:Resume Writing Workshop - Knob Noster
DESCRIPTION:Ages 15+ REGISTRATION Required: Let the Missouri Valley Community Action Agency help you demistify writing a resume to help you build your skills and go for the career you want.
URL:https://www.trailslibrary.org/event/resume-writing-workshop-knob-noster/
LOCATION:Knob Noster Branch\, 202 N. Adams\, Knob Noster\, MO\, 65336\, United States
CATEGORIES:Adult,Adults,Guest Presenter,preteens,senior,Seniors,Teen,Teens,Youth
END:VEVENT
BEGIN:VEVENT
DTSTART;TZID=America/New_York:20240626T093000
DTEND;TZID=America/New_York:20240626T103000
DTSTAMP:20260425T080521
CREATED:20240521T152336Z
LAST-MODIFIED:20240521T152336Z
UID:10007789-1719394200-1719397800@www.trailslibrary.org
SUMMARY:Storytime - Knob Noster
DESCRIPTION:Ages 0-5 REGISTRATION Required: Help your child develop a love for literacy with stories\, music\, & bubbles!  This week Knob Noster State Park will be bringing one of their animal ambassadors over for a visit (they will only be there for a visual look\, not to be handled by the littles)\, along with some turtle shells and other things for the kids to have sensory experiences. Make sure to register!
URL:https://www.trailslibrary.org/event/storytime-knob-noster-94/
LOCATION:Knob Noster Branch\, 202 N. Adams\, Knob Noster\, MO\, 65336\, United States
CATEGORIES:Children,Guest Presenter,Kids,Pre-School,Preschool,Storytime,Toddlers
END:VEVENT
BEGIN:VEVENT
DTSTART;TZID=America/New_York:20240626T100000
DTEND;TZID=America/New_York:20240626T120000
DTSTAMP:20260425T080521
CREATED:20240520T204154Z
LAST-MODIFIED:20240520T204154Z
UID:10007677-1719396000-1719403200@www.trailslibrary.org
SUMMARY:Effective Job Searching - Warrensburg
DESCRIPTION:Ages 19+ REGISTRATION Required: Join MVCAA and learn effective skills to use when searching for a job.
URL:https://www.trailslibrary.org/event/effective-job-searching-warrensburg/
LOCATION:Warrensburg Branch\, 432 N. Holden\, Warrensburg\, Missouri\, 64093\, United States
CATEGORIES:Adult,Adults,Guest Presenter,senior,Seniors
END:VEVENT
BEGIN:VEVENT
DTSTART;TZID=America/New_York:20240626T110000
DTEND;TZID=America/New_York:20240626T120000
DTSTAMP:20260425T080521
CREATED:20240521T152337Z
LAST-MODIFIED:20240521T152337Z
UID:10007792-1719399600-1719403200@www.trailslibrary.org
SUMMARY:Storytime - Knob Noster
DESCRIPTION:Ages 0-5 REGISTRATION Required: Help your child develop a love for literacy with stories\, music\, & bubbles! This week Knob Noster State Park will be bringing one of their animal ambassadors over for a visit (they will only be there for a visual look\, not to be handled by the littles)\, along with some turtle shells and other things for the kids to have sensory experiences. Make sure to register!
URL:https://www.trailslibrary.org/event/storytime-knob-noster-97/
LOCATION:Knob Noster Branch\, 202 N. Adams\, Knob Noster\, MO\, 65336\, United States
CATEGORIES:Children,Guest Presenter,Kids,Pre-School,Preschool,Storytime,Toddlers
END:VEVENT
BEGIN:VEVENT
DTSTART;TZID=America/New_York:20240627T133000
DTEND;TZID=America/New_York:20240627T153000
DTSTAMP:20260425T080521
CREATED:20240520T192259Z
LAST-MODIFIED:20240520T192259Z
UID:10007497-1719495000-1719502200@www.trailslibrary.org
SUMMARY:Interview Skills - Holden
DESCRIPTION:Ages 13+ REGISTRATION Required: A Missouri Valley Community Action Agency representative will give a presentation on how to effectively interview for a job.
URL:https://www.trailslibrary.org/event/interview-skills-holden/
LOCATION:Holden Branch\, 207 S. Main\, Holden\, MO\, 64040\, United States
CATEGORIES:Adult,Adults,Guest Presenter,preteens,senior,Seniors,Teen,Teens,Youth
END:VEVENT
BEGIN:VEVENT
DTSTART;TZID=America/New_York:20240629T100000
DTEND;TZID=America/New_York:20240629T110000
DTSTAMP:20260425T080521
CREATED:20240520T204155Z
LAST-MODIFIED:20240520T204155Z
UID:10007681-1719655200-1719658800@www.trailslibrary.org
SUMMARY:Fear Factor - Warrensburg
DESCRIPTION:Ages 6+: Paul Landkamer will challenge you to eat edible insects and plants.
URL:https://www.trailslibrary.org/event/fear-factor-warrensburg/
LOCATION:Warrensburg Branch\, 432 N. Holden\, Warrensburg\, Missouri\, 64093\, United States
CATEGORIES:Adult,Adults,Guest Presenter,Kids,preteens,senior,Seniors,Teen,Teens,Youth
END:VEVENT
BEGIN:VEVENT
DTSTART;TZID=America/New_York:20240705T140000
DTEND;TZID=America/New_York:20240705T160000
DTSTAMP:20260425T080521
CREATED:20240521T153012Z
LAST-MODIFIED:20240521T153012Z
UID:10007831-1720188000-1720195200@www.trailslibrary.org
SUMMARY:Scales & Tales - Knob Noster
DESCRIPTION:All Ages REGISTRATION Required: Scales and Tales is coming to teach us about snakes. Come and meet a few new scaly friends!
URL:https://www.trailslibrary.org/event/scales-tales-knob-noster/
LOCATION:Knob Noster Branch\, 202 N. Adams\, Knob Noster\, MO\, 65336\, United States
CATEGORIES:Adult,Adults,All Ages,Children,Family,Guest Presenter,Kids,preteens,senior,Seniors,Teen,Teens,Youth
END:VEVENT
BEGIN:VEVENT
DTSTART;TZID=America/New_York:20240708T100000
DTEND;TZID=America/New_York:20240708T120000
DTSTAMP:20260425T080521
CREATED:20240521T152424Z
LAST-MODIFIED:20240521T152424Z
UID:10007811-1720432800-1720440000@www.trailslibrary.org
SUMMARY:Interview How-To - Knob Noster
DESCRIPTION:Ages 15+ REGISTRATION Required: Do you want to learn how to interview effectively? Come learn how with the MVCAA & get some practice!
URL:https://www.trailslibrary.org/event/interview-how-to-knob-noster/
LOCATION:Knob Noster Branch\, 202 N. Adams\, Knob Noster\, MO\, 65336\, United States
CATEGORIES:Adult,Adults,Guest Presenter,senior,Seniors,Teen,Teens
END:VEVENT
BEGIN:VEVENT
DTSTART;TZID=America/New_York:20240709T183000
DTEND;TZID=America/New_York:20240709T200000
DTSTAMP:20260425T080521
CREATED:20240520T204225Z
LAST-MODIFIED:20240520T204225Z
UID:10007688-1720549800-1720555200@www.trailslibrary.org
SUMMARY:Old Courthouse and Old Drum - Warrensburg
DESCRIPTION:Ages 19+: Trails has partnered with the historical society to present a program on the history of the old courthouse\, the Old Drum Trial\, and a visit to the memorial library.
URL:https://www.trailslibrary.org/event/old-courthouse-and-old-drum-warrensburg/
LOCATION:Warrensburg Branch\, 432 N. Holden\, Warrensburg\, Missouri\, 64093\, United States
CATEGORIES:Adult,Adults,Guest Presenter,senior,Seniors
END:VEVENT
BEGIN:VEVENT
DTSTART;TZID=America/New_York:20240711T130000
DTEND;TZID=America/New_York:20240711T160000
DTSTAMP:20260425T080521
CREATED:20240521T152423Z
LAST-MODIFIED:20240521T152423Z
UID:10007809-1720702800-1720713600@www.trailslibrary.org
SUMMARY:Forensic Files - Knob Noster
DESCRIPTION:Ages 13-18 REGISTRATION Required: Join us for a Hands-on Presentation from the UCM Anthropology Department on their Forensics Recovery and Identity Estimation Techniques.
URL:https://www.trailslibrary.org/event/forensic-files-knob-noster/
LOCATION:Knob Noster Branch\, 202 N. Adams\, Knob Noster\, MO\, 65336\, United States
CATEGORIES:Guest Presenter,preteens,Teen,Teens,Youth
END:VEVENT
BEGIN:VEVENT
DTSTART;TZID=America/New_York:20240713T100000
DTEND;TZID=America/New_York:20240713T110000
DTSTAMP:20260425T080521
CREATED:20240520T204240Z
LAST-MODIFIED:20240520T204240Z
UID:10007693-1720864800-1720868400@www.trailslibrary.org
SUMMARY:Scales and Tales - Warrensburg
DESCRIPTION:All Ages: Eric Kearny will wow you with his different snakes. He will have them taken around through the audience and you will have a chance to hold one near the end of the program if you want to.
URL:https://www.trailslibrary.org/event/scales-and-tales-warrensburg-2/
LOCATION:Warrensburg Branch\, 432 N. Holden\, Warrensburg\, Missouri\, 64093\, United States
CATEGORIES:Adult,Adults,All Ages,Children,Family,Guest Presenter,Kids,preteens,senior,Seniors,Teen,Teens,Youth
END:VEVENT
BEGIN:VEVENT
DTSTART;TZID=America/New_York:20240713T140000
DTEND;TZID=America/New_York:20240713T160000
DTSTAMP:20260425T080521
CREATED:20240520T204240Z
LAST-MODIFIED:20240712T214608Z
UID:10007694-1720879200-1720886400@www.trailslibrary.org
SUMMARY:Ghost Hunters - Warrensburg
DESCRIPTION:CANCELLED: Due to unforseen circumstances we have had to cancel the Ghost Hunters Program. We apologize for any inconvenience this might cause. \nAges 13+: They will share some of their paranormal investigations\, show equipment they use\, and talk about how to go about an investigation. 
URL:https://www.trailslibrary.org/event/ghost-hunters-warrensburg/
LOCATION:Warrensburg Branch\, 432 N. Holden\, Warrensburg\, Missouri\, 64093\, United States
CATEGORIES:Adult,Adults,Guest Presenter,Kids,preteens,senior,Seniors,Teen,Teens,Youth
END:VEVENT
BEGIN:VEVENT
DTSTART;TZID=America/New_York:20240716T130000
DTEND;TZID=America/New_York:20240716T140000
DTSTAMP:20260425T080521
CREATED:20240521T152957Z
LAST-MODIFIED:20240521T152957Z
UID:10007826-1721134800-1721138400@www.trailslibrary.org
SUMMARY:Backyard Adventures - Knob Noster
DESCRIPTION:Ages 8+ REGISTRATION Required: Join us and the KNSP to learn all about the native creatures that live in our backyards and wild areas!
URL:https://www.trailslibrary.org/event/backyard-adventures-knob-noster/
LOCATION:Knob Noster Branch\, 202 N. Adams\, Knob Noster\, MO\, 65336\, United States
CATEGORIES:Children,Guest Presenter,Kids,Youth
END:VEVENT
BEGIN:VEVENT
DTSTART;TZID=America/New_York:20240717T093000
DTEND;TZID=America/New_York:20240717T103000
DTSTAMP:20260425T080521
CREATED:20240521T152336Z
LAST-MODIFIED:20240521T152336Z
UID:10007790-1721208600-1721212200@www.trailslibrary.org
SUMMARY:Storytime - Knob Noster
DESCRIPTION:Ages 0-5 REGISTRATION Required: Help your child develop a love for literacy with stories\, music\, & bubbles! This week Knob Noster State Park will be bringing one of their animal ambassadors over for a visit (they will only be there for a visual look\, not to be handled by the littles)\, along with some pelts for the kids to have a sensory experience. Make sure you register!
URL:https://www.trailslibrary.org/event/storytime-knob-noster-95/
LOCATION:Knob Noster Branch\, 202 N. Adams\, Knob Noster\, MO\, 65336\, United States
CATEGORIES:Children,Guest Presenter,Kids,Pre-School,Preschool,Storytime,Toddlers
END:VEVENT
BEGIN:VEVENT
DTSTART;TZID=America/New_York:20240717T110000
DTEND;TZID=America/New_York:20240717T120000
DTSTAMP:20260425T080521
CREATED:20240521T152336Z
LAST-MODIFIED:20240521T152336Z
UID:10007791-1721214000-1721217600@www.trailslibrary.org
SUMMARY:Storytime - Knob Noster
DESCRIPTION:Ages 0-5 REGISTRATION Required: Help your child develop a love for literacy with stories\, music\, & bubbles! This week Knob Noster State Park will be bringing one of their animal ambassadors over for a visit (they will only be there for a visual look\, not to be handled by the littles)\, along with some pelts for the kids to have a sensory experience. Make sure you register!
URL:https://www.trailslibrary.org/event/storytime-knob-noster-96/
LOCATION:Knob Noster Branch\, 202 N. Adams\, Knob Noster\, MO\, 65336\, United States
CATEGORIES:Children,Guest Presenter,Kids,Pre-School,Preschool,Storytime,Toddlers
END:VEVENT
BEGIN:VEVENT
DTSTART;TZID=America/New_York:20240720T120000
DTEND;TZID=America/New_York:20240720T130000
DTSTAMP:20260425T080521
CREATED:20240520T192910Z
LAST-MODIFIED:20240605T191041Z
UID:10007522-1721476800-1721480400@www.trailslibrary.org
SUMMARY:Scales and Tales - Lexington
DESCRIPTION:All Ages REGISTRATION Required: Scales and Tales will be sharing some scaley friends with us! Slither by the branch to register.
URL:https://www.trailslibrary.org/event/scales-and-tales-lexington/
LOCATION:Lexington Branch\, 1008 Main Street\, Lexington\, MO\, 64067\, United States
CATEGORIES:Adult,Adults,All Ages,Children,Family,Guest Presenter,Kids,preteens,senior,Seniors,Teen,Teens,Youth
END:VEVENT
BEGIN:VEVENT
DTSTART;TZID=America/New_York:20240722T100000
DTEND;TZID=America/New_York:20240722T100000
DTSTAMP:20260425T080521
CREATED:20240708T193649Z
LAST-MODIFIED:20240708T193649Z
UID:10007833-1721642400-1721642400@www.trailslibrary.org
SUMMARY:Animal Wonders - Holden
DESCRIPTION:All Ages: Animal Wonders provides animal education that will enhance appreciation and understanding\nof the natural world.
URL:https://www.trailslibrary.org/event/animal-wonders-holden/
LOCATION:Holden Branch\, 207 S. Main\, Holden\, MO\, 64040\, United States
CATEGORIES:Adult,Adults,All Ages,Children,Family,Guest Presenter,Kids,preteens,senior,Seniors,Teen,Teens,Youth
END:VEVENT
BEGIN:VEVENT
DTSTART;TZID=America/New_York:20240722T140000
DTEND;TZID=America/New_York:20240722T140000
DTSTAMP:20260425T080521
CREATED:20240708T193649Z
LAST-MODIFIED:20240708T193649Z
UID:10007834-1721656800-1721656800@www.trailslibrary.org
SUMMARY:Animal Wonders - Knob Noster
DESCRIPTION:All Ages: Animal Wonders provides animal education that will enhance appreciation and understanding\nof the natural world.
URL:https://www.trailslibrary.org/event/animal-wonders-knob-noster/
LOCATION:Knob Noster Branch\, 202 N. Adams\, Knob Noster\, MO\, 65336\, United States
CATEGORIES:Adult,Adults,All Ages,Children,Family,Guest Presenter,Kids,preteens,senior,Seniors,Teen,Teens,Youth
END:VEVENT
BEGIN:VEVENT
DTSTART;TZID=America/New_York:20240723T100000
DTEND;TZID=America/New_York:20240723T110000
DTSTAMP:20260425T080521
CREATED:20240521T152957Z
LAST-MODIFIED:20240521T152957Z
UID:10007827-1721728800-1721732400@www.trailslibrary.org
SUMMARY:Rocks Rock - Knob Noster
DESCRIPTION:Ages 6-12: Let’s travel through time with the Knob Noster State Park by examining the amazing rocks and fossils native to Missouri. You’ll even get to crack open a geode of your own!
URL:https://www.trailslibrary.org/event/rocks-rock-knob-noster/
LOCATION:Knob Noster Branch\, 202 N. Adams\, Knob Noster\, MO\, 65336\, United States
CATEGORIES:Children,Guest Presenter,Kids,Youth
END:VEVENT
BEGIN:VEVENT
DTSTART;TZID=America/New_York:20240724T100000
DTEND;TZID=America/New_York:20240724T100000
DTSTAMP:20260425T080521
CREATED:20240708T193650Z
LAST-MODIFIED:20240708T193650Z
UID:10007835-1721815200-1721815200@www.trailslibrary.org
SUMMARY:Animal Wonders - Waverly
DESCRIPTION:All Ages: Animal Wonders provides animal education that will enhance appreciation and understanding\nof the natural world.
URL:https://www.trailslibrary.org/event/animal-wonders-waverly/
LOCATION:Waverly Branch\, 203 E. Kelling\, Waverly\, MO\, 64096\, United States
CATEGORIES:Adult,Adults,All Ages,Children,Family,Guest Presenter,Kids,preteens,senior,Seniors,Teen,Teens,Youth
END:VEVENT
BEGIN:VEVENT
DTSTART;TZID=America/New_York:20240724T140000
DTEND;TZID=America/New_York:20240724T140000
DTSTAMP:20260425T080521
CREATED:20240708T193650Z
LAST-MODIFIED:20240708T193650Z
UID:10007836-1721829600-1721829600@www.trailslibrary.org
SUMMARY:Animal Wonders - Corder
DESCRIPTION:All Ages: Animal Wonders provides animal education that will enhance appreciation and understanding\nof the natural world.
URL:https://www.trailslibrary.org/event/animal-wonders-corder/
LOCATION:Corder Branch\, 221 N. Lafayette\, Corder\, MO\, 64021\, United States
CATEGORIES:Adult,Adults,All Ages,Children,Family,Guest Presenter,Kids,preteens,senior,Seniors,Teen,Teens,Youth
END:VEVENT
BEGIN:VEVENT
DTSTART;TZID=America/New_York:20240724T190000
DTEND;TZID=America/New_York:20240724T200000
DTSTAMP:20260425T080521
CREATED:20240520T204310Z
LAST-MODIFIED:20240717T201710Z
UID:10007706-1721847600-1721851200@www.trailslibrary.org
SUMMARY:Summer Jazz Band - Warrensburg
DESCRIPTION:All Ages: Join us for the Summer Jazz band!
URL:https://www.trailslibrary.org/event/summer-jazz-band-warrensburg/
LOCATION:Warrensburg Branch\, 432 N. Holden\, Warrensburg\, Missouri\, 64093\, United States
CATEGORIES:Adult,Adults,All Ages,Children,Family,Guest Presenter,Kids,preteens,senior,Seniors,Teen,Teens,Youth
END:VEVENT
BEGIN:VEVENT
DTSTART;TZID=America/New_York:20240727T140000
DTEND;TZID=America/New_York:20240727T150000
DTSTAMP:20260425T080521
CREATED:20240520T204325Z
LAST-MODIFIED:20240520T204325Z
UID:10007710-1722088800-1722092400@www.trailslibrary.org
SUMMARY:Turtles!!! - Warrensburg
DESCRIPTION:All Ages: Naturalist Chris Edmundson will bring Turtles to the Library. Learn Turtle facts!
URL:https://www.trailslibrary.org/event/turtles-warrensburg/
LOCATION:Warrensburg Branch\, 432 N. Holden\, Warrensburg\, Missouri\, 64093\, United States
CATEGORIES:Adult,Adults,All Ages,Children,Family,Guest Presenter,Kids,preteens,senior,Seniors,Teen,Teens,Youth
END:VEVENT
BEGIN:VEVENT
DTSTART;TZID=America/New_York:20240731T100000
DTEND;TZID=America/New_York:20240731T110000
DTSTAMP:20260425T080521
CREATED:20240520T192214Z
LAST-MODIFIED:20240520T192214Z
UID:10007484-1722420000-1722423600@www.trailslibrary.org
SUMMARY:Rad Reptile Program with Knob Noster State Park - Holden
DESCRIPTION:Ages 0-5: Naturalist Chris Edmonson\, from Knob Noster State Park\, will do a library program entitled Rad Reptiles. Home to more than 50 species of snake and 12 species of turtles\, Missouri hosts a variety of rad adaptations that these reptiles use to live and protect themselves.
URL:https://www.trailslibrary.org/event/rad-reptile-program-with-knob-noster-state-park-holden/
LOCATION:Holden Branch\, 207 S. Main\, Holden\, MO\, 64040\, United States
CATEGORIES:Children,Guest Presenter,Kids,Pre-School,Preschool,Toddlers
END:VEVENT
BEGIN:VEVENT
DTSTART;TZID=America/New_York:20240823T200000
DTEND;TZID=America/New_York:20240823T210000
DTSTAMP:20260425T080521
CREATED:20240521T152409Z
LAST-MODIFIED:20240521T152409Z
UID:10007807-1724443200-1724446800@www.trailslibrary.org
SUMMARY:Creepy Cryptids - Knob Noster
DESCRIPTION:Ages 13-18: Find out all about our Missouri cryptids during this fun and spooky campfire chat led by Knob Noster State Park!
URL:https://www.trailslibrary.org/event/creepy-cryptids-knob-noster/
LOCATION:Knob Noster Branch\, 202 N. Adams\, Knob Noster\, MO\, 65336\, United States
CATEGORIES:Guest Presenter,preteens,Teen,Teens,Youth
END:VEVENT
END:VCALENDAR