BEGIN:VCALENDAR
VERSION:2.0
PRODID:-//Trails Regional Library - ECPv6.15.20//NONSGML v1.0//EN
CALSCALE:GREGORIAN
METHOD:PUBLISH
X-ORIGINAL-URL:https://www.trailslibrary.org
X-WR-CALDESC:Events for Trails Regional Library
REFRESH-INTERVAL;VALUE=DURATION:PT1H
X-Robots-Tag:noindex
X-PUBLISHED-TTL:PT1H
BEGIN:VTIMEZONE
TZID:America/New_York
BEGIN:DAYLIGHT
TZOFFSETFROM:-0500
TZOFFSETTO:-0400
TZNAME:EDT
DTSTART:20220313T070000
END:DAYLIGHT
BEGIN:STANDARD
TZOFFSETFROM:-0400
TZOFFSETTO:-0500
TZNAME:EST
DTSTART:20221106T060000
END:STANDARD
BEGIN:DAYLIGHT
TZOFFSETFROM:-0500
TZOFFSETTO:-0400
TZNAME:EDT
DTSTART:20230312T070000
END:DAYLIGHT
BEGIN:STANDARD
TZOFFSETFROM:-0400
TZOFFSETTO:-0500
TZNAME:EST
DTSTART:20231105T060000
END:STANDARD
BEGIN:DAYLIGHT
TZOFFSETFROM:-0500
TZOFFSETTO:-0400
TZNAME:EDT
DTSTART:20240310T070000
END:DAYLIGHT
BEGIN:STANDARD
TZOFFSETFROM:-0400
TZOFFSETTO:-0500
TZNAME:EST
DTSTART:20241103T060000
END:STANDARD
END:VTIMEZONE
BEGIN:VEVENT
DTSTART;TZID=America/New_York:20230601T100000
DTEND;TZID=America/New_York:20230601T110000
DTSTAMP:20260425T202631
CREATED:20230516T215304Z
LAST-MODIFIED:20230526T171020Z
UID:10006373-1685613600-1685617200@www.trailslibrary.org
SUMMARY:Chef Bananas - Concordia Branch
DESCRIPTION:All Ages – Chef Bananas brings a show that’s perfect for adults and kids alike. After all – we are all either young or young at heart – and Chef Bananas’ humor and magic tricks will mesmerize you and make you laugh. It’s the ultimate bonding experience for families. This show is proven to create lasting memories for the entire family.
URL:https://www.trailslibrary.org/event/chef-bananas-7/
LOCATION:Concordia Branch\, 813 S Main\, Concordia\, MO\, 64020\, United States
CATEGORIES:Adult,Adults,All Ages,Children,Family,Guest Speakers,Kids,Music,Performers,Pre-Teen,Pre-Teens,Preschool,Preteen,preteens,senior,Seniors,Teen,Teens,Youth
END:VEVENT
BEGIN:VEVENT
DTSTART;TZID=America/New_York:20230601T130000
DTEND;TZID=America/New_York:20230601T140000
DTSTAMP:20260425T202631
CREATED:20230516T215414Z
LAST-MODIFIED:20230526T171250Z
UID:10006374-1685624400-1685628000@www.trailslibrary.org
SUMMARY:Chef Bananas - Knob Noster Branch
DESCRIPTION:All Ages – Chef Bananas brings a show that’s perfect for adults and kids alike. After all – we are all either young or young at heart – and Chef Bananas’ humor and magic tricks will mesmerize you and make you laugh. It’s the ultimate bonding experience for families. This show is proven to create lasting memories for the entire family.
URL:https://www.trailslibrary.org/event/chef-bananas-8/
LOCATION:Knob Noster Branch\, 202 N. Adams\, Knob Noster\, MO\, 65336\, United States
CATEGORIES:Adult,Adults,All Ages,Children,Family,Guest Speakers,Kids,Music,Performers,Pre-Teen,Pre-Teens,Preschool,Preteen,preteens,senior,Seniors,Teen,Teens,Youth
END:VEVENT
BEGIN:VEVENT
DTSTART;TZID=America/New_York:20230601T160000
DTEND;TZID=America/New_York:20230601T170000
DTSTAMP:20260425T202631
CREATED:20230516T215536Z
LAST-MODIFIED:20230526T171215Z
UID:10006375-1685635200-1685638800@www.trailslibrary.org
SUMMARY:Chef Bananas - Leeton Express Branch
DESCRIPTION:All Ages – Chef Bananas brings a show that’s perfect for adults and kids alike. After all – we are all either young or young at heart – and Chef Bananas’ humor and magic tricks will mesmerize you and make you laugh. It’s the ultimate bonding experience for families. This show is proven to create lasting memories for the entire family.
URL:https://www.trailslibrary.org/event/chef-bananas-9/
LOCATION:Leeton Express Branch\, 500 N. Main\, Leeton\, MO\, 64761\, United States
CATEGORIES:Adult,Adults,All Ages,Children,Family,Guest Speakers,Kids,Music,Performers,Pre-Teen,Pre-Teens,Preschool,Preteen,preteens,senior,Seniors,Teen,Teens,Youth
END:VEVENT
BEGIN:VEVENT
DTSTART;TZID=America/New_York:20230605T184500
DTEND;TZID=America/New_York:20230605T194500
DTSTAMP:20260425T202631
CREATED:20230526T174514Z
LAST-MODIFIED:20230526T174515Z
UID:10006462-1685990700-1685994300@www.trailslibrary.org
SUMMARY:Summer Strolls - Warrensburg Branch
DESCRIPTION:All ages – Meet your neighbors and friends at the Knob Noster State Park Visitors Center and take a ranger led hike with us. Wear sturdy shoes\, bring water and bug spray.
URL:https://www.trailslibrary.org/event/summer-strolls-warrensburg-branch/
CATEGORIES:Adult,Adults,All Ages,Children,Family,Guest Speakers,Kids,Pre-Teen,Pre-Teens,Preteen,preteens,senior,Seniors,Teen,Teens,Youth
END:VEVENT
BEGIN:VEVENT
DTSTART;TZID=America/New_York:20230615T173000
DTEND;TZID=America/New_York:20230615T183000
DTSTAMP:20260425T202631
CREATED:20230519T000244Z
LAST-MODIFIED:20230519T000244Z
UID:10006444-1686850200-1686853800@www.trailslibrary.org
SUMMARY:Vietnam Round Table - Odessa
DESCRIPTION:All Ages – Looking for a name on the Vietnam wall? Join us for a round table discussion about Vietnam with our guest leader Terry Stever and find out how to get a rubbing of a name from the wall.
URL:https://www.trailslibrary.org/event/vietnam-round-table-odessa/
LOCATION:Odessa Branch\, 107 W. Mason\, Odessa\, MO\, 64076\, United States
CATEGORIES:Adult,Adults,All Ages,Family,Guest Speakers,senior,Seniors,Teen,Teens
END:VEVENT
BEGIN:VEVENT
DTSTART;TZID=America/New_York:20230626T100000
DTEND;TZID=America/New_York:20230626T110000
DTSTAMP:20260425T202631
CREATED:20230526T172743Z
LAST-MODIFIED:20230526T172744Z
UID:10006457-1687773600-1687777200@www.trailslibrary.org
SUMMARY:Will Stuck - Leeton Express Branch
DESCRIPTION:All Ages – A unique and one-of-a-kind performance! This show will have everyone sharing their voices and working together to help Will create his usual high-energy and hilarious M.E.S.S. (Music\, Education\, Stories\, and Science) experience.
URL:https://www.trailslibrary.org/event/will-stuck-leeton-express-branch/
LOCATION:Leeton Express Branch\, 500 N. Main\, Leeton\, MO\, 64761\, United States
CATEGORIES:Adult,Adults,All Ages,Children,Family,Guest Speakers,Kids,Music,Performers,Pre-Teen,Pre-Teens,Preschool,Preteen,preteens,senior,Seniors,Teen,Teens,Youth
END:VEVENT
BEGIN:VEVENT
DTSTART;TZID=America/New_York:20230626T130000
DTEND;TZID=America/New_York:20230626T140000
DTSTAMP:20260425T202631
CREATED:20230518T235402Z
LAST-MODIFIED:20230526T172441Z
UID:10005312-1687784400-1687788000@www.trailslibrary.org
SUMMARY:Will Stuck - Knob Noster
DESCRIPTION:All Ages – A unique and one-of-a-kind performance! This show will have everyone sharing their voices and working together to help Will create his usual high-energy and hilarious M.E.S.S. (Music\, Education\, Stories\, and Science) experience.
URL:https://www.trailslibrary.org/event/will-stuck-knob-noster/
LOCATION:Knob Noster Branch\, 202 N. Adams\, Knob Noster\, MO\, 65336\, United States
CATEGORIES:Adult,Adults,All Ages,Children,Family,Guest Speakers,Kids,Music,Performers,Pre-Teen,Pre-Teens,Preschool,Preteen,preteens,senior,Seniors,Teen,Teens,Youth
END:VEVENT
BEGIN:VEVENT
DTSTART;TZID=America/New_York:20230626T150000
DTEND;TZID=America/New_York:20230626T160000
DTSTAMP:20260425T202631
CREATED:20230518T234908Z
LAST-MODIFIED:20230526T172247Z
UID:10005286-1687791600-1687795200@www.trailslibrary.org
SUMMARY:Will Stuck - Holden
DESCRIPTION:All Ages – A unique and one-of-a-kind performance! This show will have everyone sharing their voices and working together to help Will create his usual high-energy and hilarious M.E.S.S. (Music\, Education\, Stories\, and Science) experience.
URL:https://www.trailslibrary.org/event/will-stuck-holden/
LOCATION:Holden Branch\, 207 S. Main\, Holden\, MO\, 64040\, United States
CATEGORIES:Adult,Adults,All Ages,Children,Family,Guest Speakers,Kids,Music,Performers,Pre-Teen,Pre-Teens,Preschool,Preteen,preteens,senior,Seniors,Teen,Teens,Youth
END:VEVENT
BEGIN:VEVENT
DTSTART;TZID=America/New_York:20230628T184500
DTEND;TZID=America/New_York:20230628T194500
DTSTAMP:20260425T202631
CREATED:20230526T174659Z
LAST-MODIFIED:20230526T174700Z
UID:10006463-1687977900-1687981500@www.trailslibrary.org
SUMMARY:Summer Strolls - Warrensburg Branch
DESCRIPTION:All Ages – Join your neighbors to walk historic downtown Warrensburg as we learn history\, architecture\, and folklore.
URL:https://www.trailslibrary.org/event/summer-strolls-warrensburg-branch-2/
LOCATION:Warrensburg Branch\, 432 N. Holden\, Warrensburg\, Missouri\, 64093\, United States
CATEGORIES:Adult,Adults,All Ages,Children,Family,Guest Speakers,Kids,Pre-Teen,Pre-Teens,Preteen,preteens,senior,Seniors,Teen,Teens,Youth
END:VEVENT
END:VCALENDAR