BEGIN:VCALENDAR
VERSION:2.0
PRODID:-//Trails Regional Library - ECPv6.15.20//NONSGML v1.0//EN
CALSCALE:GREGORIAN
METHOD:PUBLISH
X-WR-CALNAME:Trails Regional Library
X-ORIGINAL-URL:https://www.trailslibrary.org
X-WR-CALDESC:Events for Trails Regional Library
REFRESH-INTERVAL;VALUE=DURATION:PT1H
X-Robots-Tag:noindex
X-PUBLISHED-TTL:PT1H
BEGIN:VTIMEZONE
TZID:America/New_York
BEGIN:DAYLIGHT
TZOFFSETFROM:-0500
TZOFFSETTO:-0400
TZNAME:EDT
DTSTART:20210314T070000
END:DAYLIGHT
BEGIN:STANDARD
TZOFFSETFROM:-0400
TZOFFSETTO:-0500
TZNAME:EST
DTSTART:20211107T060000
END:STANDARD
BEGIN:DAYLIGHT
TZOFFSETFROM:-0500
TZOFFSETTO:-0400
TZNAME:EDT
DTSTART:20220313T070000
END:DAYLIGHT
BEGIN:STANDARD
TZOFFSETFROM:-0400
TZOFFSETTO:-0500
TZNAME:EST
DTSTART:20221106T060000
END:STANDARD
BEGIN:DAYLIGHT
TZOFFSETFROM:-0500
TZOFFSETTO:-0400
TZNAME:EDT
DTSTART:20230312T070000
END:DAYLIGHT
BEGIN:STANDARD
TZOFFSETFROM:-0400
TZOFFSETTO:-0500
TZNAME:EST
DTSTART:20231105T060000
END:STANDARD
END:VTIMEZONE
BEGIN:VEVENT
DTSTART;TZID=America/New_York:20221003T160000
DTEND;TZID=America/New_York:20221003T180000
DTSTAMP:20260423T190957
CREATED:20220908T182716Z
LAST-MODIFIED:20220908T182716Z
UID:10004834-1664812800-1664820000@www.trailslibrary.org
SUMMARY:World Kindness Day Project - Warrensburg
DESCRIPTION:Nov. 13 is World Kindness Day. Trails would like to share bits of kindness with inspirational works of art through its patrons. Create your own design with the supplies provided. You can leave your inspirational work of art with staff to display throughout the community or take it home to display in your window or yard throughout November. We just want to send the same message: “Be Kind.”
URL:https://www.trailslibrary.org/event/world-kindness-day-project-warrensburg/
LOCATION:Warrensburg Branch\, 432 N. Holden\, Warrensburg\, Missouri\, 64093\, United States
CATEGORIES:Kids
END:VEVENT
BEGIN:VEVENT
DTSTART;TZID=America/New_York:20221006T093000
DTEND;TZID=America/New_York:20221006T100000
DTSTAMP:20260423T190957
CREATED:20220908T182739Z
LAST-MODIFIED:20220908T182739Z
UID:10005633-1665048600-1665050400@www.trailslibrary.org
SUMMARY:Music and Movement - Warrensburg
DESCRIPTION:Get your wiggles out with dancing and singing at the library. Then you can make new friends during Free Play With Friends.
URL:https://www.trailslibrary.org/event/music-and-movement-warrensburg-14/
LOCATION:Warrensburg Branch\, 432 N. Holden\, Warrensburg\, Missouri\, 64093\, United States
CATEGORIES:Kids
END:VEVENT
BEGIN:VEVENT
DTSTART;TZID=America/New_York:20221006T100000
DTEND;TZID=America/New_York:20221006T103000
DTSTAMP:20260423T190957
CREATED:20220908T182751Z
LAST-MODIFIED:20220908T182751Z
UID:10005604-1665050400-1665052200@www.trailslibrary.org
SUMMARY:Free Play with Friends - Warrensburg
DESCRIPTION:After you’ve wiggled and giggled\, stay and play at the library with new friends and old ones.
URL:https://www.trailslibrary.org/event/free-play-with-friends-warrensburg-14/
LOCATION:Warrensburg Branch\, 432 N. Holden\, Warrensburg\, Missouri\, 64093\, United States
CATEGORIES:Kids
END:VEVENT
BEGIN:VEVENT
DTSTART;TZID=America/New_York:20221006T103000
DTEND;TZID=America/New_York:20221006T110000
DTSTAMP:20260423T190957
CREATED:20220908T183109Z
LAST-MODIFIED:20220908T183109Z
UID:10005343-1665052200-1665054000@www.trailslibrary.org
SUMMARY:Pumpkins and Bats - Holden
DESCRIPTION:Kids – Registration required. This fun kids program will allow children to make ornamental pumpkins and bats to decorate their house at Halloween!
URL:https://www.trailslibrary.org/event/pumpkins-and-bats-holden/
LOCATION:Holden Branch\, 207 S. Main\, Holden\, MO\, 64040\, United States
CATEGORIES:Kids
END:VEVENT
BEGIN:VEVENT
DTSTART;TZID=America/New_York:20221013T093000
DTEND;TZID=America/New_York:20221013T100000
DTSTAMP:20260423T190957
CREATED:20220908T182738Z
LAST-MODIFIED:20220908T182738Z
UID:10005635-1665653400-1665655200@www.trailslibrary.org
SUMMARY:Music and Movement - Warrensburg
DESCRIPTION:Get your wiggles out with dancing and singing at the library. Then you can make new friends during Free Play With Friends.
URL:https://www.trailslibrary.org/event/music-and-movement-warrensburg-13/
LOCATION:Warrensburg Branch\, 432 N. Holden\, Warrensburg\, Missouri\, 64093\, United States
CATEGORIES:Kids
END:VEVENT
BEGIN:VEVENT
DTSTART;TZID=America/New_York:20221013T100000
DTEND;TZID=America/New_York:20221013T103000
DTSTAMP:20260423T190957
CREATED:20220908T182751Z
LAST-MODIFIED:20220908T182751Z
UID:10005605-1665655200-1665657000@www.trailslibrary.org
SUMMARY:Free Play with Friends - Warrensburg
DESCRIPTION:After you’ve wiggled and giggled\, stay and play at the library with new friends and old ones.
URL:https://www.trailslibrary.org/event/free-play-with-friends-warrensburg-13/
LOCATION:Warrensburg Branch\, 432 N. Holden\, Warrensburg\, Missouri\, 64093\, United States
CATEGORIES:Kids
END:VEVENT
BEGIN:VEVENT
DTSTART;TZID=America/New_York:20221015T110000
DTEND;TZID=America/New_York:20221015T123000
DTSTAMP:20260423T190957
CREATED:20220908T183109Z
LAST-MODIFIED:20220908T183109Z
UID:10005331-1665831600-1665837000@www.trailslibrary.org
SUMMARY:Saturday Afternoon Matinee - Holden
DESCRIPTION:Enjoy a relaxing Saturday afternoon at the library while watching a film and enjoying popcorn.
URL:https://www.trailslibrary.org/event/saturday-afternoon-matinee-holden-8/
LOCATION:Holden Branch\, 207 S. Main\, Holden\, MO\, 64040\, United States
CATEGORIES:Family,Kids
END:VEVENT
BEGIN:VEVENT
DTSTART;TZID=America/New_York:20221018T153000
DTEND;TZID=America/New_York:20221018T173000
DTSTAMP:20260423T190957
CREATED:20220908T183109Z
LAST-MODIFIED:20220908T183109Z
UID:10005345-1666107000-1666114200@www.trailslibrary.org
SUMMARY:Drawing Scary Stuff - Holden
DESCRIPTION:Kids – Registration required. In keeping with the Halloween theme\, we will learn to draw scary stuff! If you love to draw\, experiment\, and conceptualize\, our scary compositions will include rendering bats\, cats\, zombies\, spiders\, snakes\, skulls\, and dragons.
URL:https://www.trailslibrary.org/event/drawing-scary-stuff-holden/
LOCATION:Holden Branch\, 207 S. Main\, Holden\, MO\, 64040\, United States
CATEGORIES:Kids
END:VEVENT
BEGIN:VEVENT
DTSTART;TZID=America/New_York:20221020T093000
DTEND;TZID=America/New_York:20221020T100000
DTSTAMP:20260423T190957
CREATED:20220908T182738Z
LAST-MODIFIED:20220908T182738Z
UID:10005637-1666258200-1666260000@www.trailslibrary.org
SUMMARY:Music and Movement - Warrensburg
DESCRIPTION:Get your wiggles out with dancing and singing at the library. Then you can make new friends during Free Play With Friends.
URL:https://www.trailslibrary.org/event/music-and-movement-warrensburg-12/
LOCATION:Warrensburg Branch\, 432 N. Holden\, Warrensburg\, Missouri\, 64093\, United States
CATEGORIES:Kids
END:VEVENT
BEGIN:VEVENT
DTSTART;TZID=America/New_York:20221020T100000
DTEND;TZID=America/New_York:20221020T103000
DTSTAMP:20260423T190957
CREATED:20220908T182751Z
LAST-MODIFIED:20220908T182751Z
UID:10005606-1666260000-1666261800@www.trailslibrary.org
SUMMARY:Free Play with Friends - Warrensburg
DESCRIPTION:After you’ve wiggled and giggled\, stay and play at the library with new friends and old ones.
URL:https://www.trailslibrary.org/event/free-play-with-friends-warrensburg-12/
LOCATION:Warrensburg Branch\, 432 N. Holden\, Warrensburg\, Missouri\, 64093\, United States
CATEGORIES:Kids
END:VEVENT
BEGIN:VEVENT
DTSTART;TZID=America/New_York:20221020T160000
DTEND;TZID=America/New_York:20221020T170000
DTSTAMP:20260423T190957
CREATED:20220908T182947Z
LAST-MODIFIED:20220908T182947Z
UID:10005397-1666281600-1666285200@www.trailslibrary.org
SUMMARY:Spooky Science - Knob Noster
DESCRIPTION:Halloween is the perfect occasion to brew up some spooky\, creepy\, science experiments! Join us for some messy fun!
URL:https://www.trailslibrary.org/event/spooky-science-knob-noster/
LOCATION:Knob Noster Branch\, 202 N. Adams\, Knob Noster\, MO\, 65336\, United States
CATEGORIES:Kids
END:VEVENT
BEGIN:VEVENT
DTSTART;TZID=America/New_York:20221020T161500
DTEND;TZID=America/New_York:20221020T173000
DTSTAMP:20260423T190957
CREATED:20220908T182922Z
LAST-MODIFIED:20220908T182922Z
UID:10005432-1666282500-1666287000@www.trailslibrary.org
SUMMARY:Third Thursday Fun and Games - Leeton Express
DESCRIPTION:Runaway Fun at the library. We will be joined by the Leeton Boys & Girls Club Staff and students as we use regularly everyday items to help a pumpkin run away from a SUR – PIE – SE ending.
URL:https://www.trailslibrary.org/event/third-thursday-fun-and-games-leeton-express-3/
LOCATION:Leeton Express Branch\, 500 N. Main\, Leeton\, MO\, 64761\, United States
CATEGORIES:Kids
END:VEVENT
BEGIN:VEVENT
DTSTART;TZID=America/New_York:20221026T150000
DTEND;TZID=America/New_York:20221026T160000
DTSTAMP:20260423T190957
CREATED:20220908T182947Z
LAST-MODIFIED:20220908T182947Z
UID:10005398-1666796400-1666800000@www.trailslibrary.org
SUMMARY:Haunted Cookie House Decorating - Knob Noster
DESCRIPTION:Get your haunt on as you create the scariest haunted house made out of snacks and candy!
URL:https://www.trailslibrary.org/event/haunted-cookie-house-decorating-knob-noster/
LOCATION:Knob Noster Branch\, 202 N. Adams\, Knob Noster\, MO\, 65336\, United States
CATEGORIES:Kids
END:VEVENT
BEGIN:VEVENT
DTSTART;TZID=America/New_York:20221026T154500
DTEND;TZID=America/New_York:20221026T164500
DTSTAMP:20260423T190957
CREATED:20220908T182859Z
LAST-MODIFIED:20220908T182859Z
UID:10005501-1666799100-1666802700@www.trailslibrary.org
SUMMARY:Go Batty at the Library - Lexington
DESCRIPTION:Kids – We are going “Batty” at the library. Come make a fun batty craft magnet\, read a story\, enjoy a snack\, and a game.
URL:https://www.trailslibrary.org/event/go-batty-at-the-library-lexington/
LOCATION:Lexington Branch\, 1008 Main Street\, Lexington\, MO\, 64067\, United States
CATEGORIES:Kids
END:VEVENT
BEGIN:VEVENT
DTSTART;TZID=America/New_York:20221027T093000
DTEND;TZID=America/New_York:20221027T100000
DTSTAMP:20260423T190957
CREATED:20220908T182738Z
LAST-MODIFIED:20220908T182738Z
UID:10005639-1666863000-1666864800@www.trailslibrary.org
SUMMARY:Music and Movement - Warrensburg
DESCRIPTION:Get your wiggles out with dancing and singing at the library. Then you can make new friends during Free Play With Friends.
URL:https://www.trailslibrary.org/event/music-and-movement-warrensburg-11/
LOCATION:Warrensburg Branch\, 432 N. Holden\, Warrensburg\, Missouri\, 64093\, United States
CATEGORIES:Kids
END:VEVENT
BEGIN:VEVENT
DTSTART;TZID=America/New_York:20221027T100000
DTEND;TZID=America/New_York:20221027T103000
DTSTAMP:20260423T190957
CREATED:20220908T182751Z
LAST-MODIFIED:20220908T182751Z
UID:10005607-1666864800-1666866600@www.trailslibrary.org
SUMMARY:Free Play with Friends - Warrensburg
DESCRIPTION:After you’ve wiggled and giggled\, stay and play at the library with new friends and old ones.
URL:https://www.trailslibrary.org/event/free-play-with-friends-warrensburg-11/
LOCATION:Warrensburg Branch\, 432 N. Holden\, Warrensburg\, Missouri\, 64093\, United States
CATEGORIES:Kids
END:VEVENT
END:VCALENDAR