BEGIN:VCALENDAR
VERSION:2.0
PRODID:-//Trails Regional Library - ECPv6.15.20//NONSGML v1.0//EN
CALSCALE:GREGORIAN
METHOD:PUBLISH
X-ORIGINAL-URL:https://www.trailslibrary.org
X-WR-CALDESC:Events for Trails Regional Library
REFRESH-INTERVAL;VALUE=DURATION:PT1H
X-Robots-Tag:noindex
X-PUBLISHED-TTL:PT1H
BEGIN:VTIMEZONE
TZID:America/New_York
BEGIN:DAYLIGHT
TZOFFSETFROM:-0500
TZOFFSETTO:-0400
TZNAME:EDT
DTSTART:20220313T070000
END:DAYLIGHT
BEGIN:STANDARD
TZOFFSETFROM:-0400
TZOFFSETTO:-0500
TZNAME:EST
DTSTART:20221106T060000
END:STANDARD
BEGIN:DAYLIGHT
TZOFFSETFROM:-0500
TZOFFSETTO:-0400
TZNAME:EDT
DTSTART:20230312T070000
END:DAYLIGHT
BEGIN:STANDARD
TZOFFSETFROM:-0400
TZOFFSETTO:-0500
TZNAME:EST
DTSTART:20231105T060000
END:STANDARD
BEGIN:DAYLIGHT
TZOFFSETFROM:-0500
TZOFFSETTO:-0400
TZNAME:EDT
DTSTART:20240310T070000
END:DAYLIGHT
BEGIN:STANDARD
TZOFFSETFROM:-0400
TZOFFSETTO:-0500
TZNAME:EST
DTSTART:20241103T060000
END:STANDARD
END:VTIMEZONE
BEGIN:VEVENT
DTSTART;TZID=America/New_York:20230107T100000
DTEND;TZID=America/New_York:20230107T103000
DTSTAMP:20260423T084237
CREATED:20230113T221109Z
LAST-MODIFIED:20230113T221109Z
UID:10005951-1673085600-1673087400@www.trailslibrary.org
SUMMARY:Storytime with Granny - Warrensburg
DESCRIPTION:Saturday Storytime: Meet up in the Children’s area for stories\, music\, dancing\, and of course\, bubbles!
URL:https://www.trailslibrary.org/event/storytime-with-granny-warrensburg-2/
LOCATION:Warrensburg Branch\, 432 N. Holden\, Warrensburg\, Missouri\, 64093\, United States
CATEGORIES:Kids
END:VEVENT
BEGIN:VEVENT
DTSTART;TZID=America/New_York:20230114T110000
DTEND;TZID=America/New_York:20230114T130000
DTSTAMP:20260423T084237
CREATED:20230113T221822Z
LAST-MODIFIED:20230113T221822Z
UID:10005799-1673694000-1673701200@www.trailslibrary.org
SUMMARY:Matinee at the Library - Holden
DESCRIPTION:Baby it’s cold outside! Come warm up with a matinee at the Library!
URL:https://www.trailslibrary.org/event/matinee-at-the-library-holden-2/
LOCATION:Holden Branch\, 207 S. Main\, Holden\, MO\, 64040\, United States
CATEGORIES:Family,Kids
END:VEVENT
BEGIN:VEVENT
DTSTART;TZID=America/New_York:20230118T150000
DTEND;TZID=America/New_York:20230118T160000
DTSTAMP:20260423T084237
CREATED:20230113T221821Z
LAST-MODIFIED:20230113T221821Z
UID:10004938-1674054000-1674057600@www.trailslibrary.org
SUMMARY:Early Out Wednesday Craftivity - Knob Noster
DESCRIPTION:Registration Required. This is your chance to learn to cross-stitch! Learn the basics and make a cute corner bookmark to take home.
URL:https://www.trailslibrary.org/event/early-out-wednesday-craftivity-knob-noster-3/
LOCATION:Knob Noster Branch\, 202 N. Adams\, Knob Noster\, MO\, 65336\, United States
CATEGORIES:Kids
END:VEVENT
BEGIN:VEVENT
DTSTART;TZID=America/New_York:20230119T093000
DTEND;TZID=America/New_York:20230119T100000
DTSTAMP:20260423T084237
CREATED:20230113T221110Z
LAST-MODIFIED:20230113T221110Z
UID:10005940-1674120600-1674122400@www.trailslibrary.org
SUMMARY:Music and Movement - Warrensburg
DESCRIPTION:Get your wiggles out with dancing and singing at the library. Then you can make new friends during Free Play With Friends.
URL:https://www.trailslibrary.org/event/music-and-movement-warrensburg-24/
LOCATION:Warrensburg Branch\, 432 N. Holden\, Warrensburg\, Missouri\, 64093\, United States
CATEGORIES:Kids
END:VEVENT
BEGIN:VEVENT
DTSTART;TZID=America/New_York:20230119T100000
DTEND;TZID=America/New_York:20230119T103000
DTSTAMP:20260423T084237
CREATED:20230113T221110Z
LAST-MODIFIED:20230113T221110Z
UID:10005929-1674122400-1674124200@www.trailslibrary.org
SUMMARY:Free Play with Friends - Warrensburg
DESCRIPTION:After you’ve wiggled and giggled\, stay and play at the library with new friends and old ones.
URL:https://www.trailslibrary.org/event/free-play-with-friends-warrensburg-24/
LOCATION:Warrensburg Branch\, 432 N. Holden\, Warrensburg\, Missouri\, 64093\, United States
CATEGORIES:Kids
END:VEVENT
BEGIN:VEVENT
DTSTART;TZID=America/New_York:20230119T161500
DTEND;TZID=America/New_York:20230119T173000
DTSTAMP:20260423T084237
CREATED:20230113T221245Z
LAST-MODIFIED:20230113T221245Z
UID:10005844-1674144900-1674149400@www.trailslibrary.org
SUMMARY:Third Thursday Fun and Games - Leeton Express
DESCRIPTION:“Pop” in and celebrate National Popcorn Day with Mrs. Schuler and Leeton Boys & Girls Club. We will have different popcorn stations to explore and wrap things up with popcorn and a movie!
URL:https://www.trailslibrary.org/event/third-thursday-fun-and-games-leeton-express-6/
LOCATION:Leeton Express Branch\, 500 N. Main\, Leeton\, MO\, 64761\, United States
CATEGORIES:Kids
END:VEVENT
BEGIN:VEVENT
DTSTART;TZID=America/New_York:20230123T163000
DTEND;TZID=America/New_York:20230123T173000
DTSTAMP:20260423T084237
CREATED:20230113T221235Z
LAST-MODIFIED:20230120T205606Z
UID:10005904-1674491400-1674495000@www.trailslibrary.org
SUMMARY:Power Up! - Odessa
DESCRIPTION:Tweens\, 9-12\, explore our gaming library and use your skills for an afternoon of fun and friendly competition.
URL:https://www.trailslibrary.org/event/power-up-odessa/
LOCATION:Odessa Branch\, 107 W. Mason\, Odessa\, MO\, 64076\, United States
CATEGORIES:Kids
END:VEVENT
BEGIN:VEVENT
DTSTART;TZID=America/New_York:20230125T154500
DTEND;TZID=America/New_York:20230125T164500
DTSTAMP:20260423T084237
CREATED:20230113T221244Z
LAST-MODIFIED:20230113T221244Z
UID:10005854-1674661500-1674665100@www.trailslibrary.org
SUMMARY:Fun Pinecone Bird Feeder - Lexington
DESCRIPTION:Kids – Hungry backyard birds? Let’s make a pinecone feeder that will make them happy! We’ll enjoy a story\, craft\, and a snack. Bring a friend for more fun!
URL:https://www.trailslibrary.org/event/fun-pinecone-bird-feeder-lexington/
LOCATION:Lexington Branch\, 1008 Main Street\, Lexington\, MO\, 64067\, United States
CATEGORIES:Kids
END:VEVENT
BEGIN:VEVENT
DTSTART;TZID=America/New_York:20230126T093000
DTEND;TZID=America/New_York:20230126T100000
DTSTAMP:20260423T084237
CREATED:20230113T221109Z
LAST-MODIFIED:20230113T221109Z
UID:10005942-1674725400-1674727200@www.trailslibrary.org
SUMMARY:Music and Movement - Warrensburg
DESCRIPTION:Get your wiggles out with dancing and singing at the library. Then you can make new friends during Free Play With Friends.
URL:https://www.trailslibrary.org/event/music-and-movement-warrensburg-23/
LOCATION:Warrensburg Branch\, 432 N. Holden\, Warrensburg\, Missouri\, 64093\, United States
CATEGORIES:Kids
END:VEVENT
BEGIN:VEVENT
DTSTART;TZID=America/New_York:20230126T100000
DTEND;TZID=America/New_York:20230126T103000
DTSTAMP:20260423T084237
CREATED:20230113T221110Z
LAST-MODIFIED:20230113T221110Z
UID:10005930-1674727200-1674729000@www.trailslibrary.org
SUMMARY:Free Play with Friends - Warrensburg
DESCRIPTION:After you’ve wiggled and giggled\, stay and play at the library with new friends and old ones.
URL:https://www.trailslibrary.org/event/free-play-with-friends-warrensburg-23/
LOCATION:Warrensburg Branch\, 432 N. Holden\, Warrensburg\, Missouri\, 64093\, United States
CATEGORIES:Kids
END:VEVENT
BEGIN:VEVENT
DTSTART;TZID=America/New_York:20230126T103000
DTEND;TZID=America/New_York:20230126T113000
DTSTAMP:20260423T084237
CREATED:20230113T221913Z
LAST-MODIFIED:20230113T221913Z
UID:10005774-1674729000-1674732600@www.trailslibrary.org
SUMMARY:STEAM Explorations: Healthy Nutrition for Kids - Holden
DESCRIPTION:Kids – This STEAM series utilizes Trails STEAM kits & teaches Healthy Nutrition for kids.
URL:https://www.trailslibrary.org/event/steam-explorations-healthy-nutrition-for-kids-holden/
LOCATION:Holden Branch\, 207 S. Main\, Holden\, MO\, 64040\, United States
CATEGORIES:Kids
END:VEVENT
BEGIN:VEVENT
DTSTART;TZID=America/New_York:20230127T153000
DTEND;TZID=America/New_York:20230127T163000
DTSTAMP:20260423T084237
CREATED:20230113T221628Z
LAST-MODIFIED:20230113T221628Z
UID:10005828-1674833400-1674837000@www.trailslibrary.org
SUMMARY:Pressed Flower Leaf Luminaries - Knob Noster
DESCRIPTION:Ages 11-18 years old – Registration Required. Light up the dreary winter days with this lovely luminary!
URL:https://www.trailslibrary.org/event/pressed-flower-leaf-luminaries-knob-noster/
LOCATION:Knob Noster Branch\, 202 N. Adams\, Knob Noster\, MO\, 65336\, United States
CATEGORIES:Kids,Teens
END:VEVENT
END:VCALENDAR