BEGIN:VCALENDAR
VERSION:2.0
PRODID:-//Trails Regional Library - ECPv6.15.20//NONSGML v1.0//EN
CALSCALE:GREGORIAN
METHOD:PUBLISH
X-ORIGINAL-URL:https://www.trailslibrary.org
X-WR-CALDESC:Events for Trails Regional Library
REFRESH-INTERVAL;VALUE=DURATION:PT1H
X-Robots-Tag:noindex
X-PUBLISHED-TTL:PT1H
BEGIN:VTIMEZONE
TZID:America/New_York
BEGIN:DAYLIGHT
TZOFFSETFROM:-0500
TZOFFSETTO:-0400
TZNAME:EDT
DTSTART:20220313T070000
END:DAYLIGHT
BEGIN:STANDARD
TZOFFSETFROM:-0400
TZOFFSETTO:-0500
TZNAME:EST
DTSTART:20221106T060000
END:STANDARD
BEGIN:DAYLIGHT
TZOFFSETFROM:-0500
TZOFFSETTO:-0400
TZNAME:EDT
DTSTART:20230312T070000
END:DAYLIGHT
BEGIN:STANDARD
TZOFFSETFROM:-0400
TZOFFSETTO:-0500
TZNAME:EST
DTSTART:20231105T060000
END:STANDARD
BEGIN:DAYLIGHT
TZOFFSETFROM:-0500
TZOFFSETTO:-0400
TZNAME:EDT
DTSTART:20240310T070000
END:DAYLIGHT
BEGIN:STANDARD
TZOFFSETFROM:-0400
TZOFFSETTO:-0500
TZNAME:EST
DTSTART:20241103T060000
END:STANDARD
END:VTIMEZONE
BEGIN:VEVENT
DTSTART;TZID=America/New_York:20231101T100000
DTEND;TZID=America/New_York:20231101T103000
DTSTAMP:20260420T020659
CREATED:20230818T200504Z
LAST-MODIFIED:20230818T200504Z
UID:10005574-1698832800-1698834600@www.trailslibrary.org
SUMMARY:Story Time - Corder
DESCRIPTION:Ages: 3-5: Storytimes are for building pre-reading skills\, making friends and having fun!
URL:https://www.trailslibrary.org/event/story-time-corder-9/
LOCATION:Corder Branch\, 221 N. Lafayette\, Corder\, MO\, 64021\, United States
CATEGORIES:Children,Kids,Preschool,Storytime
END:VEVENT
BEGIN:VEVENT
DTSTART;TZID=America/New_York:20231101T100000
DTEND;TZID=America/New_York:20231101T103000
DTSTAMP:20260420T020659
CREATED:20230820T042724Z
LAST-MODIFIED:20230820T042724Z
UID:10006850-1698832800-1698834600@www.trailslibrary.org
SUMMARY:Storytime - Lexington
DESCRIPTION:Ages 0-5: Bring your little ones for storytime! Each week we read\, sing\, play and learn\, all while developing early literacy skills.
URL:https://www.trailslibrary.org/event/storytime-lexington-76/
LOCATION:Lexington Branch\, 1008 Main Street\, Lexington\, MO\, 64067\, United States
CATEGORIES:Children,Kids,Preschool,Storytime
END:VEVENT
BEGIN:VEVENT
DTSTART;TZID=America/New_York:20231101T100000
DTEND;TZID=America/New_York:20231101T103000
DTSTAMP:20260420T020659
CREATED:20230820T045730Z
LAST-MODIFIED:20230820T055215Z
UID:10005793-1698832800-1698834600@www.trailslibrary.org
SUMMARY:Storytots - Knob Noster
DESCRIPTION:Ages 0-3: Introduce your tot to the library through songs\, fingerplays\, and books!
URL:https://www.trailslibrary.org/event/storytots-knob-noster-29/
LOCATION:Knob Noster Branch\, 202 N. Adams\, Knob Noster\, MO\, 65336\, United States
CATEGORIES:Children,Kids,Storytime
END:VEVENT
BEGIN:VEVENT
DTSTART;TZID=America/New_York:20231101T100000
DTEND;TZID=America/New_York:20231101T103000
DTSTAMP:20260420T020659
CREATED:20230820T065215Z
LAST-MODIFIED:20230820T065215Z
UID:10006999-1698832800-1698834600@www.trailslibrary.org
SUMMARY:Storytime - Holden
DESCRIPTION:Ages 0-5: Come listen to a story at the library and do a craft.
URL:https://www.trailslibrary.org/event/storytime-holden-96/
LOCATION:Holden Branch\, 207 S. Main\, Holden\, MO\, 64040\, United States
CATEGORIES:Children,Kids,Preschool,Storytime
END:VEVENT
BEGIN:VEVENT
DTSTART;TZID=America/New_York:20231101T100000
DTEND;TZID=America/New_York:20231101T104500
DTSTAMP:20260420T020659
CREATED:20230818T212652Z
LAST-MODIFIED:20230818T212652Z
UID:10005706-1698832800-1698835500@www.trailslibrary.org
SUMMARY:Storytime - Odessa
DESCRIPTION:Ages 0-5: Storytimes focus on building pre-reading skills\, making friends\, and having fun!
URL:https://www.trailslibrary.org/event/storytime-odessa-45/
LOCATION:Odessa Branch\, 107 W. Mason\, Odessa\, MO\, 64076\, United States
CATEGORIES:Children,Kids,Preschool,Storytime,Toddlers
END:VEVENT
BEGIN:VEVENT
DTSTART;TZID=America/New_York:20231101T103000
DTEND;TZID=America/New_York:20231101T110000
DTSTAMP:20260420T020659
CREATED:20230820T042558Z
LAST-MODIFIED:20230820T042558Z
UID:10005731-1698834600-1698836400@www.trailslibrary.org
SUMMARY:Stay and Play - Lexington
DESCRIPTION:Ages 0-5: Stay and play after storytime to get your wiggles out! Have some fun\, play games\, and make new friends!
URL:https://www.trailslibrary.org/event/stay-and-play-lexington-19/
LOCATION:Lexington Branch\, 1008 Main Street\, Lexington\, MO\, 64067\, United States
CATEGORIES:Children,Kids,Preschool
END:VEVENT
BEGIN:VEVENT
DTSTART;TZID=America/New_York:20231101T103000
DTEND;TZID=America/New_York:20231101T110000
DTSTAMP:20260420T020659
CREATED:20230820T045038Z
LAST-MODIFIED:20230820T054930Z
UID:10006872-1698834600-1698836400@www.trailslibrary.org
SUMMARY:Kid Connection - Knob Noster
DESCRIPTION:Ages 0-5: Kiddos! Come play and hang out\, make new friends\, and see all the library has to offer!
URL:https://www.trailslibrary.org/event/kid-connection-knob-noster-9/
LOCATION:Knob Noster Branch\, 202 N. Adams\, Knob Noster\, MO\, 65336\, United States
CATEGORIES:Children,Kids,Preschool,Storytime
END:VEVENT
BEGIN:VEVENT
DTSTART;TZID=America/New_York:20231101T103000
DTEND;TZID=America/New_York:20231101T110000
DTSTAMP:20260420T020659
CREATED:20230820T065029Z
LAST-MODIFIED:20230820T065029Z
UID:10005886-1698834600-1698836400@www.trailslibrary.org
SUMMARY:Stay & Play - Holden
DESCRIPTION:Ages 0-5: Stay after storytime and play with your friends. Enjoy the library’s resources and toys.
URL:https://www.trailslibrary.org/event/stay-play-holden-9/
LOCATION:Holden Branch\, 207 S. Main\, Holden\, MO\, 64040\, United States
CATEGORIES:Children,Kids,Preschool
END:VEVENT
BEGIN:VEVENT
DTSTART;TZID=America/New_York:20231101T110000
DTEND;TZID=America/New_York:20231101T120000
DTSTAMP:20260420T020659
CREATED:20230820T045608Z
LAST-MODIFIED:20230820T055045Z
UID:10006885-1698836400-1698840000@www.trailslibrary.org
SUMMARY:Preschool Storytime - Knob Noster
DESCRIPTION:Ages 3-5: Bring your preschoolers for stories\, crafts\, songs and bubbles to encourage growth in literacy!
URL:https://www.trailslibrary.org/event/preschool-storytime-knob-noster-31/
LOCATION:Knob Noster Branch\, 202 N. Adams\, Knob Noster\, MO\, 65336\, United States
CATEGORIES:Children,Kids,Preschool
END:VEVENT
BEGIN:VEVENT
DTSTART;TZID=America/New_York:20231101T163000
DTEND;TZID=America/New_York:20231101T180000
DTSTAMP:20260420T020659
CREATED:20230820T063831Z
LAST-MODIFIED:20230820T063831Z
UID:10005812-1698856200-1698861600@www.trailslibrary.org
SUMMARY:Libraries Got Game - Warrensburg
DESCRIPTION:All Ages: Get BOARD at the library with your family and friends! Fun and exciting board and XL games.
URL:https://www.trailslibrary.org/event/libraries-got-game-warrensburg-33/
LOCATION:Warrensburg Branch\, 432 N. Holden\, Warrensburg\, Missouri\, 64093\, United States
CATEGORIES:Adult,Adults,All Ages,Children,Family,Kids,preteens,senior,Seniors,Teen,Teens,Youth
END:VEVENT
BEGIN:VEVENT
DTSTART;TZID=America/New_York:20231102T093000
DTEND;TZID=America/New_York:20231102T100000
DTSTAMP:20260420T020659
CREATED:20230820T063931Z
LAST-MODIFIED:20230820T063931Z
UID:10006934-1698917400-1698919200@www.trailslibrary.org
SUMMARY:Music & Movement - Warrensburg
DESCRIPTION:Ages 0-5: Join us to get your wiggles our with singing and dancing. Children will use a variety of musical instruments to increase sensory development\, coordination\, literacy & numeracy skills
URL:https://www.trailslibrary.org/event/music-movement-warrensburg-9/
LOCATION:Warrensburg Branch\, 432 N. Holden\, Warrensburg\, Missouri\, 64093\, United States
CATEGORIES:Children,Kids,Pre-School,Preschool,Toddlers
END:VEVENT
BEGIN:VEVENT
DTSTART;TZID=America/New_York:20231102T100000
DTEND;TZID=America/New_York:20231102T103000
DTSTAMP:20260420T020659
CREATED:20230820T064231Z
LAST-MODIFIED:20230820T064231Z
UID:10005864-1698919200-1698921000@www.trailslibrary.org
SUMMARY:Stay Play and Learn - Warrensburg
DESCRIPTION:Ages 0-5: Stay after Music and Moverment to play and learn with your friends. Activities will focus on improving language\, fine and gross motor skills\, develop social skills and aid with cognitive development.
URL:https://www.trailslibrary.org/event/stay-play-and-learn-warrensburg-9/
LOCATION:Warrensburg Branch\, 432 N. Holden\, Warrensburg\, Missouri\, 64093\, United States
CATEGORIES:Children,Kids,Pre-School,Preschool,Toddlers
END:VEVENT
BEGIN:VEVENT
DTSTART;TZID=America/New_York:20231104T100000
DTEND;TZID=America/New_York:20231104T110000
DTSTAMP:20260420T020659
CREATED:20230818T201044Z
LAST-MODIFIED:20230818T201044Z
UID:10006741-1699092000-1699095600@www.trailslibrary.org
SUMMARY:Saturday Storytime & Craft - Leeton Express Branch
DESCRIPTION:All Ages: Join us on the 1st Saturday of the month at 10 AM for Storytime
URL:https://www.trailslibrary.org/event/saturday-storytime-craft-leeton-express-branch-3/
LOCATION:Leeton Express Branch\, 500 N. Main\, Leeton\, MO\, 64761\, United States
CATEGORIES:Children,Kids,Preschool,Storytime
END:VEVENT
BEGIN:VEVENT
DTSTART;TZID=America/New_York:20231104T100000
DTEND;TZID=America/New_York:20231104T110000
DTSTAMP:20260420T020659
CREATED:20230818T201433Z
LAST-MODIFIED:20230820T063715Z
UID:10005683-1699092000-1699095600@www.trailslibrary.org
SUMMARY:Flapjacks and Funnies - Warrensburg
DESCRIPTION:All Ages: Come join us for classic cartoons and a bite of breakfast.
URL:https://www.trailslibrary.org/event/flapjacks-and-funnies-warrensburg-3/
LOCATION:Warrensburg Branch\, 432 N. Holden\, Warrensburg\, Missouri\, 64093\, United States
CATEGORIES:Adult,Adults,All Ages,Children,Family,Kids,preteens,senior,Seniors,Teen,Teens,Youth
END:VEVENT
BEGIN:VEVENT
DTSTART;TZID=America/New_York:20231104T110000
DTEND;TZID=America/New_York:20231104T130000
DTSTAMP:20260420T020659
CREATED:20230818T200726Z
LAST-MODIFIED:20230820T064713Z
UID:10006696-1699095600-1699102800@www.trailslibrary.org
SUMMARY:Family Movie Matinee - Holden
DESCRIPTION:All Ages: Come to the library and enjoy a family friendly movie.
URL:https://www.trailslibrary.org/event/family-movie-matinee-holden-4/
LOCATION:Holden Branch\, 207 S. Main\, Holden\, MO\, 64040\, United States
CATEGORIES:Adult,Adults,All Ages,Children,Family,Kids,senior,Seniors,Teen,Teens
END:VEVENT
BEGIN:VEVENT
DTSTART;TZID=America/New_York:20231104T110000
DTEND;TZID=America/New_York:20231104T130000
DTSTAMP:20260420T020659
CREATED:20230818T201044Z
LAST-MODIFIED:20230818T201044Z
UID:10006742-1699095600-1699102800@www.trailslibrary.org
SUMMARY:Saturday Cinema - Leeton Express Branch
DESCRIPTION:All Ages: Join us on the 1st Saturday of the month at 11 AM for a family friendly movie. Bring a friend and a drink with a lid. We will provide the popcorn!
URL:https://www.trailslibrary.org/event/saturday-cinema-leeton-express-branch-3/
LOCATION:Leeton Express Branch\, 500 N. Main\, Leeton\, MO\, 64761\, United States
CATEGORIES:Adult,Adults,All Ages,Children,Family,Kids,Movie,Teens
END:VEVENT
BEGIN:VEVENT
DTSTART;TZID=America/New_York:20231104T140000
DTEND;TZID=America/New_York:20231104T150000
DTSTAMP:20260420T020659
CREATED:20230818T201403Z
LAST-MODIFIED:20230820T063646Z
UID:10006790-1699106400-1699110000@www.trailslibrary.org
SUMMARY:Crafting around the world - Warrensburg
DESCRIPTION:All Ages: Discover the history and create crafts from varies locations around the world
URL:https://www.trailslibrary.org/event/crafting-around-the-world-warrensburg/
LOCATION:Warrensburg Branch\, 432 N. Holden\, Warrensburg\, Missouri\, 64093\, United States
CATEGORIES:Adult,Adults,All Ages,Children,Crafts,Family,Kids,preteens,senior,Seniors,Teen,Teens,Youth
END:VEVENT
BEGIN:VEVENT
DTSTART;TZID=America/New_York:20231106T100000
DTEND;TZID=America/New_York:20231106T103000
DTSTAMP:20260420T020659
CREATED:20230818T201533Z
LAST-MODIFIED:20230917T051433Z
UID:10006813-1699264800-1699266600@www.trailslibrary.org
SUMMARY:Story Time - Waverly
DESCRIPTION:Ages 0-5: Let’s foster early literacy by talking\, playing music\, reading \, writing and playing together.
URL:https://www.trailslibrary.org/event/story-time-waverly-12/
LOCATION:Waverly Branch\, 203 E. Kelling\, Waverly\, MO\, 64096\, United States
CATEGORIES:Children,Kids,Pre-School,Preschool,Storytime,Toddlers
END:VEVENT
BEGIN:VEVENT
DTSTART;TZID=America/New_York:20231106T140000
DTEND;TZID=America/New_York:20231106T160000
DTSTAMP:20260420T020659
CREATED:20230818T201504Z
LAST-MODIFIED:20230917T051403Z
UID:10006805-1699279200-1699286400@www.trailslibrary.org
SUMMARY:Pinecone Turkey Craft  - Waverly
DESCRIPTION:All Ages: School is out for the day! Come and make a craft!
URL:https://www.trailslibrary.org/event/pinecone-turkey-craft-waverly/
LOCATION:Waverly Branch\, 203 E. Kelling\, Waverly\, MO\, 64096\, United States
CATEGORIES:Adult,Adults,All Ages,Children,Crafts,Family,Kids,preteens,senior,Seniors,Teen,Teens,Youth
END:VEVENT
BEGIN:VEVENT
DTSTART;TZID=America/New_York:20231106T160000
DTEND;TZID=America/New_York:20231106T160000
DTSTAMP:20260420T020659
CREATED:20230818T201210Z
LAST-MODIFIED:20230830T152050Z
UID:10006755-1699286400-1699286400@www.trailslibrary.org
SUMMARY:Handful Of Thankfulness - Odessa
DESCRIPTION:Ages 5-8: Let’s learn about being thankful and create your own hands of gratitude.
URL:https://www.trailslibrary.org/event/handful-of-thankfulness-odessa/
LOCATION:Odessa Branch\, 107 W. Mason\, Odessa\, MO\, 64076\, United States
CATEGORIES:Children,Craft,Kids,Preschool,Toddlers
END:VEVENT
BEGIN:VEVENT
DTSTART;TZID=America/New_York:20231107T090000
DTEND;TZID=America/New_York:20231107T100000
DTSTAMP:20260420T020659
CREATED:20230818T201448Z
LAST-MODIFIED:20230820T063730Z
UID:10005697-1699347600-1699351200@www.trailslibrary.org
SUMMARY:Get Hooked - Warrensburg
DESCRIPTION:All Ages: Get Hooked! Come join us for tips and tricks\, learn how to crochet or knit.
URL:https://www.trailslibrary.org/event/get-hooked-warrensburg-18/
LOCATION:Warrensburg Branch\, 432 N. Holden\, Warrensburg\, Missouri\, 64093\, United States
CATEGORIES:Adult,Adults,All Ages,Children,Crafts,Family,Kids,preteens,senior,Seniors,Teen,Teens,Youth
END:VEVENT
BEGIN:VEVENT
DTSTART;TZID=America/New_York:20231107T100000
DTEND;TZID=America/New_York:20231107T103000
DTSTAMP:20260420T020659
CREATED:20230818T155240Z
LAST-MODIFIED:20230818T155523Z
UID:10006647-1699351200-1699353000@www.trailslibrary.org
SUMMARY:Storytime - Concordia
DESCRIPTION:Ages 0-5: Storytimes are for building pre-reading skills\, making friends and having fun!
URL:https://www.trailslibrary.org/event/storytime-13/
LOCATION:Concordia Branch\, 813 S Main\, Concordia\, MO\, 64020\, United States
CATEGORIES:Children,Kids,Preschool,Storytime
END:VEVENT
BEGIN:VEVENT
DTSTART;TZID=America/New_York:20231107T100000
DTEND;TZID=America/New_York:20231107T103000
DTSTAMP:20260420T020659
CREATED:20230820T064132Z
LAST-MODIFIED:20230820T064132Z
UID:10006962-1699351200-1699353000@www.trailslibrary.org
SUMMARY:Preschool Storytime - Warrensburg
DESCRIPTION:Ages 0-5: Storytime: Meet up for stories\, music\, dancing\, and of course\, bubbles!
URL:https://www.trailslibrary.org/event/preschool-storytime-warrensburg-44/
LOCATION:Warrensburg Branch\, 432 N. Holden\, Warrensburg\, Missouri\, 64093\, United States
CATEGORIES:Children,Kids,Preschool,Storytime
END:VEVENT
BEGIN:VEVENT
DTSTART;TZID=America/New_York:20231107T100000
DTEND;TZID=America/New_York:20231107T103000
DTSTAMP:20260420T020659
CREATED:20230820T065453Z
LAST-MODIFIED:20230820T065453Z
UID:10005922-1699351200-1699353000@www.trailslibrary.org
SUMMARY:Storytime
DESCRIPTION:Ages 0-5: Storytimes are for building pre-reading skills\, making friends and having fun!
URL:https://www.trailslibrary.org/event/storytime-29/
LOCATION:Concordia Branch\, 813 S Main\, Concordia\, MO\, 64020\, United States
CATEGORIES:Children,Kids,Preschool,Storytime
END:VEVENT
BEGIN:VEVENT
DTSTART;TZID=America/New_York:20231107T103000
DTEND;TZID=America/New_York:20231107T110000
DTSTAMP:20260420T020659
CREATED:20230820T064046Z
LAST-MODIFIED:20230820T064046Z
UID:10006945-1699353000-1699354800@www.trailslibrary.org
SUMMARY:Preschool Craftime - Warrensburg
DESCRIPTION:Ages 0-5: Stay after storytime to make a themed craft with Miss Amy.
URL:https://www.trailslibrary.org/event/preschool-craftime-warrensburg-9/
LOCATION:Warrensburg Branch\, 432 N. Holden\, Warrensburg\, Missouri\, 64093\, United States
CATEGORIES:Children,Craft,Crafts,Kids,Preschool
END:VEVENT
BEGIN:VEVENT
DTSTART;TZID=America/New_York:20231108T100000
DTEND;TZID=America/New_York:20231108T103000
DTSTAMP:20260420T020659
CREATED:20230818T200505Z
LAST-MODIFIED:20230818T200505Z
UID:10005576-1699437600-1699439400@www.trailslibrary.org
SUMMARY:Story Time - Corder
DESCRIPTION:Ages: 3-5: Storytimes are for building pre-reading skills\, making friends and having fun!
URL:https://www.trailslibrary.org/event/story-time-corder-10/
LOCATION:Corder Branch\, 221 N. Lafayette\, Corder\, MO\, 64021\, United States
CATEGORIES:Children,Kids,Preschool,Storytime
END:VEVENT
BEGIN:VEVENT
DTSTART;TZID=America/New_York:20231108T100000
DTEND;TZID=America/New_York:20231108T103000
DTSTAMP:20260420T020659
CREATED:20230820T042724Z
LAST-MODIFIED:20230820T042724Z
UID:10006851-1699437600-1699439400@www.trailslibrary.org
SUMMARY:Storytime - Lexington
DESCRIPTION:Ages 0-5: Bring your little ones for storytime! Each week we read\, sing\, play and learn\, all while developing early literacy skills.
URL:https://www.trailslibrary.org/event/storytime-lexington-77/
LOCATION:Lexington Branch\, 1008 Main Street\, Lexington\, MO\, 64067\, United States
CATEGORIES:Children,Kids,Preschool,Storytime
END:VEVENT
BEGIN:VEVENT
DTSTART;TZID=America/New_York:20231108T100000
DTEND;TZID=America/New_York:20231108T103000
DTSTAMP:20260420T020659
CREATED:20230820T045757Z
LAST-MODIFIED:20230820T055416Z
UID:10005795-1699437600-1699439400@www.trailslibrary.org
SUMMARY:Storytots - Knob Noster
DESCRIPTION:Ages 0-3: Introduce your tot to the library through songs\, fingerplays\, and books!
URL:https://www.trailslibrary.org/event/storytots-knob-noster-30/
LOCATION:Knob Noster Branch\, 202 N. Adams\, Knob Noster\, MO\, 65336\, United States
CATEGORIES:Children,Kids,Storytime
END:VEVENT
BEGIN:VEVENT
DTSTART;TZID=America/New_York:20231108T100000
DTEND;TZID=America/New_York:20231108T103000
DTSTAMP:20260420T020659
CREATED:20230820T065229Z
LAST-MODIFIED:20230820T065229Z
UID:10007000-1699437600-1699439400@www.trailslibrary.org
SUMMARY:Storytime - Holden
DESCRIPTION:Ages 0-5: Come listen to a story at the library and do a craft.
URL:https://www.trailslibrary.org/event/storytime-holden-97/
LOCATION:Holden Branch\, 207 S. Main\, Holden\, MO\, 64040\, United States
CATEGORIES:Children,Kids,Preschool,Storytime
END:VEVENT
BEGIN:VEVENT
DTSTART;TZID=America/New_York:20231108T100000
DTEND;TZID=America/New_York:20231108T104500
DTSTAMP:20260420T020659
CREATED:20230818T212653Z
LAST-MODIFIED:20230818T212653Z
UID:10005708-1699437600-1699440300@www.trailslibrary.org
SUMMARY:Storytime - Odessa
DESCRIPTION:Ages 0-5: Storytimes focus on building pre-reading skills\, making friends\, and having fun!
URL:https://www.trailslibrary.org/event/storytime-odessa-46/
LOCATION:Odessa Branch\, 107 W. Mason\, Odessa\, MO\, 64076\, United States
CATEGORIES:Children,Kids,Preschool,Storytime,Toddlers
END:VEVENT
END:VCALENDAR