BEGIN:VCALENDAR
VERSION:2.0
PRODID:-//Trails Regional Library - ECPv6.15.20//NONSGML v1.0//EN
CALSCALE:GREGORIAN
METHOD:PUBLISH
X-ORIGINAL-URL:https://www.trailslibrary.org
X-WR-CALDESC:Events for Trails Regional Library
REFRESH-INTERVAL;VALUE=DURATION:PT1H
X-Robots-Tag:noindex
X-PUBLISHED-TTL:PT1H
BEGIN:VTIMEZONE
TZID:America/New_York
BEGIN:DAYLIGHT
TZOFFSETFROM:-0500
TZOFFSETTO:-0400
TZNAME:EDT
DTSTART:20210314T070000
END:DAYLIGHT
BEGIN:STANDARD
TZOFFSETFROM:-0400
TZOFFSETTO:-0500
TZNAME:EST
DTSTART:20211107T060000
END:STANDARD
BEGIN:DAYLIGHT
TZOFFSETFROM:-0500
TZOFFSETTO:-0400
TZNAME:EDT
DTSTART:20220313T070000
END:DAYLIGHT
BEGIN:STANDARD
TZOFFSETFROM:-0400
TZOFFSETTO:-0500
TZNAME:EST
DTSTART:20221106T060000
END:STANDARD
BEGIN:DAYLIGHT
TZOFFSETFROM:-0500
TZOFFSETTO:-0400
TZNAME:EDT
DTSTART:20230312T070000
END:DAYLIGHT
BEGIN:STANDARD
TZOFFSETFROM:-0400
TZOFFSETTO:-0500
TZNAME:EST
DTSTART:20231105T060000
END:STANDARD
END:VTIMEZONE
BEGIN:VEVENT
DTSTART;TZID=America/New_York:20220722T140000
DTEND;TZID=America/New_York:20220722T150000
DTSTAMP:20260424T022053
CREATED:20220621T170103Z
LAST-MODIFIED:20220621T170103Z
UID:10004504-1658498400-1658502000@www.trailslibrary.org
SUMMARY:Under the Sea Lanterns (Ages 7-12) - Knob Noster
DESCRIPTION:Ages 7-12. Get crafty and create an ocean lantern with us at the Knob Noster branch!
URL:https://www.trailslibrary.org/event/under-the-sea-lanterns-ages-7-12-knob-noster/
LOCATION:Knob Noster Branch\, 202 N. Adams\, Knob Noster\, MO\, 65336\, United States
CATEGORIES:Kids,Pre-Teen
END:VEVENT
END:VCALENDAR