BEGIN:VCALENDAR
VERSION:2.0
PRODID:-//Trails Regional Library - ECPv6.15.20//NONSGML v1.0//EN
CALSCALE:GREGORIAN
METHOD:PUBLISH
X-ORIGINAL-URL:https://www.trailslibrary.org
X-WR-CALDESC:Events for Trails Regional Library
REFRESH-INTERVAL;VALUE=DURATION:PT1H
X-Robots-Tag:noindex
X-PUBLISHED-TTL:PT1H
BEGIN:VTIMEZONE
TZID:America/New_York
BEGIN:DAYLIGHT
TZOFFSETFROM:-0500
TZOFFSETTO:-0400
TZNAME:EDT
DTSTART:20210314T070000
END:DAYLIGHT
BEGIN:STANDARD
TZOFFSETFROM:-0400
TZOFFSETTO:-0500
TZNAME:EST
DTSTART:20211107T060000
END:STANDARD
BEGIN:DAYLIGHT
TZOFFSETFROM:-0500
TZOFFSETTO:-0400
TZNAME:EDT
DTSTART:20220313T070000
END:DAYLIGHT
BEGIN:STANDARD
TZOFFSETFROM:-0400
TZOFFSETTO:-0500
TZNAME:EST
DTSTART:20221106T060000
END:STANDARD
BEGIN:DAYLIGHT
TZOFFSETFROM:-0500
TZOFFSETTO:-0400
TZNAME:EDT
DTSTART:20230312T070000
END:DAYLIGHT
BEGIN:STANDARD
TZOFFSETFROM:-0400
TZOFFSETTO:-0500
TZNAME:EST
DTSTART:20231105T060000
END:STANDARD
END:VTIMEZONE
BEGIN:VEVENT
DTSTART;TZID=America/New_York:20221117T093000
DTEND;TZID=America/New_York:20221117T100000
DTSTAMP:20260423T133232
CREATED:20220908T182738Z
LAST-MODIFIED:20220908T182738Z
UID:10005645-1668677400-1668679200@www.trailslibrary.org
SUMMARY:Music and Movement - Warrensburg
DESCRIPTION:Get your wiggles out with dancing and singing at the library. Then you can make new friends during Free Play With Friends.
URL:https://www.trailslibrary.org/event/music-and-movement-warrensburg-8/
LOCATION:Warrensburg Branch\, 432 N. Holden\, Warrensburg\, Missouri\, 64093\, United States
CATEGORIES:Kids
END:VEVENT
BEGIN:VEVENT
DTSTART;TZID=America/New_York:20221117T100000
DTEND;TZID=America/New_York:20221117T103000
DTSTAMP:20260423T133232
CREATED:20220908T182751Z
LAST-MODIFIED:20220908T182751Z
UID:10005613-1668679200-1668681000@www.trailslibrary.org
SUMMARY:Free Play with Friends - Warrensburg
DESCRIPTION:After you’ve wiggled and giggled\, stay and play at the library with new friends and old ones.
URL:https://www.trailslibrary.org/event/free-play-with-friends-warrensburg-8/
LOCATION:Warrensburg Branch\, 432 N. Holden\, Warrensburg\, Missouri\, 64093\, United States
CATEGORIES:Kids
END:VEVENT
BEGIN:VEVENT
DTSTART;TZID=America/New_York:20221117T161500
DTEND;TZID=America/New_York:20221117T173000
DTSTAMP:20260423T133232
CREATED:20220908T182922Z
LAST-MODIFIED:20220908T182922Z
UID:10005438-1668701700-1668706200@www.trailslibrary.org
SUMMARY:Third Thursday Fun and Games - Leeton Express
DESCRIPTION:Children’s Book Week Activities at the library. We will be joined by the Leeton Boys & Girls Club Staff and students as we celebrate Family Literacy and Children’s Books! *The Scholastic Book Fair is at the library this week… great time to get those amazing holiday gifts!
URL:https://www.trailslibrary.org/event/third-thursday-fun-and-games-leeton-express-2/
LOCATION:Leeton Express Branch\, 500 N. Main\, Leeton\, MO\, 64761\, United States
CATEGORIES:Kids
END:VEVENT
END:VCALENDAR