BEGIN:VCALENDAR
VERSION:2.0
PRODID:-//Trails Regional Library - ECPv6.15.20//NONSGML v1.0//EN
CALSCALE:GREGORIAN
METHOD:PUBLISH
X-ORIGINAL-URL:https://www.trailslibrary.org
X-WR-CALDESC:Events for Trails Regional Library
REFRESH-INTERVAL;VALUE=DURATION:PT1H
X-Robots-Tag:noindex
X-PUBLISHED-TTL:PT1H
BEGIN:VTIMEZONE
TZID:America/New_York
BEGIN:DAYLIGHT
TZOFFSETFROM:-0500
TZOFFSETTO:-0400
TZNAME:EDT
DTSTART:20220313T070000
END:DAYLIGHT
BEGIN:STANDARD
TZOFFSETFROM:-0400
TZOFFSETTO:-0500
TZNAME:EST
DTSTART:20221106T060000
END:STANDARD
BEGIN:DAYLIGHT
TZOFFSETFROM:-0500
TZOFFSETTO:-0400
TZNAME:EDT
DTSTART:20230312T070000
END:DAYLIGHT
BEGIN:STANDARD
TZOFFSETFROM:-0400
TZOFFSETTO:-0500
TZNAME:EST
DTSTART:20231105T060000
END:STANDARD
BEGIN:DAYLIGHT
TZOFFSETFROM:-0500
TZOFFSETTO:-0400
TZNAME:EDT
DTSTART:20240310T070000
END:DAYLIGHT
BEGIN:STANDARD
TZOFFSETFROM:-0400
TZOFFSETTO:-0500
TZNAME:EST
DTSTART:20241103T060000
END:STANDARD
END:VTIMEZONE
BEGIN:VEVENT
DTSTART;TZID=America/New_York:20230309T093000
DTEND;TZID=America/New_York:20230309T100000
DTSTAMP:20260423T070109
CREATED:20230303T212726Z
LAST-MODIFIED:20230306T153254Z
UID:10006311-1678354200-1678356000@www.trailslibrary.org
SUMMARY:Music and Movement - Warrensburg
DESCRIPTION:Get your wiggles out with dancing and singing at the library. Then you can make new friends during Free Play With Friends.
URL:https://www.trailslibrary.org/event/music-and-movement-warrensburg-26/
LOCATION:Warrensburg Branch\, 432 N. Holden\, Warrensburg\, Missouri\, 64093\, United States
CATEGORIES:Kids
END:VEVENT
BEGIN:VEVENT
DTSTART;TZID=America/New_York:20230309T100000
DTEND;TZID=America/New_York:20230309T103000
DTSTAMP:20260423T070109
CREATED:20230303T212707Z
LAST-MODIFIED:20230306T153305Z
UID:10005215-1678356000-1678357800@www.trailslibrary.org
SUMMARY:Free Play with Friends - Warrensburg
DESCRIPTION:After you’ve wiggled and giggled\, stay and play at the library with new friends and old ones.
URL:https://www.trailslibrary.org/event/free-play-with-friends-warrensburg-26/
LOCATION:Warrensburg Branch\, 432 N. Holden\, Warrensburg\, Missouri\, 64093\, United States
CATEGORIES:Kids
END:VEVENT
BEGIN:VEVENT
DTSTART;TZID=America/New_York:20230309T173000
DTEND;TZID=America/New_York:20230309T183000
DTSTAMP:20260423T070109
CREATED:20230303T212429Z
LAST-MODIFIED:20230303T212429Z
UID:10005180-1678383000-1678386600@www.trailslibrary.org
SUMMARY:Preschool Play and Learn - Odessa
DESCRIPTION:Bring your toddlers to Play and Learn to give them an opportunity to develop their motor skills and play with other children.
URL:https://www.trailslibrary.org/event/preschool-play-and-learn-odessa-2/
LOCATION:Odessa Branch\, 107 W. Mason\, Odessa\, MO\, 64076\, United States
CATEGORIES:Kids
END:VEVENT
END:VCALENDAR