BEGIN:VCALENDAR
VERSION:2.0
PRODID:-//Trails Regional Library - ECPv6.15.20//NONSGML v1.0//EN
CALSCALE:GREGORIAN
METHOD:PUBLISH
X-ORIGINAL-URL:https://www.trailslibrary.org
X-WR-CALDESC:Events for Trails Regional Library
REFRESH-INTERVAL;VALUE=DURATION:PT1H
X-Robots-Tag:noindex
X-PUBLISHED-TTL:PT1H
BEGIN:VTIMEZONE
TZID:America/New_York
BEGIN:DAYLIGHT
TZOFFSETFROM:-0500
TZOFFSETTO:-0400
TZNAME:EDT
DTSTART:20220313T070000
END:DAYLIGHT
BEGIN:STANDARD
TZOFFSETFROM:-0400
TZOFFSETTO:-0500
TZNAME:EST
DTSTART:20221106T060000
END:STANDARD
BEGIN:DAYLIGHT
TZOFFSETFROM:-0500
TZOFFSETTO:-0400
TZNAME:EDT
DTSTART:20230312T070000
END:DAYLIGHT
BEGIN:STANDARD
TZOFFSETFROM:-0400
TZOFFSETTO:-0500
TZNAME:EST
DTSTART:20231105T060000
END:STANDARD
BEGIN:DAYLIGHT
TZOFFSETFROM:-0500
TZOFFSETTO:-0400
TZNAME:EDT
DTSTART:20240310T070000
END:DAYLIGHT
BEGIN:STANDARD
TZOFFSETFROM:-0400
TZOFFSETTO:-0500
TZNAME:EST
DTSTART:20241103T060000
END:STANDARD
END:VTIMEZONE
BEGIN:VEVENT
DTSTART;TZID=America/New_York:20230311T100000
DTEND;TZID=America/New_York:20230311T110000
DTSTAMP:20260423T084839
CREATED:20230303T184710Z
LAST-MODIFIED:20230303T210751Z
UID:10006034-1678528800-1678532400@www.trailslibrary.org
SUMMARY:Kids in the Kitchen - Concordia
DESCRIPTION:Registration required 6-9 years old – Kids in the Kitchen is a fun\, hands-on program that teaches kids basic cooking skills and encourages healthier eating. Presented by MU Extension
URL:https://www.trailslibrary.org/event/kids-in-the-kitchen-concordia-2/
LOCATION:Concordia Branch\, 813 S Main\, Concordia\, MO\, 64020\, United States
CATEGORIES:Children,Kids
END:VEVENT
BEGIN:VEVENT
DTSTART;TZID=America/New_York:20230311T110000
DTEND;TZID=America/New_York:20230311T120000
DTSTAMP:20260423T084839
CREATED:20230303T184857Z
LAST-MODIFIED:20230303T210953Z
UID:10005051-1678532400-1678536000@www.trailslibrary.org
SUMMARY:Kids in the Kitchen - Concordia
DESCRIPTION:Registration required 10-12 years old – Kids in the Kitchen is a fun\, hands-on program that teaches kids basic cooking skills and encourages healthier eating. Presented by MU Extension
URL:https://www.trailslibrary.org/event/kids-in-the-kitchen-concordia-9/
LOCATION:Concordia Branch\, 813 S Main\, Concordia\, MO\, 64020\, United States
CATEGORIES:Children,Kids,Teens
END:VEVENT
BEGIN:VEVENT
DTSTART;TZID=America/New_York:20230311T110000
DTEND;TZID=America/New_York:20230311T130000
DTSTAMP:20260423T084839
CREATED:20230303T195218Z
LAST-MODIFIED:20230303T211644Z
UID:10006099-1678532400-1678539600@www.trailslibrary.org
SUMMARY:Matinee at the Library - Holden
DESCRIPTION:Come enjoy a matinee with us!
URL:https://www.trailslibrary.org/event/matinee-at-the-library-holden-3/
LOCATION:Holden Branch\, 207 S. Main\, Holden\, MO\, 64040\, United States
CATEGORIES:Family,Kids
END:VEVENT
END:VCALENDAR