BEGIN:VCALENDAR
VERSION:2.0
PRODID:-//Trails Regional Library - ECPv6.15.20//NONSGML v1.0//EN
CALSCALE:GREGORIAN
METHOD:PUBLISH
X-WR-CALNAME:Trails Regional Library
X-ORIGINAL-URL:https://www.trailslibrary.org
X-WR-CALDESC:Events for Trails Regional Library
REFRESH-INTERVAL;VALUE=DURATION:PT1H
X-Robots-Tag:noindex
X-PUBLISHED-TTL:PT1H
BEGIN:VTIMEZONE
TZID:America/New_York
BEGIN:DAYLIGHT
TZOFFSETFROM:-0500
TZOFFSETTO:-0400
TZNAME:EDT
DTSTART:20220313T070000
END:DAYLIGHT
BEGIN:STANDARD
TZOFFSETFROM:-0400
TZOFFSETTO:-0500
TZNAME:EST
DTSTART:20221106T060000
END:STANDARD
BEGIN:DAYLIGHT
TZOFFSETFROM:-0500
TZOFFSETTO:-0400
TZNAME:EDT
DTSTART:20230312T070000
END:DAYLIGHT
BEGIN:STANDARD
TZOFFSETFROM:-0400
TZOFFSETTO:-0500
TZNAME:EST
DTSTART:20231105T060000
END:STANDARD
BEGIN:DAYLIGHT
TZOFFSETFROM:-0500
TZOFFSETTO:-0400
TZNAME:EDT
DTSTART:20240310T070000
END:DAYLIGHT
BEGIN:STANDARD
TZOFFSETFROM:-0400
TZOFFSETTO:-0500
TZNAME:EST
DTSTART:20241103T060000
END:STANDARD
END:VTIMEZONE
BEGIN:VEVENT
DTSTART;TZID=America/New_York:20230410T100000
DTEND;TZID=America/New_York:20230410T110000
DTSTAMP:20260423T024238
CREATED:20230303T211925Z
LAST-MODIFIED:20230407T195149Z
UID:10005132-1681120800-1681124400@www.trailslibrary.org
SUMMARY:Knob Noster State Park Lunchbox Investigation - Knob Noster
DESCRIPTION:What does your favorite woodland friend eat for lunch? Join us and the KNSP and find out!
URL:https://www.trailslibrary.org/event/knob-noster-state-park-lunchbox-investigation-knob-noster/
LOCATION:Knob Noster Branch\, 202 N. Adams\, Knob Noster\, MO\, 65336\, United States
CATEGORIES:Children,Kids
END:VEVENT
BEGIN:VEVENT
DTSTART;TZID=America/New_York:20230410T163000
DTEND;TZID=America/New_York:20230410T173000
DTSTAMP:20260423T024238
CREATED:20230303T212405Z
LAST-MODIFIED:20230303T212405Z
UID:10006251-1681144200-1681147800@www.trailslibrary.org
SUMMARY:Earth Day - Odessa
DESCRIPTION:Ages 5-8 years old – Registration required. Let’s celebrate Earth Day with a whale of a time while exploring reduce\, reuse and recycle in new ways.
URL:https://www.trailslibrary.org/event/earth-day-odessa/
LOCATION:Odessa Branch\, 107 W. Mason\, Odessa\, MO\, 64076\, United States
CATEGORIES:Kids
END:VEVENT
END:VCALENDAR