BEGIN:VCALENDAR
VERSION:2.0
PRODID:-//Trails Regional Library - ECPv6.15.20//NONSGML v1.0//EN
CALSCALE:GREGORIAN
METHOD:PUBLISH
X-WR-CALNAME:Trails Regional Library
X-ORIGINAL-URL:https://www.trailslibrary.org
X-WR-CALDESC:Events for Trails Regional Library
REFRESH-INTERVAL;VALUE=DURATION:PT1H
X-Robots-Tag:noindex
X-PUBLISHED-TTL:PT1H
BEGIN:VTIMEZONE
TZID:America/New_York
BEGIN:DAYLIGHT
TZOFFSETFROM:-0500
TZOFFSETTO:-0400
TZNAME:EDT
DTSTART:20220313T070000
END:DAYLIGHT
BEGIN:STANDARD
TZOFFSETFROM:-0400
TZOFFSETTO:-0500
TZNAME:EST
DTSTART:20221106T060000
END:STANDARD
BEGIN:DAYLIGHT
TZOFFSETFROM:-0500
TZOFFSETTO:-0400
TZNAME:EDT
DTSTART:20230312T070000
END:DAYLIGHT
BEGIN:STANDARD
TZOFFSETFROM:-0400
TZOFFSETTO:-0500
TZNAME:EST
DTSTART:20231105T060000
END:STANDARD
BEGIN:DAYLIGHT
TZOFFSETFROM:-0500
TZOFFSETTO:-0400
TZNAME:EDT
DTSTART:20240310T070000
END:DAYLIGHT
BEGIN:STANDARD
TZOFFSETFROM:-0400
TZOFFSETTO:-0500
TZNAME:EST
DTSTART:20241103T060000
END:STANDARD
END:VTIMEZONE
BEGIN:VEVENT
DTSTART;TZID=America/New_York:20230427T093000
DTEND;TZID=America/New_York:20230427T100000
DTSTAMP:20260423T024223
CREATED:20230303T212734Z
LAST-MODIFIED:20230306T155414Z
UID:10006321-1682587800-1682589600@www.trailslibrary.org
SUMMARY:Music and Movement - Warrensburg
DESCRIPTION:Get your wiggles out with dancing and singing at the library. Then you can make new friends during Free Play With Friends.
URL:https://www.trailslibrary.org/event/music-and-movement-warrensburg-31/
LOCATION:Warrensburg Branch\, 432 N. Holden\, Warrensburg\, Missouri\, 64093\, United States
CATEGORIES:Kids
END:VEVENT
BEGIN:VEVENT
DTSTART;TZID=America/New_York:20230427T100000
DTEND;TZID=America/New_York:20230427T103000
DTSTAMP:20260423T024223
CREATED:20230303T212722Z
LAST-MODIFIED:20230306T155424Z
UID:10006299-1682589600-1682591400@www.trailslibrary.org
SUMMARY:Free Play with Friends - Warrensburg
DESCRIPTION:After you’ve wiggled and giggled\, stay and play at the library with new friends and old ones.
URL:https://www.trailslibrary.org/event/free-play-with-friends-warrensburg-31/
LOCATION:Warrensburg Branch\, 432 N. Holden\, Warrensburg\, Missouri\, 64093\, United States
CATEGORIES:Kids
END:VEVENT
BEGIN:VEVENT
DTSTART;TZID=America/New_York:20230427T103000
DTEND;TZID=America/New_York:20230427T113000
DTSTAMP:20260423T024223
CREATED:20230303T195147Z
LAST-MODIFIED:20230303T211602Z
UID:10005087-1682591400-1682595000@www.trailslibrary.org
SUMMARY:STEAM Explorations: Rocks & Fossils - Holden
DESCRIPTION:Kids – What’s in a Rock? This STEAM Exploration program will examine rocks and fossils of our planet.
URL:https://www.trailslibrary.org/event/steam-explorations-rocks-fossils-holden/
LOCATION:Holden Branch\, 207 S. Main\, Holden\, MO\, 64040\, United States
CATEGORIES:Kids
END:VEVENT
END:VCALENDAR