BEGIN:VCALENDAR
VERSION:2.0
PRODID:-//Trails Regional Library - ECPv6.15.20//NONSGML v1.0//EN
CALSCALE:GREGORIAN
METHOD:PUBLISH
X-WR-CALNAME:Trails Regional Library
X-ORIGINAL-URL:https://www.trailslibrary.org
X-WR-CALDESC:Events for Trails Regional Library
REFRESH-INTERVAL;VALUE=DURATION:PT1H
X-Robots-Tag:noindex
X-PUBLISHED-TTL:PT1H
BEGIN:VTIMEZONE
TZID:America/New_York
BEGIN:DAYLIGHT
TZOFFSETFROM:-0500
TZOFFSETTO:-0400
TZNAME:EDT
DTSTART:20220313T070000
END:DAYLIGHT
BEGIN:STANDARD
TZOFFSETFROM:-0400
TZOFFSETTO:-0500
TZNAME:EST
DTSTART:20221106T060000
END:STANDARD
BEGIN:DAYLIGHT
TZOFFSETFROM:-0500
TZOFFSETTO:-0400
TZNAME:EDT
DTSTART:20230312T070000
END:DAYLIGHT
BEGIN:STANDARD
TZOFFSETFROM:-0400
TZOFFSETTO:-0500
TZNAME:EST
DTSTART:20231105T060000
END:STANDARD
BEGIN:DAYLIGHT
TZOFFSETFROM:-0500
TZOFFSETTO:-0400
TZNAME:EDT
DTSTART:20240310T070000
END:DAYLIGHT
BEGIN:STANDARD
TZOFFSETFROM:-0400
TZOFFSETTO:-0500
TZNAME:EST
DTSTART:20241103T060000
END:STANDARD
END:VTIMEZONE
BEGIN:VEVENT
DTSTART;TZID=America/New_York:20230607T100000
DTEND;TZID=America/New_York:20230607T103000
DTSTAMP:20260422T231519
CREATED:20230518T234819Z
LAST-MODIFIED:20230518T234819Z
UID:10006376-1686132000-1686133800@www.trailslibrary.org
SUMMARY:Crafty Storytime - Concordia
DESCRIPTION:Ages 4 and up – Storytimes for kids who are a little older and enjoy simple crafting.
URL:https://www.trailslibrary.org/event/crafty-storytime-concordia/
LOCATION:Concordia Branch\, 813 S Main\, Concordia\, MO\, 64020\, United States
CATEGORIES:Children,Kids,Preschool,Storytime
END:VEVENT
BEGIN:VEVENT
DTSTART;TZID=America/New_York:20230607T100000
DTEND;TZID=America/New_York:20230607T103000
DTSTAMP:20260422T231519
CREATED:20230518T234837Z
LAST-MODIFIED:20230518T234837Z
UID:10006388-1686132000-1686133800@www.trailslibrary.org
SUMMARY:Storytime - Corder
DESCRIPTION:Ages 0-5 – Storytime focus on building pre-reading skills\, making friends\, and having fun!
URL:https://www.trailslibrary.org/event/storytime-corder-88/
LOCATION:Corder Branch\, 221 N. Lafayette\, Corder\, MO\, 64021\, United States
CATEGORIES:Children,Kids,Preschool,Storytime
END:VEVENT
BEGIN:VEVENT
DTSTART;TZID=America/New_York:20230607T100000
DTEND;TZID=America/New_York:20230607T103000
DTSTAMP:20260422T231520
CREATED:20230518T235000Z
LAST-MODIFIED:20230518T235000Z
UID:10005294-1686132000-1686133800@www.trailslibrary.org
SUMMARY:Storytime - Holden
DESCRIPTION:Ages 0-5 – Cool off from the summer heat with Storytime! Join us for stories\, songs\, and a fun craft!
URL:https://www.trailslibrary.org/event/storytime-holden-84/
LOCATION:Holden Branch\, 207 S. Main\, Holden\, MO\, 64040\, United States
CATEGORIES:Children,Kids,Preschool,Storytime
END:VEVENT
BEGIN:VEVENT
DTSTART;TZID=America/New_York:20230607T100000
DTEND;TZID=America/New_York:20230607T103000
DTSTAMP:20260422T231520
CREATED:20230518T235102Z
LAST-MODIFIED:20230518T235102Z
UID:10006407-1686132000-1686133800@www.trailslibrary.org
SUMMARY:Storytots - Knob Noster
DESCRIPTION:Ages 0-3 – Introduce your tot to the library with us. Songs\, fingerplays\, and books aboutnd at our new storytots program!
URL:https://www.trailslibrary.org/event/storytots-knob-noster-15/
LOCATION:Knob Noster Branch\, 202 N. Adams\, Knob Noster\, MO\, 65336\, United States
CATEGORIES:Children,Kids,Preschool,Storytime
END:VEVENT
BEGIN:VEVENT
DTSTART;TZID=America/New_York:20230607T100000
DTEND;TZID=America/New_York:20230607T103000
DTSTAMP:20260422T231520
CREATED:20230518T235444Z
LAST-MODIFIED:20230518T235444Z
UID:10006422-1686132000-1686133800@www.trailslibrary.org
SUMMARY:Storytime - Lexington
DESCRIPTION:Ages 0-5 – Cool off from the summer heat with Storytime! Join us for stories\, songs\, and a fun craft!
URL:https://www.trailslibrary.org/event/storytime-lexington-62/
LOCATION:Lexington Branch\, 1008 Main Street\, Lexington\, MO\, 64067\, United States
CATEGORIES:Children,Kids,Preschool,Storytime
END:VEVENT
BEGIN:VEVENT
DTSTART;TZID=America/New_York:20230607T100000
DTEND;TZID=America/New_York:20230607T110000
DTSTAMP:20260422T231520
CREATED:20230519T000044Z
LAST-MODIFIED:20230519T000044Z
UID:10006436-1686132000-1686135600@www.trailslibrary.org
SUMMARY:Storytime - Odessa
DESCRIPTION:Ages 0-5 – Storytime focus on building pre-reading skills\, making friends\, and having fun!
URL:https://www.trailslibrary.org/event/storytime-odessa-37/
LOCATION:Odessa Branch\, 107 W. Mason\, Odessa\, MO\, 64076\, United States
CATEGORIES:Children,Kids,Preschool,Storytime
END:VEVENT
BEGIN:VEVENT
DTSTART;TZID=America/New_York:20230607T103000
DTEND;TZID=America/New_York:20230607T103000
DTSTAMP:20260422T231520
CREATED:20230518T235146Z
LAST-MODIFIED:20230518T235146Z
UID:10006411-1686133800-1686133800@www.trailslibrary.org
SUMMARY:Kids Connection - Knob Noster
DESCRIPTION:Ages 0-5 – Kiddos! Come play and hang out\, make new friends\, and see all the library has to offer!
URL:https://www.trailslibrary.org/event/kids-connection-knob-noster/
LOCATION:Knob Noster Branch\, 202 N. Adams\, Knob Noster\, MO\, 65336\, United States
CATEGORIES:Children,Kids,Preschool
END:VEVENT
BEGIN:VEVENT
DTSTART;TZID=America/New_York:20230607T103000
DTEND;TZID=America/New_York:20230607T110000
DTSTAMP:20260422T231520
CREATED:20230518T235001Z
LAST-MODIFIED:20230518T235001Z
UID:10006400-1686133800-1686135600@www.trailslibrary.org
SUMMARY:Stay and Play - Holden
DESCRIPTION:Ages 0-5 – Stay and play after Storytime to get your wiggles out! Have some fun\, play games\, and make new friends!
URL:https://www.trailslibrary.org/event/stay-and-play-holden/
LOCATION:Holden Branch\, 207 S. Main\, Holden\, MO\, 64040\, United States
CATEGORIES:Children,Kids,Preschool,Storytime
END:VEVENT
BEGIN:VEVENT
DTSTART;TZID=America/New_York:20230607T103000
DTEND;TZID=America/New_York:20230607T110000
DTSTAMP:20260422T231520
CREATED:20230518T235643Z
LAST-MODIFIED:20230518T235643Z
UID:10006426-1686133800-1686135600@www.trailslibrary.org
SUMMARY:Stay and Play - Lexington
DESCRIPTION:Ages 0-5 – Stay and play after Storytime to get your wiggles out! Have some fun\, play games\, and make new friends!
URL:https://www.trailslibrary.org/event/stay-and-play-lexington/
LOCATION:Lexington Branch\, 1008 Main Street\, Lexington\, MO\, 64067\, United States
CATEGORIES:Children,Kids,Preschool
END:VEVENT
BEGIN:VEVENT
DTSTART;TZID=America/New_York:20230607T110000
DTEND;TZID=America/New_York:20230607T113000
DTSTAMP:20260422T231520
CREATED:20230518T235147Z
LAST-MODIFIED:20230518T235147Z
UID:10006415-1686135600-1686137400@www.trailslibrary.org
SUMMARY:Preschool Storytime - Knob Noster
DESCRIPTION:Ages 3 and up – Bring your preschoolers for stories\, crafts\, songs\, and bubbles to encourage growth in literacy!
URL:https://www.trailslibrary.org/event/preschool-storytime-knob-noster-17/
LOCATION:Knob Noster Branch\, 202 N. Adams\, Knob Noster\, MO\, 65336\, United States
CATEGORIES:Children,Kids,Preschool,Storytime
END:VEVENT
BEGIN:VEVENT
DTSTART;TZID=America/New_York:20230607T140000
DTEND;TZID=America/New_York:20230607T150000
DTSTAMP:20260422T231520
CREATED:20230526T165809Z
LAST-MODIFIED:20230526T165810Z
UID:10006453-1686146400-1686150000@www.trailslibrary.org
SUMMARY:Chill Out! - Odessa Branch
DESCRIPTION:All Ages – Stay in and cool off! Spend some time inside and learn about the wonderful world outside.
URL:https://www.trailslibrary.org/event/chill-out-odessa-branch/
LOCATION:Odessa Branch\, 107 W. Mason\, Odessa\, MO\, 64076\, United States
CATEGORIES:Adult,Adults,All Ages,Children,Family,Kids,Pre-Teen,Pre-Teens,Preteen,preteens,senior,Seniors,Teen,Teens,Youth
END:VEVENT
BEGIN:VEVENT
DTSTART;TZID=America/New_York:20230607T150000
DTEND;TZID=America/New_York:20230607T180000
DTSTAMP:20260422T231520
CREATED:20230526T173936Z
LAST-MODIFIED:20230526T173937Z
UID:10006460-1686150000-1686160800@www.trailslibrary.org
SUMMARY:Tiny Art Contest - Warrensburg Branch
DESCRIPTION:All Ages – Come create your entry for the tiny art show. Pieces should focus on kindness\, inclusion and community.
URL:https://www.trailslibrary.org/event/tiny-art-contest-warrensburg-branch/
LOCATION:Warrensburg Branch\, 432 N. Holden\, Warrensburg\, Missouri\, 64093\, United States
CATEGORIES:Adult,Adults,All Ages,Children,Family,Kids,Pre-Teen,Pre-Teens,Preteen,preteens,senior,Seniors,Teen,Teens,Youth
END:VEVENT
BEGIN:VEVENT
DTSTART;TZID=America/New_York:20230607T163000
DTEND;TZID=America/New_York:20230607T180000
DTSTAMP:20260422T231520
CREATED:20230526T174832Z
LAST-MODIFIED:20230526T174833Z
UID:10006464-1686155400-1686160800@www.trailslibrary.org
SUMMARY:Libraries Got Game - Warrensburg Branch
DESCRIPTION:All ages – Get BOARD at the library with your family and friends! Fun and exciting board and XL games.
URL:https://www.trailslibrary.org/event/libraries-got-game-warrensburg-branch/
LOCATION:Warrensburg Branch\, 432 N. Holden\, Warrensburg\, Missouri\, 64093\, United States
CATEGORIES:Adult,Adults,All Ages,Children,Family,Gaming,Kids,Pre-Teen,Pre-Teens,Preteen,preteens,senior,Seniors,Teen,Teens,Youth
END:VEVENT
END:VCALENDAR