BEGIN:VCALENDAR
VERSION:2.0
PRODID:-//Trails Regional Library - ECPv6.15.20//NONSGML v1.0//EN
CALSCALE:GREGORIAN
METHOD:PUBLISH
X-WR-CALNAME:Trails Regional Library
X-ORIGINAL-URL:https://www.trailslibrary.org
X-WR-CALDESC:Events for Trails Regional Library
REFRESH-INTERVAL;VALUE=DURATION:PT1H
X-Robots-Tag:noindex
X-PUBLISHED-TTL:PT1H
BEGIN:VTIMEZONE
TZID:America/New_York
BEGIN:DAYLIGHT
TZOFFSETFROM:-0500
TZOFFSETTO:-0400
TZNAME:EDT
DTSTART:20220313T070000
END:DAYLIGHT
BEGIN:STANDARD
TZOFFSETFROM:-0400
TZOFFSETTO:-0500
TZNAME:EST
DTSTART:20221106T060000
END:STANDARD
BEGIN:DAYLIGHT
TZOFFSETFROM:-0500
TZOFFSETTO:-0400
TZNAME:EDT
DTSTART:20230312T070000
END:DAYLIGHT
BEGIN:STANDARD
TZOFFSETFROM:-0400
TZOFFSETTO:-0500
TZNAME:EST
DTSTART:20231105T060000
END:STANDARD
BEGIN:DAYLIGHT
TZOFFSETFROM:-0500
TZOFFSETTO:-0400
TZNAME:EDT
DTSTART:20240310T070000
END:DAYLIGHT
BEGIN:STANDARD
TZOFFSETFROM:-0400
TZOFFSETTO:-0500
TZNAME:EST
DTSTART:20241103T060000
END:STANDARD
END:VTIMEZONE
BEGIN:VEVENT
DTSTART;TZID=America/New_York:20230613T090000
DTEND;TZID=America/New_York:20230613T100000
DTSTAMP:20260422T231514
CREATED:20230518T235429Z
LAST-MODIFIED:20230518T235429Z
UID:10005324-1686646800-1686650400@www.trailslibrary.org
SUMMARY:Together Tuesdays - Leeton
DESCRIPTION:Children 6-12 – Join Ms. Stephanie and Ms. Sharliene at the library every Tuesday in June for Together Tuesdays.
URL:https://www.trailslibrary.org/event/together-tuesdays-leeton-2/
LOCATION:Leeton Express Branch\, 500 N. Main\, Leeton\, MO\, 64761\, United States
CATEGORIES:Children,Kids
END:VEVENT
BEGIN:VEVENT
DTSTART;TZID=America/New_York:20230613T100000
DTEND;TZID=America/New_York:20230613T103000
DTSTAMP:20260422T231514
CREATED:20230518T234822Z
LAST-MODIFIED:20230518T234822Z
UID:10006381-1686650400-1686652200@www.trailslibrary.org
SUMMARY:Bubbly Storytime for Littles - Concordia
DESCRIPTION:Ages 0-3 – Storytimes focus on building pre-reading skills\, making friends\, and having fun! We like to finish with a bubble dance!
URL:https://www.trailslibrary.org/event/bubbly-storytime-for-littles-concordia-2/
LOCATION:Concordia Branch\, 813 S Main\, Concordia\, MO\, 64020\, United States
CATEGORIES:Children,Kids,Preschool,Storytime
END:VEVENT
BEGIN:VEVENT
DTSTART;TZID=America/New_York:20230613T100000
DTEND;TZID=America/New_York:20230613T103000
DTSTAMP:20260422T231514
CREATED:20230526T184844Z
LAST-MODIFIED:20230526T184845Z
UID:10006471-1686650400-1686652200@www.trailslibrary.org
SUMMARY:Storytime in the Stacks - Warrensburg Branch
DESCRIPTION:Preschool ages 0-5 – Storytime in the Stacks: Meet up in the Children’s area for stories\, music\, dancing\, and of course\, bubbles!
URL:https://www.trailslibrary.org/event/storytime-in-the-stacks-warrensburg-branch-2/
LOCATION:Warrensburg Branch\, 432 N. Holden\, Warrensburg\, Missouri\, 64093\, United States
CATEGORIES:Children,Kids,Preschool,Storytime
END:VEVENT
BEGIN:VEVENT
DTSTART;TZID=America/New_York:20230613T150000
DTEND;TZID=America/New_York:20230613T160000
DTSTAMP:20260422T231514
CREATED:20230519T000445Z
LAST-MODIFIED:20230519T000445Z
UID:10005334-1686668400-1686672000@www.trailslibrary.org
SUMMARY:Kids in the Kitchen - Odessa
DESCRIPTION:Pre-Teens 9-12 – Registration Required. Kids in the Kitchen is a fun hands-on program offered by University of Missouri Extension that teaches kids how to prepare simple recipes and encourages them to be active and to eat healthier meals and snacks.
URL:https://www.trailslibrary.org/event/kids-in-the-kitchen-odessa-5/
LOCATION:Odessa Branch\, 107 W. Mason\, Odessa\, MO\, 64076\, United States
CATEGORIES:Children,Kids,preteens
END:VEVENT
BEGIN:VEVENT
DTSTART;TZID=America/New_York:20230613T153000
DTEND;TZID=America/New_York:20230613T163000
DTSTAMP:20260422T231514
CREATED:20230518T235048Z
LAST-MODIFIED:20230531T221032Z
UID:10006405-1686670200-1686673800@www.trailslibrary.org
SUMMARY:Storyteller's Book Club - Knob Noster
DESCRIPTION:Ages 8-18 – Registration required. This isn’t your average book club! Tweens and Teens\, join us for a fun read this summer and the chance to hone your storytelling skills!
URL:https://www.trailslibrary.org/event/storytellers-book-club-knob-noster-2/
LOCATION:Knob Noster Branch\, 202 N. Adams\, Knob Noster\, MO\, 65336\, United States
CATEGORIES:Book Clubs,Children,Kids,Teens
END:VEVENT
END:VCALENDAR