BEGIN:VCALENDAR
VERSION:2.0
PRODID:-//Trails Regional Library - ECPv6.15.20//NONSGML v1.0//EN
CALSCALE:GREGORIAN
METHOD:PUBLISH
X-WR-CALNAME:Trails Regional Library
X-ORIGINAL-URL:https://www.trailslibrary.org
X-WR-CALDESC:Events for Trails Regional Library
REFRESH-INTERVAL;VALUE=DURATION:PT1H
X-Robots-Tag:noindex
X-PUBLISHED-TTL:PT1H
BEGIN:VTIMEZONE
TZID:America/New_York
BEGIN:DAYLIGHT
TZOFFSETFROM:-0500
TZOFFSETTO:-0400
TZNAME:EDT
DTSTART:20220313T070000
END:DAYLIGHT
BEGIN:STANDARD
TZOFFSETFROM:-0400
TZOFFSETTO:-0500
TZNAME:EST
DTSTART:20221106T060000
END:STANDARD
BEGIN:DAYLIGHT
TZOFFSETFROM:-0500
TZOFFSETTO:-0400
TZNAME:EDT
DTSTART:20230312T070000
END:DAYLIGHT
BEGIN:STANDARD
TZOFFSETFROM:-0400
TZOFFSETTO:-0500
TZNAME:EST
DTSTART:20231105T060000
END:STANDARD
BEGIN:DAYLIGHT
TZOFFSETFROM:-0500
TZOFFSETTO:-0400
TZNAME:EDT
DTSTART:20240310T070000
END:DAYLIGHT
BEGIN:STANDARD
TZOFFSETFROM:-0400
TZOFFSETTO:-0500
TZNAME:EST
DTSTART:20241103T060000
END:STANDARD
END:VTIMEZONE
BEGIN:VEVENT
DTSTART;TZID=America/New_York:20230614T100000
DTEND;TZID=America/New_York:20230614T103000
DTSTAMP:20260422T231518
CREATED:20230518T234820Z
LAST-MODIFIED:20230518T234820Z
UID:10006377-1686736800-1686738600@www.trailslibrary.org
SUMMARY:Crafty Storytime- Concordia
DESCRIPTION:Ages 4 and up -Storytimes for kids who are a little older and enjoy simple crafting.
URL:https://www.trailslibrary.org/event/crafty-storytime-concordia-2/
LOCATION:Concordia Branch\, 813 S Main\, Concordia\, MO\, 64020\, United States
CATEGORIES:Children,Kids,Preschool,Storytime
END:VEVENT
BEGIN:VEVENT
DTSTART;TZID=America/New_York:20230614T100000
DTEND;TZID=America/New_York:20230614T103000
DTSTAMP:20260422T231518
CREATED:20230518T234838Z
LAST-MODIFIED:20230518T234838Z
UID:10006389-1686736800-1686738600@www.trailslibrary.org
SUMMARY:Storytime - Corder
DESCRIPTION:Ages 0-5 – Storytime focus on building pre-reading skills\, making friends\, and having fun!
URL:https://www.trailslibrary.org/event/storytime-corder-89/
LOCATION:Corder Branch\, 221 N. Lafayette\, Corder\, MO\, 64021\, United States
CATEGORIES:Children,Kids,Storytime
END:VEVENT
BEGIN:VEVENT
DTSTART;TZID=America/New_York:20230614T100000
DTEND;TZID=America/New_York:20230614T103000
DTSTAMP:20260422T231518
CREATED:20230518T235000Z
LAST-MODIFIED:20230518T235000Z
UID:10005295-1686736800-1686738600@www.trailslibrary.org
SUMMARY:Storytime - Holden
DESCRIPTION:Ages 0-5 – Cool off from the summer heat with Storytime! Join us for stories\, songs\, and a fun craft!
URL:https://www.trailslibrary.org/event/storytime-holden-85/
LOCATION:Holden Branch\, 207 S. Main\, Holden\, MO\, 64040\, United States
CATEGORIES:Children,Kids,Preschool,Storytime
END:VEVENT
BEGIN:VEVENT
DTSTART;TZID=America/New_York:20230614T100000
DTEND;TZID=America/New_York:20230614T103000
DTSTAMP:20260422T231518
CREATED:20230518T235102Z
LAST-MODIFIED:20230518T235102Z
UID:10006408-1686736800-1686738600@www.trailslibrary.org
SUMMARY:Storytots - Knob Noster
DESCRIPTION:Ages 0-3 – Introduce your tot to the library with us. Songs\, fingerplays\, and books aboutnd at our new storytots program!
URL:https://www.trailslibrary.org/event/storytots-knob-noster-16/
LOCATION:Knob Noster Branch\, 202 N. Adams\, Knob Noster\, MO\, 65336\, United States
CATEGORIES:Children,Kids,Preschool,Storytime
END:VEVENT
BEGIN:VEVENT
DTSTART;TZID=America/New_York:20230614T100000
DTEND;TZID=America/New_York:20230614T103000
DTSTAMP:20260422T231518
CREATED:20230518T235444Z
LAST-MODIFIED:20230518T235444Z
UID:10006423-1686736800-1686738600@www.trailslibrary.org
SUMMARY:Storytime - Lexington
DESCRIPTION:Ages 0-5 – Cool off from the summer heat with Storytime! Join us for stories\, songs\, and a fun craft!
URL:https://www.trailslibrary.org/event/storytime-lexington-63/
LOCATION:Lexington Branch\, 1008 Main Street\, Lexington\, MO\, 64067\, United States
CATEGORIES:Children,Kids,Preschool,Storytime
END:VEVENT
BEGIN:VEVENT
DTSTART;TZID=America/New_York:20230614T100000
DTEND;TZID=America/New_York:20230614T110000
DTSTAMP:20260422T231518
CREATED:20230519T000044Z
LAST-MODIFIED:20230519T000044Z
UID:10006437-1686736800-1686740400@www.trailslibrary.org
SUMMARY:Storytime - Odessa
DESCRIPTION:Ages 0-5 – Storytime focus on building pre-reading skills\, making friends\, and having fun!
URL:https://www.trailslibrary.org/event/storytime-odessa-38/
LOCATION:Odessa Branch\, 107 W. Mason\, Odessa\, MO\, 64076\, United States
CATEGORIES:Children,Kids,Preschool,Storytime
END:VEVENT
BEGIN:VEVENT
DTSTART;TZID=America/New_York:20230614T103000
DTEND;TZID=America/New_York:20230614T103000
DTSTAMP:20260422T231518
CREATED:20230518T235147Z
LAST-MODIFIED:20230518T235147Z
UID:10006412-1686738600-1686738600@www.trailslibrary.org
SUMMARY:Kids Connection - Knob Noster
DESCRIPTION:Ages 0-5 – Kiddos! Come play and hang out\, make new friends\, and see all the library has to offer!
URL:https://www.trailslibrary.org/event/kids-connection-knob-noster-2/
LOCATION:Knob Noster Branch\, 202 N. Adams\, Knob Noster\, MO\, 65336\, United States
CATEGORIES:Children,Kids,Preschool
END:VEVENT
BEGIN:VEVENT
DTSTART;TZID=America/New_York:20230614T103000
DTEND;TZID=America/New_York:20230614T110000
DTSTAMP:20260422T231518
CREATED:20230518T234946Z
LAST-MODIFIED:20230518T234946Z
UID:10005293-1686738600-1686740400@www.trailslibrary.org
SUMMARY:Blocks Rock Contest - Holden
DESCRIPTION:Ages 0-5 – Teams compete against each other to create colored block patterns within a timed period.
URL:https://www.trailslibrary.org/event/blocks-rock-contest-holden/
LOCATION:Holden Branch\, 207 S. Main\, Holden\, MO\, 64040\, United States
CATEGORIES:Children,Kids
END:VEVENT
BEGIN:VEVENT
DTSTART;TZID=America/New_York:20230614T103000
DTEND;TZID=America/New_York:20230614T110000
DTSTAMP:20260422T231518
CREATED:20230518T235644Z
LAST-MODIFIED:20230518T235644Z
UID:10006427-1686738600-1686740400@www.trailslibrary.org
SUMMARY:Stay and Play - Lexington
DESCRIPTION:Ages 0-5 – Stay and play after Storytime to get your wiggles out! Have some fun\, play games\, and make new friends!
URL:https://www.trailslibrary.org/event/stay-and-play-lexington-2/
LOCATION:Lexington Branch\, 1008 Main Street\, Lexington\, MO\, 64067\, United States
CATEGORIES:Children,Kids,Preschool
END:VEVENT
BEGIN:VEVENT
DTSTART;TZID=America/New_York:20230614T110000
DTEND;TZID=America/New_York:20230614T113000
DTSTAMP:20260422T231518
CREATED:20230518T235201Z
LAST-MODIFIED:20230518T235201Z
UID:10006416-1686740400-1686742200@www.trailslibrary.org
SUMMARY:Preschool Storytime - Knob Noster
DESCRIPTION:Ages 3 and up – Bring your preschoolers for stories\, crafts\, songs\, and bubbles to encourage growth in literacy!
URL:https://www.trailslibrary.org/event/preschool-storytime-knob-noster-18/
LOCATION:Knob Noster Branch\, 202 N. Adams\, Knob Noster\, MO\, 65336\, United States
CATEGORIES:Children,Kids,Preschool,Storytime
END:VEVENT
BEGIN:VEVENT
DTSTART;TZID=America/New_York:20230614T140000
DTEND;TZID=America/New_York:20230614T150000
DTSTAMP:20260422T231518
CREATED:20230526T170143Z
LAST-MODIFIED:20230526T170144Z
UID:10006454-1686751200-1686754800@www.trailslibrary.org
SUMMARY:Chill Out! - Odessa Branch
DESCRIPTION:All Ages – Stay in and cool off! Spend some time inside and learn about the wonderful world outside.
URL:https://www.trailslibrary.org/event/chill-out-odessa-branch-2/
LOCATION:Odessa Branch\, 107 W. Mason\, Odessa\, MO\, 64076\, United States
CATEGORIES:Adult,Adults,All Ages,Children,Family,Kids,Pre-Teen,Pre-Teens,Preteen,preteens,senior,Seniors,Teen,Teens,Youth
END:VEVENT
END:VCALENDAR