BEGIN:VCALENDAR
VERSION:2.0
PRODID:-//Trails Regional Library - ECPv6.15.20//NONSGML v1.0//EN
CALSCALE:GREGORIAN
METHOD:PUBLISH
X-WR-CALNAME:Trails Regional Library
X-ORIGINAL-URL:https://www.trailslibrary.org
X-WR-CALDESC:Events for Trails Regional Library
REFRESH-INTERVAL;VALUE=DURATION:PT1H
X-Robots-Tag:noindex
X-PUBLISHED-TTL:PT1H
BEGIN:VTIMEZONE
TZID:America/New_York
BEGIN:DAYLIGHT
TZOFFSETFROM:-0500
TZOFFSETTO:-0400
TZNAME:EDT
DTSTART:20220313T070000
END:DAYLIGHT
BEGIN:STANDARD
TZOFFSETFROM:-0400
TZOFFSETTO:-0500
TZNAME:EST
DTSTART:20221106T060000
END:STANDARD
BEGIN:DAYLIGHT
TZOFFSETFROM:-0500
TZOFFSETTO:-0400
TZNAME:EDT
DTSTART:20230312T070000
END:DAYLIGHT
BEGIN:STANDARD
TZOFFSETFROM:-0400
TZOFFSETTO:-0500
TZNAME:EST
DTSTART:20231105T060000
END:STANDARD
BEGIN:DAYLIGHT
TZOFFSETFROM:-0500
TZOFFSETTO:-0400
TZNAME:EDT
DTSTART:20240310T070000
END:DAYLIGHT
BEGIN:STANDARD
TZOFFSETFROM:-0400
TZOFFSETTO:-0500
TZNAME:EST
DTSTART:20241103T060000
END:STANDARD
END:VTIMEZONE
BEGIN:VEVENT
DTSTART;TZID=America/New_York:20230616T150000
DTEND;TZID=America/New_York:20230616T170000
DTSTAMP:20260422T231516
CREATED:20230518T234837Z
LAST-MODIFIED:20230518T234837Z
UID:10006386-1686927600-1686934800@www.trailslibrary.org
SUMMARY:Friday Family Film - Concordia
DESCRIPTION:All Ages – Join us for our monthly Fmily Film Friday movie selection.
URL:https://www.trailslibrary.org/event/friday-family-film-concordia/
LOCATION:Concordia Branch\, 813 S Main\, Concordia\, MO\, 64020\, United States
CATEGORIES:Adults,All Ages,Children,Family,Kids,Movies,Teen,Teens
END:VEVENT
BEGIN:VEVENT
DTSTART;TZID=America/New_York:20230616T153000
DTEND;TZID=America/New_York:20230616T163000
DTSTAMP:20260422T231516
CREATED:20230518T235401Z
LAST-MODIFIED:20230518T235401Z
UID:10005308-1686929400-1686933000@www.trailslibrary.org
SUMMARY:Fascinating Snakes - Knob Noster
DESCRIPTION:Ages 6-12 – Join us and the Knob Noster State Part to learn all about our local slithery friends: Snakes!
URL:https://www.trailslibrary.org/event/fascinating-snakes-knob-noster/
LOCATION:Knob Noster Branch\, 202 N. Adams\, Knob Noster\, MO\, 65336\, United States
CATEGORIES:Children,Kids
END:VEVENT
END:VCALENDAR