BEGIN:VCALENDAR
VERSION:2.0
PRODID:-//Trails Regional Library - ECPv6.15.20//NONSGML v1.0//EN
CALSCALE:GREGORIAN
METHOD:PUBLISH
X-ORIGINAL-URL:https://www.trailslibrary.org
X-WR-CALDESC:Events for Trails Regional Library
REFRESH-INTERVAL;VALUE=DURATION:PT1H
X-Robots-Tag:noindex
X-PUBLISHED-TTL:PT1H
BEGIN:VTIMEZONE
TZID:America/New_York
BEGIN:DAYLIGHT
TZOFFSETFROM:-0500
TZOFFSETTO:-0400
TZNAME:EDT
DTSTART:20220313T070000
END:DAYLIGHT
BEGIN:STANDARD
TZOFFSETFROM:-0400
TZOFFSETTO:-0500
TZNAME:EST
DTSTART:20221106T060000
END:STANDARD
BEGIN:DAYLIGHT
TZOFFSETFROM:-0500
TZOFFSETTO:-0400
TZNAME:EDT
DTSTART:20230312T070000
END:DAYLIGHT
BEGIN:STANDARD
TZOFFSETFROM:-0400
TZOFFSETTO:-0500
TZNAME:EST
DTSTART:20231105T060000
END:STANDARD
BEGIN:DAYLIGHT
TZOFFSETFROM:-0500
TZOFFSETTO:-0400
TZNAME:EDT
DTSTART:20240310T070000
END:DAYLIGHT
BEGIN:STANDARD
TZOFFSETFROM:-0400
TZOFFSETTO:-0500
TZNAME:EST
DTSTART:20241103T060000
END:STANDARD
END:VTIMEZONE
BEGIN:VEVENT
DTSTART;TZID=America/New_York:20230620T090000
DTEND;TZID=America/New_York:20230620T100000
DTSTAMP:20260422T231606
CREATED:20230518T235429Z
LAST-MODIFIED:20230518T235429Z
UID:10006420-1687251600-1687255200@www.trailslibrary.org
SUMMARY:Together Tuesdays - Leeton
DESCRIPTION:Children 6-12 – Join Ms. Stephanie and Ms. Sharliene at the library every Tuesday in June for Together Tuesdays.
URL:https://www.trailslibrary.org/event/together-tuesdays-leeton-3/
LOCATION:Leeton Express Branch\, 500 N. Main\, Leeton\, MO\, 64761\, United States
CATEGORIES:Children,Kids
END:VEVENT
BEGIN:VEVENT
DTSTART;TZID=America/New_York:20230620T100000
DTEND;TZID=America/New_York:20230620T100000
DTSTAMP:20260422T231606
CREATED:20230518T234822Z
LAST-MODIFIED:20230518T234822Z
UID:10006382-1687255200-1687255200@www.trailslibrary.org
SUMMARY:Bubbly Storytime for Littles - Concordia
DESCRIPTION:Ages 0-3 – Storytimes focus on building pre-reading skills\, making friends\, and having fun! We like to finish with a bubble dance!
URL:https://www.trailslibrary.org/event/bubbly-storytime-for-littles-concordia-3/
LOCATION:Concordia Branch\, 813 S Main\, Concordia\, MO\, 64020\, United States
CATEGORIES:Children,Kids,Preschool,Storytime
END:VEVENT
BEGIN:VEVENT
DTSTART;TZID=America/New_York:20230620T100000
DTEND;TZID=America/New_York:20230620T103000
DTSTAMP:20260422T231606
CREATED:20230526T185003Z
LAST-MODIFIED:20230526T185004Z
UID:10005355-1687255200-1687257000@www.trailslibrary.org
SUMMARY:Storytime in the Stacks - Warrensburg Branch
DESCRIPTION:Preschool ages 0-5 – Storytime in the Stacks: Meet up in the Children’s area for stories\, music\, dancing\, and of course\, bubbles!
URL:https://www.trailslibrary.org/event/storytime-in-the-stacks-warrensburg-branch-3/
LOCATION:Warrensburg Branch\, 432 N. Holden\, Warrensburg\, Missouri\, 64093\, United States
CATEGORIES:Children,Kids,Preschool,Storytime
END:VEVENT
BEGIN:VEVENT
DTSTART;TZID=America/New_York:20230620T150000
DTEND;TZID=America/New_York:20230620T160000
DTSTAMP:20260422T231606
CREATED:20230526T162151Z
LAST-MODIFIED:20230526T162734Z
UID:10005338-1687273200-1687276800@www.trailslibrary.org
SUMMARY:Kids in the Kitchen - Odessa Branch
DESCRIPTION:Pre-teens ages 9-12 – Registration required and limited space. Kids in the Kitchen is a fun hands-on program offered by University of Missouri Extension that teaches kids how to prepare simple recipes and encourages them to be active and to eat healthier meals and snacks.
URL:https://www.trailslibrary.org/event/kids-in-the-kitchen-odessa-branch/
LOCATION:Odessa Branch\, 107 W. Mason\, Odessa\, MO\, 64076\, United States
CATEGORIES:Children,Kids,Pre-Teen,Pre-Teens,Preteen,preteens,Youth
END:VEVENT
BEGIN:VEVENT
DTSTART;TZID=America/New_York:20230620T153000
DTEND;TZID=America/New_York:20230620T163000
DTSTAMP:20260422T231606
CREATED:20230518T235102Z
LAST-MODIFIED:20230531T221114Z
UID:10006406-1687275000-1687278600@www.trailslibrary.org
SUMMARY:Storyteller's Book Club - Knob Noster
DESCRIPTION:Ages 8-18 – Registration required. This isn’t your average book club! Tweens and Teens\, join us for a fun read this summer and the chance to hone your storytelling skills!
URL:https://www.trailslibrary.org/event/storytellers-book-club-knob-noster-3/
LOCATION:Knob Noster Branch\, 202 N. Adams\, Knob Noster\, MO\, 65336\, United States
CATEGORIES:Book Clubs,Children,Kids,Teens
END:VEVENT
BEGIN:VEVENT
DTSTART;TZID=America/New_York:20230620T170000
DTEND;TZID=America/New_York:20230620T180000
DTSTAMP:20260422T231606
CREATED:20230526T175506Z
LAST-MODIFIED:20230526T175508Z
UID:10006468-1687280400-1687284000@www.trailslibrary.org
SUMMARY:Get Hooked - Warrensburg Branch
DESCRIPTION:All ages – Join us to learn the art of plarning and how to turn plastic bags into sleeping mats
URL:https://www.trailslibrary.org/event/get-hooked-warrensburg-branch-2/
LOCATION:Warrensburg Branch\, 432 N. Holden\, Warrensburg\, Missouri\, 64093\, United States
CATEGORIES:Adult,Adults,All Ages,Children,Crafts,Family,Kids,Pre-Teen,Pre-Teens,Preteen,preteens,senior,Seniors,Teen,Teens,Youth
END:VEVENT
END:VCALENDAR