BEGIN:VCALENDAR
VERSION:2.0
PRODID:-//Trails Regional Library - ECPv6.15.20//NONSGML v1.0//EN
CALSCALE:GREGORIAN
METHOD:PUBLISH
X-ORIGINAL-URL:https://www.trailslibrary.org
X-WR-CALDESC:Events for Trails Regional Library
REFRESH-INTERVAL;VALUE=DURATION:PT1H
X-Robots-Tag:noindex
X-PUBLISHED-TTL:PT1H
BEGIN:VTIMEZONE
TZID:America/New_York
BEGIN:DAYLIGHT
TZOFFSETFROM:-0500
TZOFFSETTO:-0400
TZNAME:EDT
DTSTART:20220313T070000
END:DAYLIGHT
BEGIN:STANDARD
TZOFFSETFROM:-0400
TZOFFSETTO:-0500
TZNAME:EST
DTSTART:20221106T060000
END:STANDARD
BEGIN:DAYLIGHT
TZOFFSETFROM:-0500
TZOFFSETTO:-0400
TZNAME:EDT
DTSTART:20230312T070000
END:DAYLIGHT
BEGIN:STANDARD
TZOFFSETFROM:-0400
TZOFFSETTO:-0500
TZNAME:EST
DTSTART:20231105T060000
END:STANDARD
BEGIN:DAYLIGHT
TZOFFSETFROM:-0500
TZOFFSETTO:-0400
TZNAME:EDT
DTSTART:20240310T070000
END:DAYLIGHT
BEGIN:STANDARD
TZOFFSETFROM:-0400
TZOFFSETTO:-0500
TZNAME:EST
DTSTART:20241103T060000
END:STANDARD
END:VTIMEZONE
BEGIN:VEVENT
DTSTART;TZID=America/New_York:20230712T100000
DTEND;TZID=America/New_York:20230712T100000
DTSTAMP:20260422T211853
CREATED:20230612T175447Z
LAST-MODIFIED:20230612T202342Z
UID:10006480-1689156000-1689156000@www.trailslibrary.org
SUMMARY:Crafty Storytime-Concordia Branch
DESCRIPTION:Ages 4 and up -Storytimes for kids who are a little older and enjoy simple crafting.
URL:https://www.trailslibrary.org/event/crafty-storytime-2/
LOCATION:Concordia Branch\, 813 S Main\, Concordia\, MO\, 64020\, United States
CATEGORIES:Children,Crafts,Kids,Preschool,Storytime
END:VEVENT
BEGIN:VEVENT
DTSTART;TZID=America/New_York:20230712T100000
DTEND;TZID=America/New_York:20230712T103000
DTSTAMP:20260422T211853
CREATED:20230622T134327Z
LAST-MODIFIED:20230628T204614Z
UID:10006499-1689156000-1689157800@www.trailslibrary.org
SUMMARY:Storytots - Knob Noster Branch
DESCRIPTION:Ages 0-3 – Introduce your tot to the library through songs\, fingerplays\, and books!
URL:https://www.trailslibrary.org/event/storytots-2/
LOCATION:Knob Noster Branch\, 202 N. Adams\, Knob Noster\, MO\, 65336\, United States
CATEGORIES:Children,Kids,Preschool,Storytime
END:VEVENT
BEGIN:VEVENT
DTSTART;TZID=America/New_York:20230712T100000
DTEND;TZID=America/New_York:20230712T103000
DTSTAMP:20260422T211853
CREATED:20230622T134457Z
LAST-MODIFIED:20230622T154419Z
UID:10006520-1689156000-1689157800@www.trailslibrary.org
SUMMARY:Story Time
DESCRIPTION:Ages 0-5 – Storytime focus on building pre-reading skills\, making friends\, and having fun!
URL:https://www.trailslibrary.org/event/story-time-6/
LOCATION:Corder Branch\, 221 N. Lafayette\, Corder\, MO\, 64021\, United States
CATEGORIES:Children,Kids,Preschool,Storytime
END:VEVENT
BEGIN:VEVENT
DTSTART;TZID=America/New_York:20230712T100000
DTEND;TZID=America/New_York:20230712T103000
DTSTAMP:20260422T211853
CREATED:20230622T134512Z
LAST-MODIFIED:20230622T154727Z
UID:10006504-1689156000-1689157800@www.trailslibrary.org
SUMMARY:Storytime
DESCRIPTION:Ages 0-5 – Storytimes focus on building pre-reading skills\, making friends\, and having fun!
URL:https://www.trailslibrary.org/event/storytime-4/
LOCATION:Odessa Branch\, 107 W. Mason\, Odessa\, MO\, 64076\, United States
CATEGORIES:Children,Kids,Preschool,Storytime
END:VEVENT
BEGIN:VEVENT
DTSTART;TZID=America/New_York:20230712T103000
DTEND;TZID=America/New_York:20230712T110000
DTSTAMP:20260422T211853
CREATED:20230622T134357Z
LAST-MODIFIED:20230622T154314Z
UID:10006507-1689157800-1689159600@www.trailslibrary.org
SUMMARY:Kids Connection
DESCRIPTION:Ages 0-5 – Come play\, hang out\, make new friends\, and see everything the library has to offer!
URL:https://www.trailslibrary.org/event/kids-connection-2/
LOCATION:Knob Noster Branch\, 202 N. Adams\, Knob Noster\, MO\, 65336\, United States
CATEGORIES:Children,Kids,Preschool
END:VEVENT
BEGIN:VEVENT
DTSTART;TZID=America/New_York:20230712T103000
DTEND;TZID=America/New_York:20230712T110000
DTSTAMP:20260422T211853
CREATED:20230622T134442Z
LAST-MODIFIED:20230622T154408Z
UID:10006517-1689157800-1689159600@www.trailslibrary.org
SUMMARY:Stay and Play
DESCRIPTION:Ages 0-5 – Stay and play after storytime to get your wiggles out! Have some fun\, play games\, and make new friends!
URL:https://www.trailslibrary.org/event/stay-and-play-2/
LOCATION:Lexington Branch\, 1008 Main Street\, Lexington\, MO\, 64067\, United States
CATEGORIES:Children,Kids,Preschool
END:VEVENT
BEGIN:VEVENT
DTSTART;TZID=America/New_York:20230712T110000
DTEND;TZID=America/New_York:20230712T120000
DTSTAMP:20260422T211853
CREATED:20230622T134929Z
LAST-MODIFIED:20230622T154616Z
UID:10006524-1689159600-1689163200@www.trailslibrary.org
SUMMARY:Preschool Storytime
DESCRIPTION:Ages 3+ – Bring your preschoolers for stories\, crafts\, songs and bubbles to encourage growth in literacy!
URL:https://www.trailslibrary.org/event/preschool-storytime-4/
LOCATION:Knob Noster Branch\, 202 N. Adams\, Knob Noster\, MO\, 65336\, United States
CATEGORIES:Children,Kids,Preschool,Storytime
END:VEVENT
BEGIN:VEVENT
DTSTART;TZID=America/New_York:20230712T140000
DTEND;TZID=America/New_York:20230712T150000
DTSTAMP:20260422T211853
CREATED:20230623T150102Z
LAST-MODIFIED:20230623T150102Z
UID:10006621-1689170400-1689174000@www.trailslibrary.org
SUMMARY:Chill Out!
DESCRIPTION:All Ages – Stay in and cool off! Spend some time inside and learn about the wonderful world outside.
URL:https://www.trailslibrary.org/event/chill-out-2/
LOCATION:Odessa Branch\, 107 W. Mason\, Odessa\, MO\, 64076\, United States
CATEGORIES:Adults,All Ages,Children,Family,Kids,Movies,Teen,Teens
END:VEVENT
END:VCALENDAR