BEGIN:VCALENDAR
VERSION:2.0
PRODID:-//Trails Regional Library - ECPv6.15.20//NONSGML v1.0//EN
CALSCALE:GREGORIAN
METHOD:PUBLISH
X-ORIGINAL-URL:https://www.trailslibrary.org
X-WR-CALDESC:Events for Trails Regional Library
REFRESH-INTERVAL;VALUE=DURATION:PT1H
X-Robots-Tag:noindex
X-PUBLISHED-TTL:PT1H
BEGIN:VTIMEZONE
TZID:America/New_York
BEGIN:DAYLIGHT
TZOFFSETFROM:-0500
TZOFFSETTO:-0400
TZNAME:EDT
DTSTART:20220313T070000
END:DAYLIGHT
BEGIN:STANDARD
TZOFFSETFROM:-0400
TZOFFSETTO:-0500
TZNAME:EST
DTSTART:20221106T060000
END:STANDARD
BEGIN:DAYLIGHT
TZOFFSETFROM:-0500
TZOFFSETTO:-0400
TZNAME:EDT
DTSTART:20230312T070000
END:DAYLIGHT
BEGIN:STANDARD
TZOFFSETFROM:-0400
TZOFFSETTO:-0500
TZNAME:EST
DTSTART:20231105T060000
END:STANDARD
BEGIN:DAYLIGHT
TZOFFSETFROM:-0500
TZOFFSETTO:-0400
TZNAME:EDT
DTSTART:20240310T070000
END:DAYLIGHT
BEGIN:STANDARD
TZOFFSETFROM:-0400
TZOFFSETTO:-0500
TZNAME:EST
DTSTART:20241103T060000
END:STANDARD
END:VTIMEZONE
BEGIN:VEVENT
DTSTART;TZID=America/New_York:20230721T000000
DTEND;TZID=America/New_York:20230721T235959
DTSTAMP:20260422T211902
CREATED:20230623T150032Z
LAST-MODIFIED:20230623T150032Z
UID:10006614-1689897600-1689983999@www.trailslibrary.org
SUMMARY:Pop Up Program
DESCRIPTION:All Ages – It’s a mystery! Keep a watch on facebook and in the branch for notification of a Pop-Up eventduring this time!
URL:https://www.trailslibrary.org/event/pop-up-program/
LOCATION:Warrensburg Branch\, 432 N. Holden\, Warrensburg\, Missouri\, 64093\, United States
CATEGORIES:Adults,All Ages,Children,Family,Kids,Movies,Teen,Teens
END:VEVENT
END:VCALENDAR