BEGIN:VCALENDAR
VERSION:2.0
PRODID:-//Trails Regional Library - ECPv6.15.20//NONSGML v1.0//EN
CALSCALE:GREGORIAN
METHOD:PUBLISH
X-WR-CALNAME:Trails Regional Library
X-ORIGINAL-URL:https://www.trailslibrary.org
X-WR-CALDESC:Events for Trails Regional Library
REFRESH-INTERVAL;VALUE=DURATION:PT1H
X-Robots-Tag:noindex
X-PUBLISHED-TTL:PT1H
BEGIN:VTIMEZONE
TZID:America/New_York
BEGIN:DAYLIGHT
TZOFFSETFROM:-0500
TZOFFSETTO:-0400
TZNAME:EDT
DTSTART:20220313T070000
END:DAYLIGHT
BEGIN:STANDARD
TZOFFSETFROM:-0400
TZOFFSETTO:-0500
TZNAME:EST
DTSTART:20221106T060000
END:STANDARD
BEGIN:DAYLIGHT
TZOFFSETFROM:-0500
TZOFFSETTO:-0400
TZNAME:EDT
DTSTART:20230312T070000
END:DAYLIGHT
BEGIN:STANDARD
TZOFFSETFROM:-0400
TZOFFSETTO:-0500
TZNAME:EST
DTSTART:20231105T060000
END:STANDARD
BEGIN:DAYLIGHT
TZOFFSETFROM:-0500
TZOFFSETTO:-0400
TZNAME:EDT
DTSTART:20240310T070000
END:DAYLIGHT
BEGIN:STANDARD
TZOFFSETFROM:-0400
TZOFFSETTO:-0500
TZNAME:EST
DTSTART:20241103T060000
END:STANDARD
END:VTIMEZONE
BEGIN:VEVENT
DTSTART;TZID=America/New_York:20230916T100000
DTEND;TZID=America/New_York:20230916T103000
DTSTAMP:20260421T143632
CREATED:20230820T064321Z
LAST-MODIFIED:20230820T064321Z
UID:10005868-1694858400-1694860200@www.trailslibrary.org
SUMMARY:Storytime With Granny - Warrensburg
DESCRIPTION:Ages 0-5: Meet up for stories\, music\, dancing\, and of course\, bubbles!
URL:https://www.trailslibrary.org/event/storytime-with-granny-warrensburg-8/
LOCATION:Warrensburg Branch\, 432 N. Holden\, Warrensburg\, Missouri\, 64093\, United States
CATEGORIES:Children,Kids,Pre-School,Preschool,Storytime,Toddlers
END:VEVENT
BEGIN:VEVENT
DTSTART;TZID=America/New_York:20230916T100000
DTEND;TZID=America/New_York:20230916T120000
DTSTAMP:20260421T143632
CREATED:20230818T200420Z
LAST-MODIFIED:20230818T200420Z
UID:10006672-1694858400-1694865600@www.trailslibrary.org
SUMMARY:Saturday Matinne - Corder
DESCRIPTION:All Ages: Bring a snack and come join us for our family friendly Saturday Mattinee at Trails Regional Library in Corder.
URL:https://www.trailslibrary.org/event/saturday-matinne-corder/
LOCATION:Corder Branch\, 221 N. Lafayette\, Corder\, MO\, 64021\, United States
CATEGORIES:Adult,Adults,All Ages,Children,Family,Kids,Movie,Teens
END:VEVENT
BEGIN:VEVENT
DTSTART;TZID=America/New_York:20230916T110000
DTEND;TZID=America/New_York:20230916T130000
DTSTAMP:20260421T143632
CREATED:20230820T065230Z
LAST-MODIFIED:20230820T065230Z
UID:10007004-1694862000-1694869200@www.trailslibrary.org
SUMMARY:Super Saturdays - Holden
DESCRIPTION:Ages 6-12: S-uper Saturdays are tons of Fun for Children Ages 6-12\, come enjoy crafts\, card games and fun galore!
URL:https://www.trailslibrary.org/event/super-saturdays-holden-3/
LOCATION:Holden Branch\, 207 S. Main\, Holden\, MO\, 64040\, United States
CATEGORIES:Children,Kids,preteens
END:VEVENT
END:VCALENDAR